BEGIN:VCALENDAR
VERSION:2.0
PRODID:-//Castle Mountain Resort - ECPv6.15.20//NONSGML v1.0//EN
CALSCALE:GREGORIAN
METHOD:PUBLISH
X-WR-CALNAME:Castle Mountain Resort
X-ORIGINAL-URL:https://www.skicastle.ca
X-WR-CALDESC:Events for Castle Mountain Resort
REFRESH-INTERVAL;VALUE=DURATION:PT1H
X-Robots-Tag:noindex
X-PUBLISHED-TTL:PT1H
BEGIN:VTIMEZONE
TZID:America/Edmonton
BEGIN:DAYLIGHT
TZOFFSETFROM:-0700
TZOFFSETTO:-0600
TZNAME:MDT
DTSTART:20250309T090000
END:DAYLIGHT
BEGIN:STANDARD
TZOFFSETFROM:-0600
TZOFFSETTO:-0700
TZNAME:MST
DTSTART:20251102T080000
END:STANDARD
BEGIN:DAYLIGHT
TZOFFSETFROM:-0700
TZOFFSETTO:-0600
TZNAME:MDT
DTSTART:20260308T090000
END:DAYLIGHT
BEGIN:STANDARD
TZOFFSETFROM:-0600
TZOFFSETTO:-0700
TZNAME:MST
DTSTART:20261101T080000
END:STANDARD
BEGIN:DAYLIGHT
TZOFFSETFROM:-0700
TZOFFSETTO:-0600
TZNAME:MDT
DTSTART:20270314T090000
END:DAYLIGHT
BEGIN:STANDARD
TZOFFSETFROM:-0600
TZOFFSETTO:-0700
TZNAME:MST
DTSTART:20271107T080000
END:STANDARD
END:VTIMEZONE
BEGIN:VEVENT
DTSTART;TZID=America/Edmonton:20261204T090000
DTEND;TZID=America/Edmonton:20261204T160000
DTSTAMP:20260421T195917
CREATED:20161006T015626Z
LAST-MODIFIED:20260405T163213Z
UID:10000001-1796374800-1796400000@www.skicastle.ca
SUMMARY:TENTATIVE OPENING DAY (WINTER 26-27)
DESCRIPTION:Come celebrate the first day of the 2026-2027 season with us as we open the doors on what will undoubtedly be another fantastic season! Pending some cooperation from Mother Nature\, Castle Mountain Resort will be open on a 7 day / week basis starting on Friday\, December 4\, 2026.\n\n\n\n \n\n\nInformation on open lifts and terrain will follow as we get closer to the actual day\, and will be posted on our snow report page (click here).
URL:https://www.skicastle.ca/event/openingday/
LOCATION:Castle Mountain Resort\, Box 610\, Pincher Creek\, Alberta\, T0K 1W0\, Canada
CATEGORIES:Castle (Outdoors)
ATTACH;FMTTYPE=image/jpeg:https://www.skicastle.ca/wp-content/uploads/2026/02/20260215-February-15-Stagecoach-w-Kate-NK-0070-Castle-Export-3-resize-scaled.jpg
ORGANIZER;CN="Castle Mountain Resort":MAILTO:info@skicastle.ca
GEO:49.318738;-114.414395
X-APPLE-STRUCTURED-LOCATION;VALUE=URI;X-ADDRESS=Castle Mountain Resort Box 610 Pincher Creek Alberta T0K 1W0 Canada;X-APPLE-RADIUS=500;X-TITLE=Box 610:geo:-114.414395,49.318738
END:VEVENT
END:VCALENDAR