BEGIN:VCALENDAR
VERSION:2.0
PRODID:-//Castle Mountain Resort - ECPv6.15.20//NONSGML v1.0//EN
CALSCALE:GREGORIAN
METHOD:PUBLISH
X-WR-CALNAME:Castle Mountain Resort
X-ORIGINAL-URL:https://www.skicastle.ca
X-WR-CALDESC:Events for Castle Mountain Resort
REFRESH-INTERVAL;VALUE=DURATION:PT1H
X-Robots-Tag:noindex
X-PUBLISHED-TTL:PT1H
BEGIN:VTIMEZONE
TZID:America/Edmonton
BEGIN:DAYLIGHT
TZOFFSETFROM:-0700
TZOFFSETTO:-0600
TZNAME:MDT
DTSTART:20220313T090000
END:DAYLIGHT
BEGIN:STANDARD
TZOFFSETFROM:-0600
TZOFFSETTO:-0700
TZNAME:MST
DTSTART:20221106T080000
END:STANDARD
BEGIN:DAYLIGHT
TZOFFSETFROM:-0700
TZOFFSETTO:-0600
TZNAME:MDT
DTSTART:20230312T090000
END:DAYLIGHT
BEGIN:STANDARD
TZOFFSETFROM:-0600
TZOFFSETTO:-0700
TZNAME:MST
DTSTART:20231105T080000
END:STANDARD
BEGIN:DAYLIGHT
TZOFFSETFROM:-0700
TZOFFSETTO:-0600
TZNAME:MDT
DTSTART:20240310T090000
END:DAYLIGHT
BEGIN:STANDARD
TZOFFSETFROM:-0600
TZOFFSETTO:-0700
TZNAME:MST
DTSTART:20241103T080000
END:STANDARD
END:VTIMEZONE
BEGIN:VEVENT
DTSTART;TZID=America/Edmonton:20230325T200000
DTEND;TZID=America/Edmonton:20230325T220000
DTSTAMP:20260421T123807
CREATED:20230131T205034Z
LAST-MODIFIED:20230310T180846Z
UID:10000211-1679774400-1679781600@www.skicastle.ca
SUMMARY:OPEN MIC NIGHT IN THE T-BAR PUB (HOSTED BY LARRY WHAN)
DESCRIPTION:Calling all musicians\, poets\, or those that just love to sing or play instruments\, we’ll welcome it all. Not a musician? Come by and cheer on all the participants!! \n  \nOpen Mic Night in the T-Bar Pub is happening on both Saturday\, March 4 and Saturday\, March 18. Starting at 8 PM and running till 10 PM. Bring your own instruments\, or for those that don’t own any\, a guitar and mic are provided! \n  \nThis event is free to attend or participate in.
URL:https://www.skicastle.ca/event/open-mic-night-in-the-t-bar-pub-hosted-by-larry-whan-2/
LOCATION:Castle Mountain Resort\, AB\, T0K1W0\, Canada
ORGANIZER;CN="Castle Mountain Resort":MAILTO:info@skicastle.ca
GEO:49.3191376;-114.412619
END:VEVENT
BEGIN:VEVENT
DTSTART;TZID=America/Edmonton:20230325T183000
DTEND;TZID=America/Edmonton:20230325T220000
DTSTAMP:20260421T123807
CREATED:20230302T170632Z
LAST-MODIFIED:20230316T154345Z
UID:10000226-1679769000-1679781600@www.skicastle.ca
SUMMARY:2023 LIVINGSTONE SKI ACADEMY MEXICAN FIESTA FUNDRAISER
DESCRIPTION:Let’s FIESTA!! Come join us for an evening of fantastic Mexican cuisine and live music provided by the amazing Lani Folkard. \n  \nThe LSA Mexican Fiesta is the largest fundraising event for the Livingstone Ski Academy Society. Funds raised help cover the operating costs of the program and help keep registration fees reasonable for families. \nCome as you are or dress for a fiesta. Join us for a casual night of good food\, great cheer and fantastic people. The lovely Lani Folkard will wow the crowd with her voice and will for surely get the crowd dancing. \nThe night will be filled with opportunities to support the Livingstone Ski Academy Society and will include such activities as: silent auction and balloon pop prizes. \nDifferent ticket options are available including Food and Music or just a Music option. Tickets for the event can be purchased by clicking here.
URL:https://www.skicastle.ca/event/2023-livingstone-ski-academy-mexican-fiesta-fundraiser/
LOCATION:Castle Mountain Resort\, AB\, T0K1W0\, Canada
ORGANIZER;CN="Livingstone Ski Academy Society":MAILTO:mailto:thepoulinswhatever@gmail.com
GEO:49.3191376;-114.412619
END:VEVENT
BEGIN:VEVENT
DTSTART;TZID=America/Edmonton:20230319T190000
DTEND;TZID=America/Edmonton:20230319T210000
DTSTAMP:20260421T123807
CREATED:20230111T174423Z
LAST-MODIFIED:20230131T204318Z
UID:10000204-1679252400-1679259600@www.skicastle.ca
SUMMARY:MUSICAL BINGO PRESENTED BY BIG ROCK BREWERY (COUNTRY JAMS)
DESCRIPTION:Jam out and test your musical knowledge at Musical Bingo Night at the T-Bar Pub! \nEvery Musical Bingo Night will feature a theme or era of music\, so join us every other Sunday to test your tuned ears. This week’s theme is Country Jams. \nThe fun begins at 7 PM.
URL:https://www.skicastle.ca/event/musical-bingo-country-jams/
LOCATION:T-Bar Pub & Grub\, PO Box 610\, Pincher Creek\, AB\, T0K1W0\, Canada
CATEGORIES:Miscellaneous
ORGANIZER;CN="Castle Mountain Resort":MAILTO:info@skicastle.ca
GEO:49.3181843;-114.4144166
X-APPLE-STRUCTURED-LOCATION;VALUE=URI;X-ADDRESS=T-Bar Pub & Grub PO Box 610 Pincher Creek AB T0K1W0 Canada;X-APPLE-RADIUS=500;X-TITLE=PO Box 610:geo:-114.4144166,49.3181843
END:VEVENT
BEGIN:VEVENT
DTSTART;TZID=America/Edmonton:20230319T090000
DTEND;TZID=America/Edmonton:20230319T150000
DTSTAMP:20260421T123807
CREATED:20221115T230648Z
LAST-MODIFIED:20230212T184310Z
UID:10000160-1679216400-1679238000@www.skicastle.ca
SUMMARY:VITAE ENVIRONMENTAL SCAVENGER HUNT SUNDAY
DESCRIPTION:Our on-mountain scavenger hunts are back and better than ever\, thanks to our partnership with Vitae Environmental Construction. \nEvery Sunday we will be posting a series of letters across the Huckleberry Chair Zone and tasking kids with discovering all the letters that spell out a secret word. A hint for each day\, ballots\, and rules can be found every Sunday on the Day Lodge stage. \nPrize draws will be happening every day at 3:30 PM in the Day Lodge with $250 worth of local prizes to be awarded each and every occurrence! A special thanks to Vitae Environmental Construction for their support of this event and our community at large!
URL:https://www.skicastle.ca/event/vitae-environmental-scavenger-hunt-sunday-2/2023-03-19/
LOCATION:Castle Mountain Resort\, AB\, T0K1W0\, Canada
CATEGORIES:Castle (Outdoors)
ORGANIZER;CN="Castle Mountain Resort":MAILTO:info@skicastle.ca
GEO:49.3191376;-114.412619
END:VEVENT
BEGIN:VEVENT
DTSTART;TZID=America/Edmonton:20230318T210000
DTEND;TZID=America/Edmonton:20230318T234500
DTSTAMP:20260421T123807
CREATED:20230310T225316Z
LAST-MODIFIED:20230313T220017Z
UID:10000229-1679173200-1679183100@www.skicastle.ca
SUMMARY:THE AFTER APRES PARTY (DJ FLATSPIN & ANGIE MO)
DESCRIPTION:Join us for rare live music in the T-Bar Pub on Saturday night! Featuring DJ Flatspin and Angie Mo! \nLive music gets started at 9 PM and is free to attend (no cover charge).
URL:https://www.skicastle.ca/event/after-apres-party-ft-dj-flatspin-and-angie-mo/
LOCATION:Castle Mountain Resort\, AB\, T0K1W0\, Canada
CATEGORIES:Live Music
ORGANIZER;CN="Castle Mountain Resort":MAILTO:info@skicastle.ca
GEO:49.3191376;-114.412619
END:VEVENT
BEGIN:VEVENT
DTSTART;TZID=America/Edmonton:20230318T090000
DTEND;TZID=America/Edmonton:20230318T160000
DTSTAMP:20260421T123807
CREATED:20220310T235301Z
LAST-MODIFIED:20230307T222702Z
UID:10000132-1679130000-1679155200@www.skicastle.ca
SUMMARY:WESTERN DAY
DESCRIPTION:Yeehaw Cowboys/Cowgirls! Join our staff and dress in your best cowboy attire. Spend the day riding/skiing with your fellow cowboys/cowgirls!
URL:https://www.skicastle.ca/event/western-day/
LOCATION:Castle Mountain Resort\, AB\, T0K1W0\, Canada
CATEGORIES:Castle (Outdoors),In the Community
ORGANIZER;CN="Castle Mountain Resort":MAILTO:info@skicastle.ca
GEO:49.3191376;-114.412619
END:VEVENT
BEGIN:VEVENT
DTSTART;TZID=America/Edmonton:20230312T190000
DTEND;TZID=America/Edmonton:20230312T210000
DTSTAMP:20260421T123807
CREATED:20181130T233201Z
LAST-MODIFIED:20230131T204714Z
UID:10000128-1678647600-1678654800@www.skicastle.ca
SUMMARY:TRIVIA NIGHT PRESENTED BY BIG ROCK BREWERY (MOVIES)
DESCRIPTION:You’ve been physically tested on the slopes but are you ready to test you mental capabilities at Trivia night?! \nGrab your team and come to the T-Bar Pub to break a mental sweat in this trivia pursuit of knowledge. Answer this weeks’ uniquely-themed questions for your chance to win awesome prizes and ultimate bragging rights! \nEvery Trivia Night will feature a different topic\, with this week’s topic being Movies. The fun begins at 7 PM.
URL:https://www.skicastle.ca/event/trivia-night-2023-03-12/
LOCATION:T-Bar Pub & Grub\, PO Box 610\, Pincher Creek\, AB\, T0K1W0\, Canada
CATEGORIES:Miscellaneous
ORGANIZER;CN="Castle Mountain Resort":MAILTO:info@skicastle.ca
GEO:49.3181843;-114.4144166
X-APPLE-STRUCTURED-LOCATION;VALUE=URI;X-ADDRESS=T-Bar Pub & Grub PO Box 610 Pincher Creek AB T0K1W0 Canada;X-APPLE-RADIUS=500;X-TITLE=PO Box 610:geo:-114.4144166,49.3181843
END:VEVENT
BEGIN:VEVENT
DTSTART;TZID=America/Edmonton:20230312T090000
DTEND;TZID=America/Edmonton:20230312T150000
DTSTAMP:20260421T123807
CREATED:20221115T230648Z
LAST-MODIFIED:20230212T184310Z
UID:10000159-1678611600-1678633200@www.skicastle.ca
SUMMARY:VITAE ENVIRONMENTAL SCAVENGER HUNT SUNDAY
DESCRIPTION:Our on-mountain scavenger hunts are back and better than ever\, thanks to our partnership with Vitae Environmental Construction. \nEvery Sunday we will be posting a series of letters across the Huckleberry Chair Zone and tasking kids with discovering all the letters that spell out a secret word. A hint for each day\, ballots\, and rules can be found every Sunday on the Day Lodge stage. \nPrize draws will be happening every day at 3:30 PM in the Day Lodge with $250 worth of local prizes to be awarded each and every occurrence! A special thanks to Vitae Environmental Construction for their support of this event and our community at large!
URL:https://www.skicastle.ca/event/vitae-environmental-scavenger-hunt-sunday-2/2023-03-12/
LOCATION:Castle Mountain Resort\, AB\, T0K1W0\, Canada
CATEGORIES:Castle (Outdoors)
ORGANIZER;CN="Castle Mountain Resort":MAILTO:info@skicastle.ca
GEO:49.3191376;-114.412619
END:VEVENT
BEGIN:VEVENT
DTSTART;TZID=America/Edmonton:20230305T190000
DTEND;TZID=America/Edmonton:20230305T210000
DTSTAMP:20260421T123807
CREATED:20230111T174046Z
LAST-MODIFIED:20230304T123304Z
UID:10000203-1678042800-1678050000@www.skicastle.ca
SUMMARY:MUSICAL BINGO PRESENTED BY BIG ROCK BREWERY (POP PUNK)
DESCRIPTION:Jam out and test your musical knowledge at Musical Bingo Night at the T-Bar Pub! \nEvery Musical Bingo Night will feature a theme or era of music\, so join us every other Sunday to test your tuned ears. This week’s theme is Pop Punk. \nThe fun begins at 7 PM.
URL:https://www.skicastle.ca/event/musical-bingo-pop-punk/
LOCATION:T-Bar Pub & Grub\, PO Box 610\, Pincher Creek\, AB\, T0K1W0\, Canada
CATEGORIES:Miscellaneous
ORGANIZER;CN="Castle Mountain Resort":MAILTO:info@skicastle.ca
GEO:49.3181843;-114.4144166
X-APPLE-STRUCTURED-LOCATION;VALUE=URI;X-ADDRESS=T-Bar Pub & Grub PO Box 610 Pincher Creek AB T0K1W0 Canada;X-APPLE-RADIUS=500;X-TITLE=PO Box 610:geo:-114.4144166,49.3181843
END:VEVENT
BEGIN:VEVENT
DTSTART;TZID=America/Edmonton:20230305T090000
DTEND;TZID=America/Edmonton:20230305T150000
DTSTAMP:20260421T123807
CREATED:20221115T230648Z
LAST-MODIFIED:20230212T184310Z
UID:10000158-1678006800-1678028400@www.skicastle.ca
SUMMARY:VITAE ENVIRONMENTAL SCAVENGER HUNT SUNDAY
DESCRIPTION:Our on-mountain scavenger hunts are back and better than ever\, thanks to our partnership with Vitae Environmental Construction. \nEvery Sunday we will be posting a series of letters across the Huckleberry Chair Zone and tasking kids with discovering all the letters that spell out a secret word. A hint for each day\, ballots\, and rules can be found every Sunday on the Day Lodge stage. \nPrize draws will be happening every day at 3:30 PM in the Day Lodge with $250 worth of local prizes to be awarded each and every occurrence! A special thanks to Vitae Environmental Construction for their support of this event and our community at large!
URL:https://www.skicastle.ca/event/vitae-environmental-scavenger-hunt-sunday-2/2023-03-05/
LOCATION:Castle Mountain Resort\, AB\, T0K1W0\, Canada
CATEGORIES:Castle (Outdoors)
ORGANIZER;CN="Castle Mountain Resort":MAILTO:info@skicastle.ca
GEO:49.3191376;-114.412619
END:VEVENT
BEGIN:VEVENT
DTSTART;TZID=America/Edmonton:20230226T190000
DTEND;TZID=America/Edmonton:20230226T210000
DTSTAMP:20260421T123807
CREATED:20181130T233201Z
LAST-MODIFIED:20230131T204724Z
UID:10000129-1677438000-1677445200@www.skicastle.ca
SUMMARY:TRIVIA NIGHT PRESENTED BY BIG ROCK BREWERY (HARRY POTTER)
DESCRIPTION:You’ve been physically tested on the slopes but are you ready to test you mental capabilities at Trivia night?! \nGrab your team and come to the T-Bar Pub to break a mental sweat in this trivia pursuit of knowledge. Answer this weeks’ uniquely-themed questions for your chance to win awesome prizes and ultimate bragging rights! \nEvery Trivia Night will feature a different topic\, with this week’s topic being Harry Potter. The fun begins at 7 PM.
URL:https://www.skicastle.ca/event/trivia-night-2023-02-26/
LOCATION:T-Bar Pub & Grub\, PO Box 610\, Pincher Creek\, AB\, T0K1W0\, Canada
CATEGORIES:Miscellaneous
ORGANIZER;CN="Castle Mountain Resort":MAILTO:info@skicastle.ca
GEO:49.3181843;-114.4144166
X-APPLE-STRUCTURED-LOCATION;VALUE=URI;X-ADDRESS=T-Bar Pub & Grub PO Box 610 Pincher Creek AB T0K1W0 Canada;X-APPLE-RADIUS=500;X-TITLE=PO Box 610:geo:-114.4144166,49.3181843
END:VEVENT
BEGIN:VEVENT
DTSTART;TZID=America/Edmonton:20230226T090000
DTEND;TZID=America/Edmonton:20230226T150000
DTSTAMP:20260421T123807
CREATED:20221115T230648Z
LAST-MODIFIED:20230212T184310Z
UID:10000157-1677402000-1677423600@www.skicastle.ca
SUMMARY:VITAE ENVIRONMENTAL SCAVENGER HUNT SUNDAY
DESCRIPTION:Our on-mountain scavenger hunts are back and better than ever\, thanks to our partnership with Vitae Environmental Construction. \nEvery Sunday we will be posting a series of letters across the Huckleberry Chair Zone and tasking kids with discovering all the letters that spell out a secret word. A hint for each day\, ballots\, and rules can be found every Sunday on the Day Lodge stage. \nPrize draws will be happening every day at 3:30 PM in the Day Lodge with $250 worth of local prizes to be awarded each and every occurrence! A special thanks to Vitae Environmental Construction for their support of this event and our community at large!
URL:https://www.skicastle.ca/event/vitae-environmental-scavenger-hunt-sunday-2/2023-02-26/
LOCATION:Castle Mountain Resort\, AB\, T0K1W0\, Canada
CATEGORIES:Castle (Outdoors)
ORGANIZER;CN="Castle Mountain Resort":MAILTO:info@skicastle.ca
GEO:49.3191376;-114.412619
END:VEVENT
BEGIN:VEVENT
DTSTART;TZID=America/Edmonton:20230224T210000
DTEND;TZID=America/Edmonton:20230224T234500
DTSTAMP:20260421T123807
CREATED:20200227T185042Z
LAST-MODIFIED:20230203T223602Z
UID:10000103-1677272400-1677282300@www.skicastle.ca
SUMMARY:LIVE MUSIC IN THE T-BAR PUB (CODY HALL)
DESCRIPTION:Join us for another rockin’ Friday night in the T-Bar Pub. This weekend’s artist is Cody Hall. \nCody is an up and coming singer/songwriter from Lethbridge Alberta. He aims to entertain\, inspire\, and connect with his audience each and every show. Cody has a unique way of telling stories with his music. His lyrics are thoughtful and his voice is jam packed with emotion. Cody has a great mix of catchy covers and a handful of originals that you’ll be humming along to in no time. This small-town farm boy has stayed true to his roots\, mixing folk and country music to create a sound that’s his own. \nFollow Cody on Instagram! \n \nLive music gets started at 9 PM and is absolutely free to attend (no cover charge).
URL:https://www.skicastle.ca/event/live-music-in-the-t-bar-pub-2023-02-24/
LOCATION:Castle Mountain Resort\, AB\, T0K1W0\, Canada
CATEGORIES:Live Music
ORGANIZER;CN="Castle Mountain Resort":MAILTO:info@skicastle.ca
GEO:49.3191376;-114.412619
END:VEVENT
BEGIN:VEVENT
DTSTART;TZID=America/Edmonton:20230219T190000
DTEND;TZID=America/Edmonton:20230219T210000
DTSTAMP:20260421T123807
CREATED:20230111T173505Z
LAST-MODIFIED:20230219T130106Z
UID:10000202-1676833200-1676840400@www.skicastle.ca
SUMMARY:MUSICAL BINGO PRESENTED BY BIG ROCK BREWERY (SUPERBOWL PERFORMERS)
DESCRIPTION:Jam out and test your musical knowledge at Musical Bingo Night at the T-Bar Pub! \nEvery Musical Bingo Night will feature a theme or era of music\, so join us every other Sunday to test your tuned ears. This week’s theme is Superbowl Performers. \nThe fun begins at 7 PM.
URL:https://www.skicastle.ca/event/musical-bingo-superbowl-performers/
LOCATION:T-Bar Pub & Grub\, PO Box 610\, Pincher Creek\, AB\, T0K1W0\, Canada
CATEGORIES:Miscellaneous
ORGANIZER;CN="Castle Mountain Resort":MAILTO:info@skicastle.ca
GEO:49.3181843;-114.4144166
X-APPLE-STRUCTURED-LOCATION;VALUE=URI;X-ADDRESS=T-Bar Pub & Grub PO Box 610 Pincher Creek AB T0K1W0 Canada;X-APPLE-RADIUS=500;X-TITLE=PO Box 610:geo:-114.4144166,49.3181843
END:VEVENT
BEGIN:VEVENT
DTSTART;TZID=America/Edmonton:20230219T090000
DTEND;TZID=America/Edmonton:20230219T150000
DTSTAMP:20260421T123807
CREATED:20221115T230648Z
LAST-MODIFIED:20230212T184310Z
UID:10000156-1676797200-1676818800@www.skicastle.ca
SUMMARY:VITAE ENVIRONMENTAL SCAVENGER HUNT SUNDAY
DESCRIPTION:Our on-mountain scavenger hunts are back and better than ever\, thanks to our partnership with Vitae Environmental Construction. \nEvery Sunday we will be posting a series of letters across the Huckleberry Chair Zone and tasking kids with discovering all the letters that spell out a secret word. A hint for each day\, ballots\, and rules can be found every Sunday on the Day Lodge stage. \nPrize draws will be happening every day at 3:30 PM in the Day Lodge with $250 worth of local prizes to be awarded each and every occurrence! A special thanks to Vitae Environmental Construction for their support of this event and our community at large!
URL:https://www.skicastle.ca/event/vitae-environmental-scavenger-hunt-sunday-2/2023-02-19/
LOCATION:Castle Mountain Resort\, AB\, T0K1W0\, Canada
CATEGORIES:Castle (Outdoors)
ORGANIZER;CN="Castle Mountain Resort":MAILTO:info@skicastle.ca
GEO:49.3191376;-114.412619
END:VEVENT
BEGIN:VEVENT
DTSTART;TZID=America/Edmonton:20230217T210000
DTEND;TZID=America/Edmonton:20230217T234500
DTSTAMP:20260421T123807
CREATED:20230109T223244Z
LAST-MODIFIED:20230109T223244Z
UID:10000198-1676667600-1676677500@www.skicastle.ca
SUMMARY:LIVE MUSIC IN THE T-BAR PUB (JAMIE ALLANACH)
DESCRIPTION:Join us for another rockin’ Friday night in the T-Bar Pub. This weekend’s artist is the Jamie Allanach. \nA passionate\, energetic and enjoyable performer with a unique slant on an eclectic mix of music. With an ever expanding repertoire reaching as far back as the 1930’s\, including genres such as rock\, pop\, folk\, reggae\, indie\, R&B\, soul\, blues and country. \nFollow the Jamie Allanach on Instagram! \n \nLive music gets started at 9 PM and is absolutely free to attend (no cover charge).
URL:https://www.skicastle.ca/event/live-music-in-the-t-bar-pub-jamie-allanach/
LOCATION:Castle Mountain Resort\, AB\, T0K1W0\, Canada
CATEGORIES:Live Music
ORGANIZER;CN="Castle Mountain Resort":MAILTO:info@skicastle.ca
GEO:49.3191376;-114.412619
END:VEVENT
BEGIN:VEVENT
DTSTART;TZID=America/Edmonton:20230212T090000
DTEND;TZID=America/Edmonton:20230212T150000
DTSTAMP:20260421T123807
CREATED:20221115T230648Z
LAST-MODIFIED:20230212T184310Z
UID:10000155-1676192400-1676214000@www.skicastle.ca
SUMMARY:VITAE ENVIRONMENTAL SCAVENGER HUNT SUNDAY
DESCRIPTION:Our on-mountain scavenger hunts are back and better than ever\, thanks to our partnership with Vitae Environmental Construction. \nEvery Sunday we will be posting a series of letters across the Huckleberry Chair Zone and tasking kids with discovering all the letters that spell out a secret word. A hint for each day\, ballots\, and rules can be found every Sunday on the Day Lodge stage. \nPrize draws will be happening every day at 3:30 PM in the Day Lodge with $250 worth of local prizes to be awarded each and every occurrence! A special thanks to Vitae Environmental Construction for their support of this event and our community at large!
URL:https://www.skicastle.ca/event/vitae-environmental-scavenger-hunt-sunday-2/2023-02-12/
LOCATION:Castle Mountain Resort\, AB\, T0K1W0\, Canada
CATEGORIES:Castle (Outdoors)
ORGANIZER;CN="Castle Mountain Resort":MAILTO:info@skicastle.ca
GEO:49.3191376;-114.412619
END:VEVENT
BEGIN:VEVENT
DTSTART;TZID=America/Edmonton:20230210T210000
DTEND;TZID=America/Edmonton:20230210T234500
DTSTAMP:20260421T123807
CREATED:20230109T221104Z
LAST-MODIFIED:20230109T222208Z
UID:10000197-1676062800-1676072700@www.skicastle.ca
SUMMARY:LIVE MUSIC IN THE T-BAR PUB (MARK HALL BAND)
DESCRIPTION:Join us for another rockin’ Friday night in the T-Bar Pub. This weekend’s artist is the Mark Hall Band. \nFollow the Mark Hall Band on Facebook! \n \nLive music gets started at 9 PM and is absolutely free to attend (no cover charge).
URL:https://www.skicastle.ca/event/live-music-in-the-t-bar-pub-mark-hall-band/
LOCATION:Castle Mountain Resort\, AB\, T0K1W0\, Canada
CATEGORIES:Live Music
ORGANIZER;CN="Castle Mountain Resort":MAILTO:info@skicastle.ca
GEO:49.3191376;-114.412619
END:VEVENT
BEGIN:VEVENT
DTSTART;TZID=America/Edmonton:20230205T190000
DTEND;TZID=America/Edmonton:20230205T210000
DTSTAMP:20260421T123807
CREATED:20230111T172634Z
LAST-MODIFIED:20230131T204351Z
UID:10000201-1675623600-1675630800@www.skicastle.ca
SUMMARY:MUSICAL BINGO PRESENTED BY BIG ROCK BREWERY (GREATEST HITS)
DESCRIPTION:Jam out and test your musical knowledge at Musical Bingo Night at the T-Bar Pub! \nEvery Musical Bingo Night will feature a theme or era of music\, so join us every other Sunday to test your tuned ears. This week’s theme is Greatest Hits. \nThe fun begins at 7 PM.
URL:https://www.skicastle.ca/event/musical-bingo-greatest-hits/
LOCATION:T-Bar Pub & Grub\, PO Box 610\, Pincher Creek\, AB\, T0K1W0\, Canada
CATEGORIES:Miscellaneous
ORGANIZER;CN="Castle Mountain Resort":MAILTO:info@skicastle.ca
GEO:49.3181843;-114.4144166
X-APPLE-STRUCTURED-LOCATION;VALUE=URI;X-ADDRESS=T-Bar Pub & Grub PO Box 610 Pincher Creek AB T0K1W0 Canada;X-APPLE-RADIUS=500;X-TITLE=PO Box 610:geo:-114.4144166,49.3181843
END:VEVENT
BEGIN:VEVENT
DTSTART;TZID=America/Edmonton:20230205T090000
DTEND;TZID=America/Edmonton:20230205T150000
DTSTAMP:20260421T123807
CREATED:20221115T230648Z
LAST-MODIFIED:20230212T184310Z
UID:10000154-1675587600-1675609200@www.skicastle.ca
SUMMARY:VITAE ENVIRONMENTAL SCAVENGER HUNT SUNDAY
DESCRIPTION:Our on-mountain scavenger hunts are back and better than ever\, thanks to our partnership with Vitae Environmental Construction. \nEvery Sunday we will be posting a series of letters across the Huckleberry Chair Zone and tasking kids with discovering all the letters that spell out a secret word. A hint for each day\, ballots\, and rules can be found every Sunday on the Day Lodge stage. \nPrize draws will be happening every day at 3:30 PM in the Day Lodge with $250 worth of local prizes to be awarded each and every occurrence! A special thanks to Vitae Environmental Construction for their support of this event and our community at large!
URL:https://www.skicastle.ca/event/vitae-environmental-scavenger-hunt-sunday-2/2023-02-05/
LOCATION:Castle Mountain Resort\, AB\, T0K1W0\, Canada
CATEGORIES:Castle (Outdoors)
ORGANIZER;CN="Castle Mountain Resort":MAILTO:info@skicastle.ca
GEO:49.3191376;-114.412619
END:VEVENT
BEGIN:VEVENT
DTSTART;TZID=America/Edmonton:20230129T190000
DTEND;TZID=America/Edmonton:20230129T210000
DTSTAMP:20260421T123807
CREATED:20230110T183242Z
LAST-MODIFIED:20230110T183242Z
UID:10000199-1675018800-1675026000@www.skicastle.ca
SUMMARY:TRIVIA NIGHT (DISNEY)
DESCRIPTION:You’ve been physically tested on the slopes but are you ready to test you mental capabilities at Trivia night?! \nGrab your team and come to the T-Bar Pub to break a mental sweat in this trivia pursuit of knowledge. Answer this weeks’ uniquely-themed questions for your chance to win awesome prizes and ultimate bragging rights! \nEvery Trivia Night will feature a different topic\, with this week’s topic being Disney. The fun begins at 7 PM.
URL:https://www.skicastle.ca/event/trivia-night-01-29-2023/
LOCATION:T-Bar Pub & Grub\, PO Box 610\, Pincher Creek\, AB\, T0K1W0\, Canada
CATEGORIES:Miscellaneous
ORGANIZER;CN="Castle Mountain Resort":MAILTO:info@skicastle.ca
GEO:49.3181843;-114.4144166
X-APPLE-STRUCTURED-LOCATION;VALUE=URI;X-ADDRESS=T-Bar Pub & Grub PO Box 610 Pincher Creek AB T0K1W0 Canada;X-APPLE-RADIUS=500;X-TITLE=PO Box 610:geo:-114.4144166,49.3181843
END:VEVENT
BEGIN:VEVENT
DTSTART;TZID=America/Edmonton:20230129T090000
DTEND;TZID=America/Edmonton:20230129T150000
DTSTAMP:20260421T123807
CREATED:20221115T230648Z
LAST-MODIFIED:20230212T184310Z
UID:10000153-1674982800-1675004400@www.skicastle.ca
SUMMARY:VITAE ENVIRONMENTAL SCAVENGER HUNT SUNDAY
DESCRIPTION:Our on-mountain scavenger hunts are back and better than ever\, thanks to our partnership with Vitae Environmental Construction. \nEvery Sunday we will be posting a series of letters across the Huckleberry Chair Zone and tasking kids with discovering all the letters that spell out a secret word. A hint for each day\, ballots\, and rules can be found every Sunday on the Day Lodge stage. \nPrize draws will be happening every day at 3:30 PM in the Day Lodge with $250 worth of local prizes to be awarded each and every occurrence! A special thanks to Vitae Environmental Construction for their support of this event and our community at large!
URL:https://www.skicastle.ca/event/vitae-environmental-scavenger-hunt-sunday-2/2023-01-29/
LOCATION:Castle Mountain Resort\, AB\, T0K1W0\, Canada
CATEGORIES:Castle (Outdoors)
ORGANIZER;CN="Castle Mountain Resort":MAILTO:info@skicastle.ca
GEO:49.3191376;-114.412619
END:VEVENT
BEGIN:VEVENT
DTSTART;TZID=America/Edmonton:20230122T190000
DTEND;TZID=America/Edmonton:20230122T210000
DTSTAMP:20260421T123807
CREATED:20230111T172219Z
LAST-MODIFIED:20230131T204403Z
UID:10000200-1674414000-1674421200@www.skicastle.ca
SUMMARY:MUSICAL BINGO PRESENTED BY BIG ROCK BREWERY (PARTY ANTHEMS)
DESCRIPTION:Jam out and test your musical knowledge at Musical Bingo Night at the T-Bar Pub! \nEvery Musical Bingo Night will feature a theme or era of music\, so join us every other Sunday to test your tuned ears. This week’s theme is Party Anthems. \nThe fun begins at 7 PM.
URL:https://www.skicastle.ca/event/musical-bingo-party-anthems/
LOCATION:T-Bar Pub & Grub\, PO Box 610\, Pincher Creek\, AB\, T0K1W0\, Canada
CATEGORIES:Miscellaneous
ORGANIZER;CN="Castle Mountain Resort":MAILTO:info@skicastle.ca
GEO:49.3181843;-114.4144166
X-APPLE-STRUCTURED-LOCATION;VALUE=URI;X-ADDRESS=T-Bar Pub & Grub PO Box 610 Pincher Creek AB T0K1W0 Canada;X-APPLE-RADIUS=500;X-TITLE=PO Box 610:geo:-114.4144166,49.3181843
END:VEVENT
BEGIN:VEVENT
DTSTART;TZID=America/Edmonton:20230122T090000
DTEND;TZID=America/Edmonton:20230122T150000
DTSTAMP:20260421T123807
CREATED:20221115T230648Z
LAST-MODIFIED:20230212T184310Z
UID:10000152-1674378000-1674399600@www.skicastle.ca
SUMMARY:VITAE ENVIRONMENTAL SCAVENGER HUNT SUNDAY
DESCRIPTION:Our on-mountain scavenger hunts are back and better than ever\, thanks to our partnership with Vitae Environmental Construction. \nEvery Sunday we will be posting a series of letters across the Huckleberry Chair Zone and tasking kids with discovering all the letters that spell out a secret word. A hint for each day\, ballots\, and rules can be found every Sunday on the Day Lodge stage. \nPrize draws will be happening every day at 3:30 PM in the Day Lodge with $250 worth of local prizes to be awarded each and every occurrence! A special thanks to Vitae Environmental Construction for their support of this event and our community at large!
URL:https://www.skicastle.ca/event/vitae-environmental-scavenger-hunt-sunday-2/2023-01-22/
LOCATION:Castle Mountain Resort\, AB\, T0K1W0\, Canada
CATEGORIES:Castle (Outdoors)
ORGANIZER;CN="Castle Mountain Resort":MAILTO:info@skicastle.ca
GEO:49.3191376;-114.412619
END:VEVENT
END:VCALENDAR