BEGIN:VCALENDAR
VERSION:2.0
PRODID:-//Castle Mountain Resort - ECPv6.15.20//NONSGML v1.0//EN
CALSCALE:GREGORIAN
METHOD:PUBLISH
X-ORIGINAL-URL:https://www.skicastle.ca
X-WR-CALDESC:Events for Castle Mountain Resort
REFRESH-INTERVAL;VALUE=DURATION:PT1H
X-Robots-Tag:noindex
X-PUBLISHED-TTL:PT1H
BEGIN:VTIMEZONE
TZID:America/Edmonton
BEGIN:DAYLIGHT
TZOFFSETFROM:-0700
TZOFFSETTO:-0600
TZNAME:MDT
DTSTART:20240310T090000
END:DAYLIGHT
BEGIN:STANDARD
TZOFFSETFROM:-0600
TZOFFSETTO:-0700
TZNAME:MST
DTSTART:20241103T080000
END:STANDARD
BEGIN:DAYLIGHT
TZOFFSETFROM:-0700
TZOFFSETTO:-0600
TZNAME:MDT
DTSTART:20250309T090000
END:DAYLIGHT
BEGIN:STANDARD
TZOFFSETFROM:-0600
TZOFFSETTO:-0700
TZNAME:MST
DTSTART:20251102T080000
END:STANDARD
BEGIN:DAYLIGHT
TZOFFSETFROM:-0700
TZOFFSETTO:-0600
TZNAME:MDT
DTSTART:20260308T090000
END:DAYLIGHT
BEGIN:STANDARD
TZOFFSETFROM:-0600
TZOFFSETTO:-0700
TZNAME:MST
DTSTART:20261101T080000
END:STANDARD
END:VTIMEZONE
BEGIN:VEVENT
DTSTART;TZID=America/Edmonton:20250102T103000
DTEND;TZID=America/Edmonton:20250104T153000
DTSTAMP:20260422T044610
CREATED:20241231T234641Z
LAST-MODIFIED:20241231T234641Z
UID:10000802-1735813800-1736004600@www.skicastle.ca
SUMMARY:3-DAY HOLIDAY CAMPS
DESCRIPTION:The holidays are a great opportunity to develop your children’s skills\, in addition to giving you a little bit of solo shredding time! \nDuring Christmas and Family Weeks\, we offer several 3 consecutive day camps\, with two hours of lessons in the AM\, and two hours in the PM\, for kids aged between 3 & 13 years. \nSuitable for all ability levels.
URL:https://www.skicastle.ca/event/3-day-holiday-camps/
LOCATION:Castle Mountain Resort\, AB\, T0K1W0\, Canada
CATEGORIES:Castle (Outdoors)
ATTACH;FMTTYPE=image/jpeg:https://www.skicastle.ca/wp-content/uploads/2024/12/Dec21-SkiSchool-18.jpg
ORGANIZER;CN="Castle Mountain Resort":MAILTO:info@skicastle.ca
GEO:49.3191376;-114.412619
END:VEVENT
BEGIN:VEVENT
DTSTART;TZID=America/Edmonton:20250103T210000
DTEND;TZID=America/Edmonton:20250103T233000
DTSTAMP:20260422T044610
CREATED:20241215T214533Z
LAST-MODIFIED:20241215T214534Z
UID:10000763-1735938000-1735947000@www.skicastle.ca
SUMMARY:FRIDAY NIGHT LIVE MUSIC PRESENTED BY RED TRUCK BEER
DESCRIPTION:Our Friday night live music series is back and better than ever\, thanks in part to a new partnership with Red Truck Beer Company. \nJoin us every Friday evening\, in the T-Bar Pub\, for a new musical artist. They’ll hit the stage each night\, starting at 9 PM. \nAlso\, Red Truck Draft on special ALL DAY: 16 oz for $6.69 (+gst) or a 60 oz pitcher for $21.95 (+gst)!
URL:https://www.skicastle.ca/event/friday-night-live-music-presented-by-red-truck-beer-5/
LOCATION:Castle Mountain Resort\, AB\, T0K1W0\, Canada
CATEGORIES:Live Music
ORGANIZER;CN="Castle Mountain Resort":MAILTO:info@skicastle.ca
GEO:49.3191376;-114.412619
END:VEVENT
BEGIN:VEVENT
DTSTART;TZID=America/Edmonton:20250110T210000
DTEND;TZID=America/Edmonton:20250110T233000
DTSTAMP:20260422T044610
CREATED:20241217T182057Z
LAST-MODIFIED:20241217T182058Z
UID:10000764-1736542800-1736551800@www.skicastle.ca
SUMMARY:FRIDAY NIGHT LIVE MUSIC PRESENTED BY RED TRUCK BEER
DESCRIPTION:Our Friday night live music series is back and better than ever\, thanks in part to a new partnership with Red Truck Beer Company. \nJoin us every Friday evening\, in the T-Bar Pub\, for a new musical artist. They’ll hit the stage each night\, starting at 9 PM. \nAlso\, Red Truck Draft on special ALL DAY: 16 oz for $6.69 (+gst) or a 60 oz pitcher for $21.95 (+gst)!
URL:https://www.skicastle.ca/event/friday-night-live-music-presented-by-red-truck-beer-12/
LOCATION:Castle Mountain Resort\, AB\, T0K1W0\, Canada
CATEGORIES:Live Music
ORGANIZER;CN="Castle Mountain Resort":MAILTO:info@skicastle.ca
GEO:49.3191376;-114.412619
END:VEVENT
BEGIN:VEVENT
DTSTART;TZID=America/Edmonton:20250115T093000
DTEND;TZID=America/Edmonton:20250115T143000
DTSTAMP:20260422T044610
CREATED:20250105T233747Z
LAST-MODIFIED:20250105T234851Z
UID:10000809-1736933400-1736951400@www.skicastle.ca
SUMMARY:HIGH ALPINE - MEN'S
DESCRIPTION:A local favourite\, our High Alpine Days are sure to sell out. \nThis skier-only\, day long clinic\, is for already advanced skiers\, looking to hone their skills in Castle’s amazing\, yet sometimes harsh alpine environment. \nSuitable for skiers levels 4 – 5. \nBOOK NOW through our website or call 1-888-SKI TONS (754-8667) extension 231 to speak to a Snow School expert!
URL:https://www.skicastle.ca/event/high-alpine-mens/2025-01-15/
LOCATION:Castle Mountain Resort\, AB\, T0K1W0\, Canada
ATTACH;FMTTYPE=image/jpeg:https://www.skicastle.ca/wp-content/uploads/2025/01/High-Alpine-Poster.jpg
ORGANIZER;CN="Castle Mountain Resort":MAILTO:info@skicastle.ca
GEO:49.3191376;-114.412619
END:VEVENT
BEGIN:VEVENT
DTSTART;TZID=America/Edmonton:20250115T210000
DTEND;TZID=America/Edmonton:20250115T210000
DTSTAMP:20260422T044610
CREATED:20250113T181319Z
LAST-MODIFIED:20250113T181516Z
UID:10000838-1736974800-1736974800@www.skicastle.ca
SUMMARY:PROM NIGHT
DESCRIPTION:Dress in your best\, ask your date to prom and dance the night away at T-Bar! \nBest promposal (filmed) will win a prize at 10 PM.
URL:https://www.skicastle.ca/event/prom-night/
LOCATION:Castle Mountain Resort\, AB\, T0K1W0\, Canada
CATEGORIES:Miscellaneous
ATTACH;FMTTYPE=image/jpeg:https://www.skicastle.ca/wp-content/uploads/2025/01/Prom-Poster.jpg
ORGANIZER;CN="Castle Mountain Resort":MAILTO:info@skicastle.ca
GEO:49.3191376;-114.412619
END:VEVENT
BEGIN:VEVENT
DTSTART;TZID=America/Edmonton:20250116T093000
DTEND;TZID=America/Edmonton:20250116T143000
DTSTAMP:20260422T044610
CREATED:20250105T234046Z
LAST-MODIFIED:20250105T234046Z
UID:10000810-1737019800-1737037800@www.skicastle.ca
SUMMARY:HIGH ALPINE - WOMEN'S
DESCRIPTION:A local favourite\, our High Alpine Days are sure to sell out. \nThis skier-only\, day long clinic\, is for already advanced skiers\, looking to hone their skills in Castle’s amazing\, yet sometimes harsh alpine environment. \nSuitable for skiers levels 4 – 5. \nBOOK NOW through our website or call 1-888-SKI TONS (754-8667) extension 231 to speak to a Snow School expert!
URL:https://www.skicastle.ca/event/high-alpine-womens/2025-01-16/
LOCATION:Castle Mountain Resort\, AB\, T0K1W0\, Canada
CATEGORIES:Castle (Outdoors)
ATTACH;FMTTYPE=image/jpeg:https://www.skicastle.ca/wp-content/uploads/2025/01/High-Alpine-Poster.jpg
ORGANIZER;CN="Castle Mountain Resort":MAILTO:info@skicastle.ca
GEO:49.3191376;-114.412619
END:VEVENT
BEGIN:VEVENT
DTSTART;TZID=America/Edmonton:20250117T210000
DTEND;TZID=America/Edmonton:20250117T233000
DTSTAMP:20260422T044610
CREATED:20241216T171021Z
LAST-MODIFIED:20241216T171022Z
UID:10000765-1737147600-1737156600@www.skicastle.ca
SUMMARY:FRIDAY NIGHT LIVE MUSIC PRESENTED BY RED TRUCK BEER
DESCRIPTION:Our Friday night live music series is back and better than ever\, thanks in part to a new partnership with Red Truck Beer Company. \nJoin us every Friday evening\, in the T-Bar Pub\, for a new musical artist. They’ll hit the stage each night\, starting at 9 PM. \nAlso\, Red Truck Draft on special ALL DAY: 16 oz for $6.69 (+gst) or a 60 oz pitcher for $21.95 (+gst)!
URL:https://www.skicastle.ca/event/friday-night-live-music-presented-by-red-truck-beer-9/
LOCATION:Castle Mountain Resort\, AB\, T0K1W0\, Canada
CATEGORIES:Live Music
ORGANIZER;CN="Castle Mountain Resort":MAILTO:info@skicastle.ca
GEO:49.3191376;-114.412619
END:VEVENT
BEGIN:VEVENT
DTSTART;TZID=America/Edmonton:20250119T093000
DTEND;TZID=America/Edmonton:20250119T123000
DTSTAMP:20260422T044610
CREATED:20250106T000604Z
LAST-MODIFIED:20250106T000604Z
UID:10000813-1737279000-1737289800@www.skicastle.ca
SUMMARY:SHRED SISTERS
DESCRIPTION:Join the exclusive program that celebrates ladies (18+) getting together and ripping up the mountain\, in a supportive female based environment. \nAvailable to all ability levels and featuring: \n\n3 hour instruction daily over 7 consecutive Sundays\nAn outdoors après to celebrate after the final lesson\n\nBOOK NOW through our website or call 1-888-SKI TONS (754-8667) extension 231 to speak to a Snow School expert!
URL:https://www.skicastle.ca/event/shred-sisters/
LOCATION:Castle Mountain Resort\, AB\, T0K1W0\, Canada
CATEGORIES:Castle (Outdoors)
ATTACH;FMTTYPE=image/jpeg:https://www.skicastle.ca/wp-content/uploads/2025/01/january27-3874-scaled.jpg
ORGANIZER;CN="Castle Mountain Resort":MAILTO:info@skicastle.ca
GEO:49.3191376;-114.412619
END:VEVENT
BEGIN:VEVENT
DTSTART;TZID=America/Edmonton:20250124T080000
DTEND;TZID=America/Edmonton:20250124T170000
DTSTAMP:20260422T044610
CREATED:20230205T120705Z
LAST-MODIFIED:20250113T005550Z
UID:10000819-1737705600-1737738000@www.skicastle.ca
SUMMARY:U14 PROVINCIAL RACE SERIES
DESCRIPTION:Castle Mountain Resort warmly welcomes U14 ski racing athletes\, from across Alberta and interior BC\, participating in Giant Slalom (GS) and Slalom (SL) races\, on January 25 & 26\, 2025. \nRaces will take place on the Lone Ranger run\, which will be closed to the public from Friday\, January 24 through to end of day on Sunday\, January 26. Sidewinder is also expected to be closed all day on Friday as well as during the morning hours on Saturday and Sunday\, as a training / warm-up run. \nFor the race notice\, please click here.  \nPlease note that the entry deadline for this event is Saturday\, January 18\, 2025 at 1800hrs MST. 
URL:https://www.skicastle.ca/event/u14-provincial-race-series/2025-01-24/
LOCATION:Castle Mountain Resort\, AB\, T0K1W0\, Canada
CATEGORIES:Castle (Outdoors)
ATTACH;FMTTYPE=image/jpeg:https://www.skicastle.ca/wp-content/uploads/2023/02/U14-Races.jpg
GEO:49.3191376;-114.412619
END:VEVENT
BEGIN:VEVENT
DTSTART;TZID=America/Edmonton:20250124T210000
DTEND;TZID=America/Edmonton:20250124T233000
DTSTAMP:20260422T044610
CREATED:20241229T033207Z
LAST-MODIFIED:20250107T182647Z
UID:10000801-1737752400-1737761400@www.skicastle.ca
SUMMARY:FRIDAY NIGHT LIVE MUSIC PRESENTED BY RED TRUCK BEER
DESCRIPTION:Our Friday night live music series is back and better than ever\, thanks in part to a new partnership with Red Truck Beer Company. \nJoin us every Friday evening\, in the T-Bar Pub\, for a new musical artist. They’ll hit the stage each night\, starting at 9 PM. \nAlso\, Red Truck Draft on special ALL DAY: 16 oz for $6.69 (+gst) or a 60 oz pitcher for $21.95 (+gst)!
URL:https://www.skicastle.ca/event/friday-night-live-music-presented-by-red-truck-beer-16/
LOCATION:Castle Mountain Resort\, AB\, T0K1W0\, Canada
CATEGORIES:Live Music
ORGANIZER;CN="Castle Mountain Resort":MAILTO:info@skicastle.ca
GEO:49.3191376;-114.412619
END:VEVENT
BEGIN:VEVENT
DTSTART;TZID=America/Edmonton:20250125T080000
DTEND;TZID=America/Edmonton:20250125T170000
DTSTAMP:20260422T044610
CREATED:20230205T120705Z
LAST-MODIFIED:20250113T005550Z
UID:10000820-1737792000-1737824400@www.skicastle.ca
SUMMARY:U14 PROVINCIAL RACE SERIES
DESCRIPTION:Castle Mountain Resort warmly welcomes U14 ski racing athletes\, from across Alberta and interior BC\, participating in Giant Slalom (GS) and Slalom (SL) races\, on January 25 & 26\, 2025. \nRaces will take place on the Lone Ranger run\, which will be closed to the public from Friday\, January 24 through to end of day on Sunday\, January 26. Sidewinder is also expected to be closed all day on Friday as well as during the morning hours on Saturday and Sunday\, as a training / warm-up run. \nFor the race notice\, please click here.  \nPlease note that the entry deadline for this event is Saturday\, January 18\, 2025 at 1800hrs MST. 
URL:https://www.skicastle.ca/event/u14-provincial-race-series/2025-01-25/
LOCATION:Castle Mountain Resort\, AB\, T0K1W0\, Canada
CATEGORIES:Castle (Outdoors)
ATTACH;FMTTYPE=image/jpeg:https://www.skicastle.ca/wp-content/uploads/2023/02/U14-Races.jpg
GEO:49.3191376;-114.412619
END:VEVENT
BEGIN:VEVENT
DTSTART;TZID=America/Edmonton:20250126T080000
DTEND;TZID=America/Edmonton:20250126T170000
DTSTAMP:20260422T044610
CREATED:20230205T120705Z
LAST-MODIFIED:20250113T005550Z
UID:10000818-1737878400-1737910800@www.skicastle.ca
SUMMARY:U14 PROVINCIAL RACE SERIES
DESCRIPTION:Castle Mountain Resort warmly welcomes U14 ski racing athletes\, from across Alberta and interior BC\, participating in Giant Slalom (GS) and Slalom (SL) races\, on January 25 & 26\, 2025. \nRaces will take place on the Lone Ranger run\, which will be closed to the public from Friday\, January 24 through to end of day on Sunday\, January 26. Sidewinder is also expected to be closed all day on Friday as well as during the morning hours on Saturday and Sunday\, as a training / warm-up run. \nFor the race notice\, please click here.  \nPlease note that the entry deadline for this event is Saturday\, January 18\, 2025 at 1800hrs MST. 
URL:https://www.skicastle.ca/event/u14-provincial-race-series/2025-01-26/
LOCATION:Castle Mountain Resort\, AB\, T0K1W0\, Canada
CATEGORIES:Castle (Outdoors)
ATTACH;FMTTYPE=image/jpeg:https://www.skicastle.ca/wp-content/uploads/2023/02/U14-Races.jpg
GEO:49.3191376;-114.412619
END:VEVENT
BEGIN:VEVENT
DTSTART;TZID=America/Edmonton:20250131T210000
DTEND;TZID=America/Edmonton:20250131T233000
DTSTAMP:20260422T044610
CREATED:20241215T214952Z
LAST-MODIFIED:20241215T214953Z
UID:10000767-1738357200-1738366200@www.skicastle.ca
SUMMARY:FRIDAY NIGHT LIVE MUSIC PRESENTED BY RED TRUCK BEER
DESCRIPTION:Our Friday night live music series is back and better than ever\, thanks in part to a new partnership with Red Truck Beer Company. \nJoin us every Friday evening\, in the T-Bar Pub\, for a new musical artist. They’ll hit the stage each night\, starting at 9 PM. \nAlso\, Red Truck Draft on special ALL DAY: 16 oz for $6.69 (+gst) or a 60 oz pitcher for $21.95 (+gst)!
URL:https://www.skicastle.ca/event/friday-night-live-music-presented-by-red-truck-beer-6/
LOCATION:Castle Mountain Resort\, AB\, T0K1W0\, Canada
CATEGORIES:Live Music
ORGANIZER;CN="Castle Mountain Resort":MAILTO:info@skicastle.ca
GEO:49.3191376;-114.412619
END:VEVENT
END:VCALENDAR