BEGIN:VCALENDAR
VERSION:2.0
PRODID:-//Castle Mountain Resort - ECPv6.15.20//NONSGML v1.0//EN
CALSCALE:GREGORIAN
METHOD:PUBLISH
X-ORIGINAL-URL:https://www.skicastle.ca
X-WR-CALDESC:Events for Castle Mountain Resort
REFRESH-INTERVAL;VALUE=DURATION:PT1H
X-Robots-Tag:noindex
X-PUBLISHED-TTL:PT1H
BEGIN:VTIMEZONE
TZID:America/Edmonton
BEGIN:DAYLIGHT
TZOFFSETFROM:-0700
TZOFFSETTO:-0600
TZNAME:MDT
DTSTART:20240310T090000
END:DAYLIGHT
BEGIN:STANDARD
TZOFFSETFROM:-0600
TZOFFSETTO:-0700
TZNAME:MST
DTSTART:20241103T080000
END:STANDARD
BEGIN:DAYLIGHT
TZOFFSETFROM:-0700
TZOFFSETTO:-0600
TZNAME:MDT
DTSTART:20250309T090000
END:DAYLIGHT
BEGIN:STANDARD
TZOFFSETFROM:-0600
TZOFFSETTO:-0700
TZNAME:MST
DTSTART:20251102T080000
END:STANDARD
BEGIN:DAYLIGHT
TZOFFSETFROM:-0700
TZOFFSETTO:-0600
TZNAME:MDT
DTSTART:20260308T090000
END:DAYLIGHT
BEGIN:STANDARD
TZOFFSETFROM:-0600
TZOFFSETTO:-0700
TZNAME:MST
DTSTART:20261101T080000
END:STANDARD
END:VTIMEZONE
BEGIN:VEVENT
DTSTART;TZID=America/Edmonton:20251101T090000
DTEND;TZID=America/Edmonton:20251101T170000
DTSTAMP:20260421T124026
CREATED:20251029T215704Z
LAST-MODIFIED:20251029T215704Z
UID:10000873-1761987600-1762016400@www.skicastle.ca
SUMMARY:CASTLE ON LOCATION (ALPENLAND LETHBRIDGE)
DESCRIPTION:Catch Castle Mountain Resort staff on location\, at Alpenland – Lethbridge\, on Saturday\, November 1\, from 9 AM to 5 PM. Our team members will be happy to answer any questions you have\, especially about our new lift and terrain expansion. We’ll also have some free swag\, a sneak peek at our new trail map\, and would be happy to help you out with your digital waiver (required for all season pass holders or WOW direct-to-lift card holders). \nNote: Season passes and/or WOW DTL Cards will NOT be available for printing / pick-up at this event. Your pass or direct-to-lift card will be mailed to you\, provided you complete your digital release agreement / waiver prior to November 15. \n\n 
URL:https://www.skicastle.ca/event/castle-on-location-alpenland-lethbridge/
LOCATION:Alpenland Lethbridge\, 1202 3rd Ave S.\, Lethbridge\, AB\, T1J 0J9\, Canada
ATTACH;FMTTYPE=image/jpeg:https://www.skicastle.ca/wp-content/uploads/2023/03/dronelogov2-scaled.jpg
ORGANIZER;CN="Castle Mountain Resort":MAILTO:info@skicastle.ca
GEO:49.6960134;-112.8288274
X-APPLE-STRUCTURED-LOCATION;VALUE=URI;X-ADDRESS=Alpenland Lethbridge 1202 3rd Ave S. Lethbridge AB T1J 0J9 Canada;X-APPLE-RADIUS=500;X-TITLE=1202 3rd Ave S.:geo:-112.8288274,49.6960134
END:VEVENT
BEGIN:VEVENT
DTSTART;TZID=America/Edmonton:20251107T170000
DTEND;TZID=America/Edmonton:20251107T200000
DTSTAMP:20260421T124026
CREATED:20201014T153231Z
LAST-MODIFIED:20251015T221651Z
UID:10000866-1762534800-1762545600@www.skicastle.ca
SUMMARY:CASTLE ON LOCATION (CROWSNEST PASS SKI SWAP)
DESCRIPTION:Catch Castle Mountain Resort staff at the annual Crowsnest Pass Ski Swap\, in Bellevue. Season passes and WOW Cards will be available for sale and\, if you haven’t already received your season pass or direct-to-lift card in the mail\, our team will be happy to get that to you\, upon the signing of your release agreement / waiver\, and credit card authorization\, if applicable. Hours are as follows: \n\nFriday\, November 7 – 5 :00 PM to 8:00 PM\nSaturday\, November 8 – 10:00 AM to 1:00 PM\n\nNOTE: This event requires a scheduled timeslot to attend. Please click here for complete event details and/or to book your time. \nSpecial thanks to our friends at the Pass Powderkeg Ski Society for their willingness to include us in this event. \n 
URL:https://www.skicastle.ca/event/crowsnest-pass-ski-swap/2025-11-07/
LOCATION:MDM Community Centre\, 2802 222 Street\, Bellevue\, Alberta\, Canada
CATEGORIES:In the Community
ATTACH;FMTTYPE=image/jpeg:https://www.skicastle.ca/wp-content/uploads/2023/03/dronelogov2-scaled.jpg
GEO:49.5760511;-114.3606554
X-APPLE-STRUCTURED-LOCATION;VALUE=URI;X-ADDRESS=MDM Community Centre 2802 222 Street Bellevue Alberta Canada;X-APPLE-RADIUS=500;X-TITLE=2802 222 Street:geo:-114.3606554,49.5760511
END:VEVENT
BEGIN:VEVENT
DTSTART;TZID=America/Edmonton:20251108T100000
DTEND;TZID=America/Edmonton:20251108T130000
DTSTAMP:20260421T124026
CREATED:20201014T153231Z
LAST-MODIFIED:20251015T221651Z
UID:10000867-1762596000-1762606800@www.skicastle.ca
SUMMARY:CASTLE ON LOCATION (CROWSNEST PASS SKI SWAP)
DESCRIPTION:Catch Castle Mountain Resort staff at the annual Crowsnest Pass Ski Swap\, in Bellevue. Season passes and WOW Cards will be available for sale and\, if you haven’t already received your season pass or direct-to-lift card in the mail\, our team will be happy to get that to you\, upon the signing of your release agreement / waiver\, and credit card authorization\, if applicable. Hours are as follows: \n\nFriday\, November 7 – 5 :00 PM to 8:00 PM\nSaturday\, November 8 – 10:00 AM to 1:00 PM\n\nNOTE: This event requires a scheduled timeslot to attend. Please click here for complete event details and/or to book your time. \nSpecial thanks to our friends at the Pass Powderkeg Ski Society for their willingness to include us in this event. \n 
URL:https://www.skicastle.ca/event/crowsnest-pass-ski-swap/2025-11-08/
LOCATION:MDM Community Centre\, 2802 222 Street\, Bellevue\, Alberta\, Canada
CATEGORIES:In the Community
ATTACH;FMTTYPE=image/jpeg:https://www.skicastle.ca/wp-content/uploads/2023/03/dronelogov2-scaled.jpg
GEO:49.5760511;-114.3606554
X-APPLE-STRUCTURED-LOCATION;VALUE=URI;X-ADDRESS=MDM Community Centre 2802 222 Street Bellevue Alberta Canada;X-APPLE-RADIUS=500;X-TITLE=2802 222 Street:geo:-114.3606554,49.5760511
END:VEVENT
BEGIN:VEVENT
DTSTART;TZID=America/Edmonton:20251115T100000
DTEND;TZID=America/Edmonton:20251115T140000
DTSTAMP:20260421T124026
CREATED:20221014T153610Z
LAST-MODIFIED:20251111T201118Z
UID:10000372-1763200800-1763215200@www.skicastle.ca
SUMMARY:CASTLE ON LOCATION (LETHBRIDGE SKI SWAP)
DESCRIPTION:Catch Castle Mountain Resort staff at the annual Lethbridge Ski Swap\, at the Lethbridge Agri-food Hub & Trade Centre\, Salon “C”\, on Saturday\, November 15. Season passes and WOW Cards will be available for sale and\, if you haven’t already received your season pass or direct-to-lift card in the mail\, our team will be happy to get that to you\, upon the signing of your release agreement / waiver\, and credit card authorization\, if applicable. Our team will be available for the duration of the sale hours\, from 10 AM to 2 PM. \nNote: Our team will not be present on Friday\, November 14\, during the consignment drop-off period. Please click here for complete event details.
URL:https://www.skicastle.ca/event/lethbridge-ski-swap/
LOCATION:Lethbridge Agri-food Hub & Trade Centre (Lethbridge Exhibition)\, 3401 Parkside Dr South\, Lethbridge\, AB\, T1J 4R3\, Canada
CATEGORIES:In the Community
ATTACH;FMTTYPE=image/jpeg:https://www.skicastle.ca/wp-content/uploads/2023/03/dronelogov2-scaled.jpg
GEO:49.6878607;-112.7886396
X-APPLE-STRUCTURED-LOCATION;VALUE=URI;X-ADDRESS=Lethbridge Agri-food Hub & Trade Centre (Lethbridge Exhibition) 3401 Parkside Dr South Lethbridge AB T1J 4R3 Canada;X-APPLE-RADIUS=500;X-TITLE=3401 Parkside Dr South:geo:-112.7886396,49.6878607
END:VEVENT
END:VCALENDAR