BEGIN:VCALENDAR
VERSION:2.0
PRODID:-//Castle Mountain Resort - ECPv6.15.20//NONSGML v1.0//EN
CALSCALE:GREGORIAN
METHOD:PUBLISH
X-WR-CALNAME:Castle Mountain Resort
X-ORIGINAL-URL:https://www.skicastle.ca
X-WR-CALDESC:Events for Castle Mountain Resort
REFRESH-INTERVAL;VALUE=DURATION:PT1H
X-Robots-Tag:noindex
X-PUBLISHED-TTL:PT1H
BEGIN:VTIMEZONE
TZID:America/Edmonton
BEGIN:DAYLIGHT
TZOFFSETFROM:-0700
TZOFFSETTO:-0600
TZNAME:MDT
DTSTART:20220313T090000
END:DAYLIGHT
BEGIN:STANDARD
TZOFFSETFROM:-0600
TZOFFSETTO:-0700
TZNAME:MST
DTSTART:20221106T080000
END:STANDARD
BEGIN:DAYLIGHT
TZOFFSETFROM:-0700
TZOFFSETTO:-0600
TZNAME:MDT
DTSTART:20230312T090000
END:DAYLIGHT
BEGIN:STANDARD
TZOFFSETFROM:-0600
TZOFFSETTO:-0700
TZNAME:MST
DTSTART:20231105T080000
END:STANDARD
BEGIN:DAYLIGHT
TZOFFSETFROM:-0700
TZOFFSETTO:-0600
TZNAME:MDT
DTSTART:20240310T090000
END:DAYLIGHT
BEGIN:STANDARD
TZOFFSETFROM:-0600
TZOFFSETTO:-0700
TZNAME:MST
DTSTART:20241103T080000
END:STANDARD
END:VTIMEZONE
BEGIN:VEVENT
DTSTART;TZID=America/Edmonton:20231109T170000
DTEND;TZID=America/Edmonton:20231109T210000
DTSTAMP:20260423T052035
CREATED:20200925T183604Z
LAST-MODIFIED:20231013T171750Z
UID:10000243-1699549200-1699563600@www.skicastle.ca
SUMMARY:SEASON PASS / DTL CARD PRINTING DAYS (LETHBRIDGE)
DESCRIPTION:Catch Castle Mountain Resort staff on location at Alpenland Ski & Cycle\, for season pass / DTL card printing days. Stop by to sign your waiver\, get your pass printed\, buy your WOW Card or just ask us about what to expect this coming season. \nWe’ll be set up within Alpenland Ski & Cycle’s Rental Shop\, on the evening of Thursday\, November 9 and all day on Friday\, November 10. Complete hours are as follows: \n\nThursday\, November 9 – 5 PM to 9 PM\nFriday\, November 10 – 9 AM to 9 PM\n\nPlease note that children under the age of 18 must have a parent or legal guardian present to sign a release of liability before their passes or direct-to-lift cards will be issued. \nWe look forward to seeing you at this event!
URL:https://www.skicastle.ca/event/season-pass-dtl-card-printing-days-lethbridge/2023-11-09/
LOCATION:Alpenland Lethbridge\, 1202 3rd Ave S.\, Lethbridge\, AB\, T1J 0J9\, Canada
CATEGORIES:In the Community
ATTACH;FMTTYPE=image/jpeg:https://www.skicastle.ca/wp-content/uploads/2023/03/dronelogov2-scaled.jpg
ORGANIZER;CN="Castle Mountain Resort":MAILTO:info@skicastle.ca
GEO:49.6960134;-112.8288274
X-APPLE-STRUCTURED-LOCATION;VALUE=URI;X-ADDRESS=Alpenland Lethbridge 1202 3rd Ave S. Lethbridge AB T1J 0J9 Canada;X-APPLE-RADIUS=500;X-TITLE=1202 3rd Ave S.:geo:-112.8288274,49.6960134
END:VEVENT
BEGIN:VEVENT
DTSTART;TZID=America/Edmonton:20231110T090000
DTEND;TZID=America/Edmonton:20231110T210000
DTSTAMP:20260423T052035
CREATED:20200925T183604Z
LAST-MODIFIED:20231013T171750Z
UID:10000244-1699606800-1699650000@www.skicastle.ca
SUMMARY:SEASON PASS / DTL CARD PRINTING DAYS (LETHBRIDGE)
DESCRIPTION:Catch Castle Mountain Resort staff on location at Alpenland Ski & Cycle\, for season pass / DTL card printing days. Stop by to sign your waiver\, get your pass printed\, buy your WOW Card or just ask us about what to expect this coming season. \nWe’ll be set up within Alpenland Ski & Cycle’s Rental Shop\, on the evening of Thursday\, November 9 and all day on Friday\, November 10. Complete hours are as follows: \n\nThursday\, November 9 – 5 PM to 9 PM\nFriday\, November 10 – 9 AM to 9 PM\n\nPlease note that children under the age of 18 must have a parent or legal guardian present to sign a release of liability before their passes or direct-to-lift cards will be issued. \nWe look forward to seeing you at this event!
URL:https://www.skicastle.ca/event/season-pass-dtl-card-printing-days-lethbridge/2023-11-10/
LOCATION:Alpenland Lethbridge\, 1202 3rd Ave S.\, Lethbridge\, AB\, T1J 0J9\, Canada
CATEGORIES:In the Community
ATTACH;FMTTYPE=image/jpeg:https://www.skicastle.ca/wp-content/uploads/2023/03/dronelogov2-scaled.jpg
ORGANIZER;CN="Castle Mountain Resort":MAILTO:info@skicastle.ca
GEO:49.6960134;-112.8288274
X-APPLE-STRUCTURED-LOCATION;VALUE=URI;X-ADDRESS=Alpenland Lethbridge 1202 3rd Ave S. Lethbridge AB T1J 0J9 Canada;X-APPLE-RADIUS=500;X-TITLE=1202 3rd Ave S.:geo:-112.8288274,49.6960134
END:VEVENT
END:VCALENDAR