BEGIN:VCALENDAR
VERSION:2.0
PRODID:-//Castle Mountain Resort - ECPv6.15.20//NONSGML v1.0//EN
CALSCALE:GREGORIAN
METHOD:PUBLISH
X-ORIGINAL-URL:https://www.skicastle.ca
X-WR-CALDESC:Events for Castle Mountain Resort
REFRESH-INTERVAL;VALUE=DURATION:PT1H
X-Robots-Tag:noindex
X-PUBLISHED-TTL:PT1H
BEGIN:VTIMEZONE
TZID:America/Edmonton
BEGIN:DAYLIGHT
TZOFFSETFROM:-0700
TZOFFSETTO:-0600
TZNAME:MDT
DTSTART:20220313T090000
END:DAYLIGHT
BEGIN:STANDARD
TZOFFSETFROM:-0600
TZOFFSETTO:-0700
TZNAME:MST
DTSTART:20221106T080000
END:STANDARD
BEGIN:DAYLIGHT
TZOFFSETFROM:-0700
TZOFFSETTO:-0600
TZNAME:MDT
DTSTART:20230312T090000
END:DAYLIGHT
BEGIN:STANDARD
TZOFFSETFROM:-0600
TZOFFSETTO:-0700
TZNAME:MST
DTSTART:20231105T080000
END:STANDARD
BEGIN:DAYLIGHT
TZOFFSETFROM:-0700
TZOFFSETTO:-0600
TZNAME:MDT
DTSTART:20240310T090000
END:DAYLIGHT
BEGIN:STANDARD
TZOFFSETFROM:-0600
TZOFFSETTO:-0700
TZNAME:MST
DTSTART:20241103T080000
END:STANDARD
END:VTIMEZONE
BEGIN:VEVENT
DTSTART;TZID=America/Edmonton:20231201T090000
DTEND;TZID=America/Edmonton:20231201T160000
DTSTAMP:20260423T023239
CREATED:20231121T233951Z
LAST-MODIFIED:20231125T204746Z
UID:10000261-1701421200-1701446400@www.skicastle.ca
SUMMARY:OPENING WEEKEND FOOD DRIVE
DESCRIPTION:Ski or ride with us opening weekend and help us give back to those less fortunate\, in our area. For every visit over our opening weekend\, December 1 – 3\, Castle Mountain Resort will donate $1 to local food banks within our area\, to a maximum of $1000. Our friends at Co-op Pincher Creek have also agreed to match our donation 1:1\, helping to double our impact within our community! \nDonations will be split 50/50 between the Crowsnest Pass Food Bank and the Pincher Creek Food Bank. It doesn’t matter if you’re a season pass holder\, WOW Card holder\, or a ticket purchaser\, it all counts so come on out! \nGuests are encouraged to bring non-perishable goods to further amplify our impact. Any donated items will be forwarded onto the agencies above and can be dropped off at CMR Guest Services. \n 
URL:https://www.skicastle.ca/event/opening-weekend-food-drive/2023-12-01/
LOCATION:Castle Mountain Resort\, AB\, T0K1W0\, Canada
CATEGORIES:Castle (Outdoors),In the Community
ORGANIZER;CN="Castle Mountain Resort":MAILTO:info@skicastle.ca
GEO:49.3191376;-114.412619
END:VEVENT
BEGIN:VEVENT
DTSTART;TZID=America/Edmonton:20231201T210000
DTEND;TZID=America/Edmonton:20231201T234500
DTSTAMP:20260423T023239
CREATED:20200227T185042Z
LAST-MODIFIED:20231126T204140Z
UID:10000038-1701464400-1701474300@www.skicastle.ca
SUMMARY:LIVE MUSIC IN THE T-BAR PUB (GREG ALBRIGHT & TRIP HOLLER)
DESCRIPTION:Join us for the first rockin’ Friday night in the T-Bar Pub. This weekend’s artists are Greg Albright & Trip Holler. \nGreg has performed on some of the least and most well-known music stages in his hometown\, Calgary and across Alberta.  His easy-goin’ manner and outlaw country style mix well on the soundboard and stage alike. \nFollow Greg on Instagram! \nLive music gets started at 9 PM and is absolutely free to attend (no cover charge). \n \nGreg Albright · First Demo
URL:https://www.skicastle.ca/event/live-music-in-the-t-bar-pub-12-01-2023/
LOCATION:Castle Mountain Resort\, AB\, T0K1W0\, Canada
CATEGORIES:Live Music
ORGANIZER;CN="Castle Mountain Resort":MAILTO:info@skicastle.ca
GEO:49.3191376;-114.412619
END:VEVENT
BEGIN:VEVENT
DTSTART;TZID=America/Edmonton:20231202T090000
DTEND;TZID=America/Edmonton:20231202T160000
DTSTAMP:20260423T023239
CREATED:20231121T233951Z
LAST-MODIFIED:20231125T204746Z
UID:10000262-1701507600-1701532800@www.skicastle.ca
SUMMARY:OPENING WEEKEND FOOD DRIVE
DESCRIPTION:Ski or ride with us opening weekend and help us give back to those less fortunate\, in our area. For every visit over our opening weekend\, December 1 – 3\, Castle Mountain Resort will donate $1 to local food banks within our area\, to a maximum of $1000. Our friends at Co-op Pincher Creek have also agreed to match our donation 1:1\, helping to double our impact within our community! \nDonations will be split 50/50 between the Crowsnest Pass Food Bank and the Pincher Creek Food Bank. It doesn’t matter if you’re a season pass holder\, WOW Card holder\, or a ticket purchaser\, it all counts so come on out! \nGuests are encouraged to bring non-perishable goods to further amplify our impact. Any donated items will be forwarded onto the agencies above and can be dropped off at CMR Guest Services. \n 
URL:https://www.skicastle.ca/event/opening-weekend-food-drive/2023-12-02/
LOCATION:Castle Mountain Resort\, AB\, T0K1W0\, Canada
CATEGORIES:Castle (Outdoors),In the Community
ORGANIZER;CN="Castle Mountain Resort":MAILTO:info@skicastle.ca
GEO:49.3191376;-114.412619
END:VEVENT
END:VCALENDAR