BEGIN:VCALENDAR
VERSION:2.0
PRODID:-//Castle Mountain Resort - ECPv6.15.20//NONSGML v1.0//EN
CALSCALE:GREGORIAN
METHOD:PUBLISH
X-WR-CALNAME:Castle Mountain Resort
X-ORIGINAL-URL:https://www.skicastle.ca
X-WR-CALDESC:Events for Castle Mountain Resort
REFRESH-INTERVAL;VALUE=DURATION:PT1H
X-Robots-Tag:noindex
X-PUBLISHED-TTL:PT1H
BEGIN:VTIMEZONE
TZID:America/Edmonton
BEGIN:DAYLIGHT
TZOFFSETFROM:-0700
TZOFFSETTO:-0600
TZNAME:MDT
DTSTART:20220313T090000
END:DAYLIGHT
BEGIN:STANDARD
TZOFFSETFROM:-0600
TZOFFSETTO:-0700
TZNAME:MST
DTSTART:20221106T080000
END:STANDARD
BEGIN:DAYLIGHT
TZOFFSETFROM:-0700
TZOFFSETTO:-0600
TZNAME:MDT
DTSTART:20230312T090000
END:DAYLIGHT
BEGIN:STANDARD
TZOFFSETFROM:-0600
TZOFFSETTO:-0700
TZNAME:MST
DTSTART:20231105T080000
END:STANDARD
BEGIN:DAYLIGHT
TZOFFSETFROM:-0700
TZOFFSETTO:-0600
TZNAME:MDT
DTSTART:20240310T090000
END:DAYLIGHT
BEGIN:STANDARD
TZOFFSETFROM:-0600
TZOFFSETTO:-0700
TZNAME:MST
DTSTART:20241103T080000
END:STANDARD
END:VTIMEZONE
BEGIN:VEVENT
DTSTART;TZID=America/Edmonton:20231208T210000
DTEND;TZID=America/Edmonton:20231208T234500
DTSTAMP:20260423T035851
CREATED:20230228T231458Z
LAST-MODIFIED:20231126T203954Z
UID:10000224-1702069200-1702079100@www.skicastle.ca
SUMMARY:LIVE MUSIC IN THE T-BAR PUB (BRIDGETTE YARWOOD DUO)
DESCRIPTION:Join us for another rockin’ Friday night in the T-Bar Pub. This weekend’s artist is the Bridgette Yarwood Duo. \nBridgette is an Alberta based vocalist\, musician and entertainer. She is a lover of all genres of music but specializes in jazz and blues but can rock out from time to time. \nFollow the Bridgette Yarwood Duo on Instagram and Facebook. \n \nLive music gets started at 9 PM and is free to attend (no cover charge).
URL:https://www.skicastle.ca/event/live-music-in-the-t-bar-pub-12-08-2023/
LOCATION:Castle Mountain Resort\, AB\, T0K1W0\, Canada
CATEGORIES:Live Music
ORGANIZER;CN="Castle Mountain Resort":MAILTO:info@skicastle.ca
GEO:49.3191376;-114.412619
END:VEVENT
END:VCALENDAR