BEGIN:VCALENDAR
VERSION:2.0
PRODID:-//Castle Mountain Resort - ECPv6.15.20//NONSGML v1.0//EN
CALSCALE:GREGORIAN
METHOD:PUBLISH
X-WR-CALNAME:Castle Mountain Resort
X-ORIGINAL-URL:https://www.skicastle.ca
X-WR-CALDESC:Events for Castle Mountain Resort
REFRESH-INTERVAL;VALUE=DURATION:PT1H
X-Robots-Tag:noindex
X-PUBLISHED-TTL:PT1H
BEGIN:VTIMEZONE
TZID:America/Edmonton
BEGIN:DAYLIGHT
TZOFFSETFROM:-0700
TZOFFSETTO:-0600
TZNAME:MDT
DTSTART:20220313T090000
END:DAYLIGHT
BEGIN:STANDARD
TZOFFSETFROM:-0600
TZOFFSETTO:-0700
TZNAME:MST
DTSTART:20221106T080000
END:STANDARD
BEGIN:DAYLIGHT
TZOFFSETFROM:-0700
TZOFFSETTO:-0600
TZNAME:MDT
DTSTART:20230312T090000
END:DAYLIGHT
BEGIN:STANDARD
TZOFFSETFROM:-0600
TZOFFSETTO:-0700
TZNAME:MST
DTSTART:20231105T080000
END:STANDARD
BEGIN:DAYLIGHT
TZOFFSETFROM:-0700
TZOFFSETTO:-0600
TZNAME:MDT
DTSTART:20240310T090000
END:DAYLIGHT
BEGIN:STANDARD
TZOFFSETFROM:-0600
TZOFFSETTO:-0700
TZNAME:MST
DTSTART:20241103T080000
END:STANDARD
END:VTIMEZONE
BEGIN:VEVENT
DTSTART;TZID=America/Edmonton:20231215T210000
DTEND;TZID=America/Edmonton:20231215T234500
DTSTAMP:20260423T052034
CREATED:20230109T211608Z
LAST-MODIFIED:20231127T003347Z
UID:10000196-1702674000-1702683900@www.skicastle.ca
SUMMARY:LIVE MUSIC IN THE T-BAR PUB (LANI FOLKARD)
DESCRIPTION:Join us for another rockin’ Friday night in the T-Bar Pub. This weekend’s artist is Lani Folkard. \nLani Folkard brings a soulful blend of country and folk music\, sharing both light and heartfelt musings through her original tunes while also covering a wide variety of popular hits. Her smooth vocals and acoustic guitar stylings pair perfectly with the unique and skillful cajun beats lent by accomplished percussionist\, Paul Pichurski. \n \nLive music gets started at 9 PM and is free to attend (no cover charge).
URL:https://www.skicastle.ca/event/live-music-in-the-t-bar-12-15-2023/
LOCATION:Castle Mountain Resort\, AB\, T0K1W0\, Canada
CATEGORIES:Live Music
ORGANIZER;CN="Castle Mountain Resort":MAILTO:info@skicastle.ca
GEO:49.3191376;-114.412619
END:VEVENT
BEGIN:VEVENT
DTSTART;TZID=America/Edmonton:20231216T200000
DTEND;TZID=America/Edmonton:20231216T230000
DTSTAMP:20260423T052034
CREATED:20231213T171758Z
LAST-MODIFIED:20240113T221350Z
UID:10000284-1702756800-1702767600@www.skicastle.ca
SUMMARY:OPEN MIC NIGHT
DESCRIPTION:Calling all musicians\, poets\, or those that just love to sing or play instruments\, we’ll welcome it all. Not a musician? Come by and cheer on all the participants!! \nHosted by local\, Doug Loughead\, Open Mic Night happens every other Saturday in the T-Bar Pub\, through to late March. The fun gets started every other Saturday at 8 PM. \nThis event is free to attend or participate in. Special thanks to Doug for hosting this event!
URL:https://www.skicastle.ca/event/open-mic-night/2023-12-16/
LOCATION:Castle Mountain Resort\, AB\, T0K1W0\, Canada
ORGANIZER;CN="Castle Mountain Resort":MAILTO:info@skicastle.ca
GEO:49.3191376;-114.412619
END:VEVENT
END:VCALENDAR