BEGIN:VCALENDAR
VERSION:2.0
PRODID:-//Castle Mountain Resort - ECPv6.15.20//NONSGML v1.0//EN
CALSCALE:GREGORIAN
METHOD:PUBLISH
X-ORIGINAL-URL:https://www.skicastle.ca
X-WR-CALDESC:Events for Castle Mountain Resort
REFRESH-INTERVAL;VALUE=DURATION:PT1H
X-Robots-Tag:noindex
X-PUBLISHED-TTL:PT1H
BEGIN:VTIMEZONE
TZID:America/Edmonton
BEGIN:DAYLIGHT
TZOFFSETFROM:-0700
TZOFFSETTO:-0600
TZNAME:MDT
DTSTART:20230312T090000
END:DAYLIGHT
BEGIN:STANDARD
TZOFFSETFROM:-0600
TZOFFSETTO:-0700
TZNAME:MST
DTSTART:20231105T080000
END:STANDARD
BEGIN:DAYLIGHT
TZOFFSETFROM:-0700
TZOFFSETTO:-0600
TZNAME:MDT
DTSTART:20240310T090000
END:DAYLIGHT
BEGIN:STANDARD
TZOFFSETFROM:-0600
TZOFFSETTO:-0700
TZNAME:MST
DTSTART:20241103T080000
END:STANDARD
BEGIN:DAYLIGHT
TZOFFSETFROM:-0700
TZOFFSETTO:-0600
TZNAME:MDT
DTSTART:20250309T090000
END:DAYLIGHT
BEGIN:STANDARD
TZOFFSETFROM:-0600
TZOFFSETTO:-0700
TZNAME:MST
DTSTART:20251102T080000
END:STANDARD
END:VTIMEZONE
BEGIN:VEVENT
DTSTART;TZID=America/Edmonton:20240117T210000
DTEND;TZID=America/Edmonton:20240117T235900
DTSTAMP:20260423T021809
CREATED:20240107T201611Z
LAST-MODIFIED:20240107T214935Z
UID:10000313-1705525200-1705535940@www.skicastle.ca
SUMMARY:THEME PARTY IN THE PUB (TRAILER PARK BOYS)
DESCRIPTION:Join us in the T-Bar Pub on January 17th\, 2024\, for Trailer Park Boys Theme Party from 9 PM to 12 AM!
URL:https://www.skicastle.ca/event/theme-party-in-the-t-bar-pub/
LOCATION:Castle Mountain Resort\, AB\, T0K1W0\, Canada
ORGANIZER;CN="Castle Mountain Resort":MAILTO:info@skicastle.ca
GEO:49.3191376;-114.412619
END:VEVENT
BEGIN:VEVENT
DTSTART;TZID=America/Edmonton:20240119T210000
DTEND;TZID=America/Edmonton:20240119T234500
DTSTAMP:20260423T021809
CREATED:20230302T165433Z
LAST-MODIFIED:20231217T172019Z
UID:10000225-1705698000-1705707900@www.skicastle.ca
SUMMARY:LIVE MUSIC IN THE T-BAR PUB (FERNY TURNBULL)
DESCRIPTION:Join us for another rockin’ Friday night in the T-Bar Pub. This weekend’s artist is Ferny Turnbull! \nFerny Turnbull was formed by childhood friends Steve Campbell and Wayne Jones in Winnipeg Manitoba. Some of the bands influences include Led Zeppelin\, Black Sabbath\, Dr. Hook\, Marshal Tucker\, Johnny Cash\, Jimmi Hendrix and Stevie Ray Vaughn. All of which are reflected in the music they play. \nYou can follow them on Facebook! \nLive music gets started at 9 PM and is free to attend (no cover charge).
URL:https://www.skicastle.ca/event/live-music-in-the-t-bar-pub-ferny-turnbull/
LOCATION:Castle Mountain Resort\, AB\, T0K1W0\, Canada
CATEGORIES:Live Music
ORGANIZER;CN="Castle Mountain Resort":MAILTO:info@skicastle.ca
GEO:49.3191376;-114.412619
END:VEVENT
BEGIN:VEVENT
DTSTART;TZID=America/Edmonton:20240120T160000
DTEND;TZID=America/Edmonton:20240120T180000
DTSTAMP:20260423T021809
CREATED:20240110T205835Z
LAST-MODIFIED:20240114T214259Z
UID:10000314-1705766400-1705773600@www.skicastle.ca
SUMMARY:PAINT NIGHT HOSTED BY JAMIE REEVES
DESCRIPTION:Looking to unwind after a long day on the slopes? Well\, try out our paint night hosted by Jamie Reeves! \nThis event will cost $50 per person\, which includes a 16×20 canvas\, all painting and drawing supplies\, instructions\, and the best part – take your painting home with you once the class is over! \nPaint night will take place in the West Castle room in the day lodge\, and the bar will be open throughout the event! \n  \nTickets available through the link\, or at our Guest Services at 403.627.5101
URL:https://www.skicastle.ca/event/paint-night-hosted-by-jamie-reeves/
LOCATION:Castle Mountain Resort\, AB\, T0K1W0\, Canada
ORGANIZER;CN="Castle Mountain Resort":MAILTO:info@skicastle.ca
GEO:49.3191376;-114.412619
END:VEVENT
END:VCALENDAR