BEGIN:VCALENDAR
VERSION:2.0
PRODID:-//Castle Mountain Resort - ECPv6.15.20//NONSGML v1.0//EN
CALSCALE:GREGORIAN
METHOD:PUBLISH
X-ORIGINAL-URL:https://www.skicastle.ca
X-WR-CALDESC:Events for Castle Mountain Resort
REFRESH-INTERVAL;VALUE=DURATION:PT1H
X-Robots-Tag:noindex
X-PUBLISHED-TTL:PT1H
BEGIN:VTIMEZONE
TZID:America/Edmonton
BEGIN:DAYLIGHT
TZOFFSETFROM:-0700
TZOFFSETTO:-0600
TZNAME:MDT
DTSTART:20230312T090000
END:DAYLIGHT
BEGIN:STANDARD
TZOFFSETFROM:-0600
TZOFFSETTO:-0700
TZNAME:MST
DTSTART:20231105T080000
END:STANDARD
BEGIN:DAYLIGHT
TZOFFSETFROM:-0700
TZOFFSETTO:-0600
TZNAME:MDT
DTSTART:20240310T090000
END:DAYLIGHT
BEGIN:STANDARD
TZOFFSETFROM:-0600
TZOFFSETTO:-0700
TZNAME:MST
DTSTART:20241103T080000
END:STANDARD
BEGIN:DAYLIGHT
TZOFFSETFROM:-0700
TZOFFSETTO:-0600
TZNAME:MDT
DTSTART:20250309T090000
END:DAYLIGHT
BEGIN:STANDARD
TZOFFSETFROM:-0600
TZOFFSETTO:-0700
TZNAME:MST
DTSTART:20251102T080000
END:STANDARD
END:VTIMEZONE
BEGIN:VEVENT
DTSTART;TZID=America/Edmonton:20240129T080000
DTEND;TZID=America/Edmonton:20240129T170000
DTSTAMP:20260423T021942
CREATED:20231229T225123Z
LAST-MODIFIED:20231229T225123Z
UID:10000304-1706515200-1706547600@www.skicastle.ca
SUMMARY:PROFESSIONAL SKI INSTRUCTORS OF CANADA – LEVEL 3 SKI
DESCRIPTION:Welcome to the Professional Ski Instructors of Canada\, Level 3 Program. By now\, you are already a member of the PSIC or other organization. We know this next step will be a great one! This program is designed to utilize your practical experience and exposure to real-life teaching scenarios at your snow school\, with the goal of enhancing the versatility and adaptability of your skiing and teaching skills. It’s a fun and high-energy program that focuses on the development of advanced skiing and teaching techniques in advanced conditions and situations. \nPurpose of the Level 3 Program: \n\nTo hone your understanding and skills to prepare you as a future leader in the skiing industry.\nTo provide deeper understanding of the physics behind skiing\, as well as the physical\, emotional\, and intellectual aspects of advanced teaching.\nTo develop advanced skiing skills to demonstrate versatility and adaptability through a range of outcomes and situations.\nTo develop advanced teaching skills to develop learning experiences for advanced skiers in on and off piste terrain and bumps.\n\nDuration: \nThe Level 3 Program contains Skiing\, Teaching and an Evaluation component. The on snow components may be taken in the order that suits you best\, however\, we encourage you to take the skiing component first if possible. \n\nE-Learning Component — approximately 45 minutes to complete at home\, at your own pace prior to the on snow components\nOn Snow Skiing Training is three days\, approximately 4.5 – 5 hours per day\nOn Snow Teaching Training is three days\, approximately 4.5 – 5 hours per day\nOn Snow Evaluation is three days\, approximately 4.5 – 5 hours per day
URL:https://www.skicastle.ca/event/professional-ski-instructors-of-canada-level-3-ski/2024-01-29/
LOCATION:Castle Mountain Resort\, AB\, T0K1W0\, Canada
ATTACH;FMTTYPE=image/png:https://www.skicastle.ca/wp-content/uploads/2023/12/PSIC-1.png
ORGANIZER;CN="Castle Mountain Resort":MAILTO:info@skicastle.ca
GEO:49.3191376;-114.412619
END:VEVENT
BEGIN:VEVENT
DTSTART;TZID=America/Edmonton:20240130T080000
DTEND;TZID=America/Edmonton:20240130T170000
DTSTAMP:20260423T021942
CREATED:20231229T225123Z
LAST-MODIFIED:20231229T225123Z
UID:10000305-1706601600-1706634000@www.skicastle.ca
SUMMARY:PROFESSIONAL SKI INSTRUCTORS OF CANADA – LEVEL 3 SKI
DESCRIPTION:Welcome to the Professional Ski Instructors of Canada\, Level 3 Program. By now\, you are already a member of the PSIC or other organization. We know this next step will be a great one! This program is designed to utilize your practical experience and exposure to real-life teaching scenarios at your snow school\, with the goal of enhancing the versatility and adaptability of your skiing and teaching skills. It’s a fun and high-energy program that focuses on the development of advanced skiing and teaching techniques in advanced conditions and situations. \nPurpose of the Level 3 Program: \n\nTo hone your understanding and skills to prepare you as a future leader in the skiing industry.\nTo provide deeper understanding of the physics behind skiing\, as well as the physical\, emotional\, and intellectual aspects of advanced teaching.\nTo develop advanced skiing skills to demonstrate versatility and adaptability through a range of outcomes and situations.\nTo develop advanced teaching skills to develop learning experiences for advanced skiers in on and off piste terrain and bumps.\n\nDuration: \nThe Level 3 Program contains Skiing\, Teaching and an Evaluation component. The on snow components may be taken in the order that suits you best\, however\, we encourage you to take the skiing component first if possible. \n\nE-Learning Component — approximately 45 minutes to complete at home\, at your own pace prior to the on snow components\nOn Snow Skiing Training is three days\, approximately 4.5 – 5 hours per day\nOn Snow Teaching Training is three days\, approximately 4.5 – 5 hours per day\nOn Snow Evaluation is three days\, approximately 4.5 – 5 hours per day
URL:https://www.skicastle.ca/event/professional-ski-instructors-of-canada-level-3-ski/2024-01-30/
LOCATION:Castle Mountain Resort\, AB\, T0K1W0\, Canada
ATTACH;FMTTYPE=image/png:https://www.skicastle.ca/wp-content/uploads/2023/12/PSIC-1.png
ORGANIZER;CN="Castle Mountain Resort":MAILTO:info@skicastle.ca
GEO:49.3191376;-114.412619
END:VEVENT
BEGIN:VEVENT
DTSTART;TZID=America/Edmonton:20240131T080000
DTEND;TZID=America/Edmonton:20240131T170000
DTSTAMP:20260423T021942
CREATED:20231229T225123Z
LAST-MODIFIED:20231229T225123Z
UID:10000306-1706688000-1706720400@www.skicastle.ca
SUMMARY:PROFESSIONAL SKI INSTRUCTORS OF CANADA – LEVEL 3 SKI
DESCRIPTION:Welcome to the Professional Ski Instructors of Canada\, Level 3 Program. By now\, you are already a member of the PSIC or other organization. We know this next step will be a great one! This program is designed to utilize your practical experience and exposure to real-life teaching scenarios at your snow school\, with the goal of enhancing the versatility and adaptability of your skiing and teaching skills. It’s a fun and high-energy program that focuses on the development of advanced skiing and teaching techniques in advanced conditions and situations. \nPurpose of the Level 3 Program: \n\nTo hone your understanding and skills to prepare you as a future leader in the skiing industry.\nTo provide deeper understanding of the physics behind skiing\, as well as the physical\, emotional\, and intellectual aspects of advanced teaching.\nTo develop advanced skiing skills to demonstrate versatility and adaptability through a range of outcomes and situations.\nTo develop advanced teaching skills to develop learning experiences for advanced skiers in on and off piste terrain and bumps.\n\nDuration: \nThe Level 3 Program contains Skiing\, Teaching and an Evaluation component. The on snow components may be taken in the order that suits you best\, however\, we encourage you to take the skiing component first if possible. \n\nE-Learning Component — approximately 45 minutes to complete at home\, at your own pace prior to the on snow components\nOn Snow Skiing Training is three days\, approximately 4.5 – 5 hours per day\nOn Snow Teaching Training is three days\, approximately 4.5 – 5 hours per day\nOn Snow Evaluation is three days\, approximately 4.5 – 5 hours per day
URL:https://www.skicastle.ca/event/professional-ski-instructors-of-canada-level-3-ski/2024-01-31/
LOCATION:Castle Mountain Resort\, AB\, T0K1W0\, Canada
ATTACH;FMTTYPE=image/png:https://www.skicastle.ca/wp-content/uploads/2023/12/PSIC-1.png
ORGANIZER;CN="Castle Mountain Resort":MAILTO:info@skicastle.ca
GEO:49.3191376;-114.412619
END:VEVENT
BEGIN:VEVENT
DTSTART;TZID=America/Edmonton:20240202T210000
DTEND;TZID=America/Edmonton:20240202T234500
DTSTAMP:20260423T021942
CREATED:20200227T185042Z
LAST-MODIFIED:20231230T235013Z
UID:10000104-1706907600-1706917500@www.skicastle.ca
SUMMARY:LIVE MUSIC IN THE T-BAR PUB (PAM AND DAN)
DESCRIPTION:Join us for another rockin’ Friday night in the T-Bar Pub. This weekend’s artists is Pam and Dan. \nThe Pam and Dan duo play a fun mix of well loved cover tunes and inspired originals. They go with the flow of the crowd: chill vibe to lively\, Pam and Dan thrive on engaging and connecting with audiences. \nFollow Erin on Facebook or Instagram! \n  \nLive music gets started at 9 PM and is absolutely free to attend (no cover charge).
URL:https://www.skicastle.ca/event/live-music-in-the-t-bar-pub-pam-and-dan/
LOCATION:Castle Mountain Resort\, AB\, T0K1W0\, Canada
CATEGORIES:Live Music
ORGANIZER;CN="Castle Mountain Resort":MAILTO:info@skicastle.ca
GEO:49.3191376;-114.412619
END:VEVENT
END:VCALENDAR