BEGIN:VCALENDAR
VERSION:2.0
PRODID:-//Castle Mountain Resort - ECPv6.15.20//NONSGML v1.0//EN
CALSCALE:GREGORIAN
METHOD:PUBLISH
X-WR-CALNAME:Castle Mountain Resort
X-ORIGINAL-URL:https://www.skicastle.ca
X-WR-CALDESC:Events for Castle Mountain Resort
REFRESH-INTERVAL;VALUE=DURATION:PT1H
X-Robots-Tag:noindex
X-PUBLISHED-TTL:PT1H
BEGIN:VTIMEZONE
TZID:America/Edmonton
BEGIN:DAYLIGHT
TZOFFSETFROM:-0700
TZOFFSETTO:-0600
TZNAME:MDT
DTSTART:20230312T090000
END:DAYLIGHT
BEGIN:STANDARD
TZOFFSETFROM:-0600
TZOFFSETTO:-0700
TZNAME:MST
DTSTART:20231105T080000
END:STANDARD
BEGIN:DAYLIGHT
TZOFFSETFROM:-0700
TZOFFSETTO:-0600
TZNAME:MDT
DTSTART:20240310T090000
END:DAYLIGHT
BEGIN:STANDARD
TZOFFSETFROM:-0600
TZOFFSETTO:-0700
TZNAME:MST
DTSTART:20241103T080000
END:STANDARD
BEGIN:DAYLIGHT
TZOFFSETFROM:-0700
TZOFFSETTO:-0600
TZNAME:MDT
DTSTART:20250309T090000
END:DAYLIGHT
BEGIN:STANDARD
TZOFFSETFROM:-0600
TZOFFSETTO:-0700
TZNAME:MST
DTSTART:20251102T080000
END:STANDARD
END:VTIMEZONE
BEGIN:VEVENT
DTSTART;TZID=America/Edmonton:20240206T083000
DTEND;TZID=America/Edmonton:20240206T170000
DTSTAMP:20260423T005628
CREATED:20231204T222514Z
LAST-MODIFIED:20231210T162339Z
UID:10000279-1707208200-1707238800@www.skicastle.ca
SUMMARY:PROFESSIONAL SKI INSTRUCTORS OF CANADA - LEVEL 2 TEACH
DESCRIPTION:Welcome to the Professional Ski Instructors of Canada\, Level 2 Program.  By now\, you are already a member of the PSIC or other organization.  We know this next step will be a great one! \nPurpose of the Level 2 program: \n\nTo support Level 1 Professional Ski Instructors with next steps\, new ideas\, concepts and practical tools to increase versatility in their practice.\nTo develop confidence and versatility in a variety of teaching and terrain situations.\nTo further technical understanding and enhance skiing and teaching skills up to and including moderate\, off piste conditions.\n\nDuration: \nThe Level 2 Program contains three components. The on snow components may be taken in the order that suits you best\, however\, we encourage you to take the skiing component first if possible. \n\nE-Learning Component — approximately 45 minutes to complete at home\, at your own pace prior to the on snow components\nOn Snow Skiing Training is three days\, approximately 4.5 – 5 hours per day\nOn Snow Teaching Training is three days\, approximately 4.5 – 5 hours per day
URL:https://www.skicastle.ca/event/professional-ski-instructors-of-canada-level-2-teach/2024-02-06/
LOCATION:Castle Mountain Resort\, AB\, T0K1W0\, Canada
ATTACH;FMTTYPE=image/png:https://www.skicastle.ca/wp-content/uploads/2023/12/PSIC-1.png
ORGANIZER;CN="Castle Mountain Resort":MAILTO:info@skicastle.ca
GEO:49.3191376;-114.412619
END:VEVENT
BEGIN:VEVENT
DTSTART;TZID=America/Edmonton:20240207T083000
DTEND;TZID=America/Edmonton:20240207T170000
DTSTAMP:20260423T005628
CREATED:20231204T222514Z
LAST-MODIFIED:20231210T162339Z
UID:10000280-1707294600-1707325200@www.skicastle.ca
SUMMARY:PROFESSIONAL SKI INSTRUCTORS OF CANADA - LEVEL 2 TEACH
DESCRIPTION:Welcome to the Professional Ski Instructors of Canada\, Level 2 Program.  By now\, you are already a member of the PSIC or other organization.  We know this next step will be a great one! \nPurpose of the Level 2 program: \n\nTo support Level 1 Professional Ski Instructors with next steps\, new ideas\, concepts and practical tools to increase versatility in their practice.\nTo develop confidence and versatility in a variety of teaching and terrain situations.\nTo further technical understanding and enhance skiing and teaching skills up to and including moderate\, off piste conditions.\n\nDuration: \nThe Level 2 Program contains three components. The on snow components may be taken in the order that suits you best\, however\, we encourage you to take the skiing component first if possible. \n\nE-Learning Component — approximately 45 minutes to complete at home\, at your own pace prior to the on snow components\nOn Snow Skiing Training is three days\, approximately 4.5 – 5 hours per day\nOn Snow Teaching Training is three days\, approximately 4.5 – 5 hours per day
URL:https://www.skicastle.ca/event/professional-ski-instructors-of-canada-level-2-teach/2024-02-07/
LOCATION:Castle Mountain Resort\, AB\, T0K1W0\, Canada
ATTACH;FMTTYPE=image/png:https://www.skicastle.ca/wp-content/uploads/2023/12/PSIC-1.png
ORGANIZER;CN="Castle Mountain Resort":MAILTO:info@skicastle.ca
GEO:49.3191376;-114.412619
END:VEVENT
BEGIN:VEVENT
DTSTART;TZID=America/Edmonton:20240209T210000
DTEND;TZID=America/Edmonton:20240209T234500
DTSTAMP:20260423T005628
CREATED:20200227T185042Z
LAST-MODIFIED:20231231T204923Z
UID:10000115-1707512400-1707522300@www.skicastle.ca
SUMMARY:LIVE MUSIC IN THE T-BAR PUB (SIDE NOTE)
DESCRIPTION:Join us for another rockin’ Friday night in the T-Bar Pub. This weekend’s artist is Side Note. \nSide Note is a vocal duo of Suzanne Scott & Becky Pichurski featuring piano\, guitar\, bass\, ukulele\, harmonica\, and saxophone with some killer harmonies! \nFollow Side Note on Instagram and Facebook! \nLive music gets started at 9 PM and is free to attend (no cover charge).
URL:https://www.skicastle.ca/event/live-music-in-the-t-bar-pub-side-note/
LOCATION:Castle Mountain Resort\, AB\, T0K1W0\, Canada
CATEGORIES:Live Music
ORGANIZER;CN="Castle Mountain Resort":MAILTO:info@skicastle.ca
GEO:49.3191376;-114.412619
END:VEVENT
BEGIN:VEVENT
DTSTART;TZID=America/Edmonton:20240210T200000
DTEND;TZID=America/Edmonton:20240210T230000
DTSTAMP:20260423T005628
CREATED:20231213T171758Z
LAST-MODIFIED:20240113T221350Z
UID:10000288-1707595200-1707606000@www.skicastle.ca
SUMMARY:OPEN MIC NIGHT
DESCRIPTION:Calling all musicians\, poets\, or those that just love to sing or play instruments\, we’ll welcome it all. Not a musician? Come by and cheer on all the participants!! \nHosted by local\, Doug Loughead\, Open Mic Night happens every other Saturday in the T-Bar Pub\, through to late March. The fun gets started every other Saturday at 8 PM. \nThis event is free to attend or participate in. Special thanks to Doug for hosting this event!
URL:https://www.skicastle.ca/event/open-mic-night/2024-02-10/
LOCATION:Castle Mountain Resort\, AB\, T0K1W0\, Canada
ORGANIZER;CN="Castle Mountain Resort":MAILTO:info@skicastle.ca
GEO:49.3191376;-114.412619
END:VEVENT
END:VCALENDAR