BEGIN:VCALENDAR
VERSION:2.0
PRODID:-//Castle Mountain Resort - ECPv6.15.20//NONSGML v1.0//EN
CALSCALE:GREGORIAN
METHOD:PUBLISH
X-WR-CALNAME:Castle Mountain Resort
X-ORIGINAL-URL:https://www.skicastle.ca
X-WR-CALDESC:Events for Castle Mountain Resort
REFRESH-INTERVAL;VALUE=DURATION:PT1H
X-Robots-Tag:noindex
X-PUBLISHED-TTL:PT1H
BEGIN:VTIMEZONE
TZID:America/Edmonton
BEGIN:DAYLIGHT
TZOFFSETFROM:-0700
TZOFFSETTO:-0600
TZNAME:MDT
DTSTART:20230312T090000
END:DAYLIGHT
BEGIN:STANDARD
TZOFFSETFROM:-0600
TZOFFSETTO:-0700
TZNAME:MST
DTSTART:20231105T080000
END:STANDARD
BEGIN:DAYLIGHT
TZOFFSETFROM:-0700
TZOFFSETTO:-0600
TZNAME:MDT
DTSTART:20240310T090000
END:DAYLIGHT
BEGIN:STANDARD
TZOFFSETFROM:-0600
TZOFFSETTO:-0700
TZNAME:MST
DTSTART:20241103T080000
END:STANDARD
BEGIN:DAYLIGHT
TZOFFSETFROM:-0700
TZOFFSETTO:-0600
TZNAME:MDT
DTSTART:20250309T090000
END:DAYLIGHT
BEGIN:STANDARD
TZOFFSETFROM:-0600
TZOFFSETTO:-0700
TZNAME:MST
DTSTART:20251102T080000
END:STANDARD
END:VTIMEZONE
BEGIN:VEVENT
DTSTART;TZID=America/Edmonton:20240212T080000
DTEND;TZID=America/Edmonton:20240212T170000
DTSTAMP:20260423T005216
CREATED:20231229T230048Z
LAST-MODIFIED:20231229T230531Z
UID:10000307-1707724800-1707757200@www.skicastle.ca
SUMMARY:PROFESSIONAL SKI INSTRUCTORS OF CANADA – LEVEL 3 TEACH
DESCRIPTION:Welcome to the Professional Ski Instructors of Canada\, Level 3 Program. By now\, you are already a member of the PSIC or other organization. We know this next step will be a great one! This program is designed to utilize your practical experience and exposure to real-life teaching scenarios at your snow school\, with the goal of enhancing the versatility and adaptability of your skiing and teaching skills. It’s a fun and high-energy program that focuses on the development of advanced skiing and teaching techniques in advanced conditions and situations. \nPurpose of the Level 3 Program: \n\nTo hone your understanding and skills to prepare you as a future leader in the skiing industry.\nTo provide deeper understanding of the physics behind skiing\, as well as the physical\, emotional\, and intellectual aspects of advanced teaching.\nTo develop advanced skiing skills to demonstrate versatility and adaptability through a range of outcomes and situations.\nTo develop advanced teaching skills to develop learning experiences for advanced skiers in on and off piste terrain and bumps.\n\nDuration: \nThe Level 3 Program contains Skiing\, Teaching and an Evaluation component. The on snow components may be taken in the order that suits you best\, however\, we encourage you to take the skiing component first if possible. \n\nE-Learning Component — approximately 45 minutes to complete at home\, at your own pace prior to the on snow components\nOn Snow Skiing Training is three days\, approximately 4.5 – 5 hours per day\nOn Snow Teaching Training is three days\, approximately 4.5 – 5 hours per day\nOn Snow Evaluation is three days\, approximately 4.5 – 5 hours per day
URL:https://www.skicastle.ca/event/professional-ski-instructors-of-canada-level-3-teach/2024-02-12/
LOCATION:Castle Mountain Resort\, AB\, T0K1W0\, Canada
ATTACH;FMTTYPE=image/png:https://www.skicastle.ca/wp-content/uploads/2023/12/PSIC-1.png
ORGANIZER;CN="Castle Mountain Resort":MAILTO:info@skicastle.ca
GEO:49.3191376;-114.412619
END:VEVENT
BEGIN:VEVENT
DTSTART;TZID=America/Edmonton:20240213T080000
DTEND;TZID=America/Edmonton:20240213T170000
DTSTAMP:20260423T005216
CREATED:20231229T230048Z
LAST-MODIFIED:20231229T230531Z
UID:10000308-1707811200-1707843600@www.skicastle.ca
SUMMARY:PROFESSIONAL SKI INSTRUCTORS OF CANADA – LEVEL 3 TEACH
DESCRIPTION:Welcome to the Professional Ski Instructors of Canada\, Level 3 Program. By now\, you are already a member of the PSIC or other organization. We know this next step will be a great one! This program is designed to utilize your practical experience and exposure to real-life teaching scenarios at your snow school\, with the goal of enhancing the versatility and adaptability of your skiing and teaching skills. It’s a fun and high-energy program that focuses on the development of advanced skiing and teaching techniques in advanced conditions and situations. \nPurpose of the Level 3 Program: \n\nTo hone your understanding and skills to prepare you as a future leader in the skiing industry.\nTo provide deeper understanding of the physics behind skiing\, as well as the physical\, emotional\, and intellectual aspects of advanced teaching.\nTo develop advanced skiing skills to demonstrate versatility and adaptability through a range of outcomes and situations.\nTo develop advanced teaching skills to develop learning experiences for advanced skiers in on and off piste terrain and bumps.\n\nDuration: \nThe Level 3 Program contains Skiing\, Teaching and an Evaluation component. The on snow components may be taken in the order that suits you best\, however\, we encourage you to take the skiing component first if possible. \n\nE-Learning Component — approximately 45 minutes to complete at home\, at your own pace prior to the on snow components\nOn Snow Skiing Training is three days\, approximately 4.5 – 5 hours per day\nOn Snow Teaching Training is three days\, approximately 4.5 – 5 hours per day\nOn Snow Evaluation is three days\, approximately 4.5 – 5 hours per day
URL:https://www.skicastle.ca/event/professional-ski-instructors-of-canada-level-3-teach/2024-02-13/
LOCATION:Castle Mountain Resort\, AB\, T0K1W0\, Canada
ATTACH;FMTTYPE=image/png:https://www.skicastle.ca/wp-content/uploads/2023/12/PSIC-1.png
ORGANIZER;CN="Castle Mountain Resort":MAILTO:info@skicastle.ca
GEO:49.3191376;-114.412619
END:VEVENT
BEGIN:VEVENT
DTSTART;TZID=America/Edmonton:20240214T080000
DTEND;TZID=America/Edmonton:20240214T170000
DTSTAMP:20260423T005216
CREATED:20231229T230048Z
LAST-MODIFIED:20231229T230531Z
UID:10000309-1707897600-1707930000@www.skicastle.ca
SUMMARY:PROFESSIONAL SKI INSTRUCTORS OF CANADA – LEVEL 3 TEACH
DESCRIPTION:Welcome to the Professional Ski Instructors of Canada\, Level 3 Program. By now\, you are already a member of the PSIC or other organization. We know this next step will be a great one! This program is designed to utilize your practical experience and exposure to real-life teaching scenarios at your snow school\, with the goal of enhancing the versatility and adaptability of your skiing and teaching skills. It’s a fun and high-energy program that focuses on the development of advanced skiing and teaching techniques in advanced conditions and situations. \nPurpose of the Level 3 Program: \n\nTo hone your understanding and skills to prepare you as a future leader in the skiing industry.\nTo provide deeper understanding of the physics behind skiing\, as well as the physical\, emotional\, and intellectual aspects of advanced teaching.\nTo develop advanced skiing skills to demonstrate versatility and adaptability through a range of outcomes and situations.\nTo develop advanced teaching skills to develop learning experiences for advanced skiers in on and off piste terrain and bumps.\n\nDuration: \nThe Level 3 Program contains Skiing\, Teaching and an Evaluation component. The on snow components may be taken in the order that suits you best\, however\, we encourage you to take the skiing component first if possible. \n\nE-Learning Component — approximately 45 minutes to complete at home\, at your own pace prior to the on snow components\nOn Snow Skiing Training is three days\, approximately 4.5 – 5 hours per day\nOn Snow Teaching Training is three days\, approximately 4.5 – 5 hours per day\nOn Snow Evaluation is three days\, approximately 4.5 – 5 hours per day
URL:https://www.skicastle.ca/event/professional-ski-instructors-of-canada-level-3-teach/2024-02-14/
LOCATION:Castle Mountain Resort\, AB\, T0K1W0\, Canada
ATTACH;FMTTYPE=image/png:https://www.skicastle.ca/wp-content/uploads/2023/12/PSIC-1.png
ORGANIZER;CN="Castle Mountain Resort":MAILTO:info@skicastle.ca
GEO:49.3191376;-114.412619
END:VEVENT
BEGIN:VEVENT
DTSTART;TZID=America/Edmonton:20240214T090000
DTEND;TZID=America/Edmonton:20240214T150000
DTSTAMP:20260423T005216
CREATED:20240130T185704Z
LAST-MODIFIED:20240210T132440Z
UID:10000316-1707901200-1707922800@www.skicastle.ca
SUMMARY:VALENTINE'S DAY AT CASTLE
DESCRIPTION:There’s love in the air here at Castle! Come out on Valentine’s Day for tons of fun activities including: \n  \nRomance on the Sundance\n\nFind the love of your life with our Sundance (Blue) Chair dating service! There will be a line for single males and females which will get put together on the chair.\n\n  \nFirst People to show up wearing Red in our Guest Services will get a free cookie & hot chocolate.\n  \nBest Pickup Line contest\n\nSay your best pickup line to one of the lifties at the Base of Blue (Sundance)\nThe top 3 lines will win prizes\nEntries must be submitted by 2 PM with the winner being announced in our Guest Services at 3 PM\n\n  \nPretty in Pink Party in the T-Bar Pub\n\nWear your best Pink outfit!\nTakes place from 9 PM to 12 PM\n\n  \nCan’t wait to see you all on this romantic day!
URL:https://www.skicastle.ca/event/valentines-day-at-castle/
LOCATION:Castle Mountain Resort\, AB\, T0K1W0\, Canada
ORGANIZER;CN="Castle Mountain Resort":MAILTO:info@skicastle.ca
GEO:49.3191376;-114.412619
END:VEVENT
BEGIN:VEVENT
DTSTART;TZID=America/Edmonton:20240216T210000
DTEND;TZID=America/Edmonton:20240216T234500
DTSTAMP:20260423T005216
CREATED:20240207T152853Z
LAST-MODIFIED:20240207T174824Z
UID:10000317-1708117200-1708127100@www.skicastle.ca
SUMMARY:LIVE MUSIC IN THE T-BAR PUB (NICK JOHNSON)
DESCRIPTION:Join us for another rockin’ Friday night in the T-Bar Pub. This weekend’s artist is Nick Johnson. \nLive music gets started at 9 PM and is free to attend (no cover charge).
URL:https://www.skicastle.ca/event/live-music-in-the-t-bar-pub-nick-johnson/
LOCATION:Castle Mountain Resort\, AB\, T0K1W0\, Canada
CATEGORIES:Live Music
ORGANIZER;CN="Castle Mountain Resort":MAILTO:info@skicastle.ca
GEO:49.3191376;-114.412619
END:VEVENT
END:VCALENDAR