BEGIN:VCALENDAR
VERSION:2.0
PRODID:-//Castle Mountain Resort - ECPv6.15.20//NONSGML v1.0//EN
CALSCALE:GREGORIAN
METHOD:PUBLISH
X-WR-CALNAME:Castle Mountain Resort
X-ORIGINAL-URL:https://www.skicastle.ca
X-WR-CALDESC:Events for Castle Mountain Resort
REFRESH-INTERVAL;VALUE=DURATION:PT1H
X-Robots-Tag:noindex
X-PUBLISHED-TTL:PT1H
BEGIN:VTIMEZONE
TZID:America/Edmonton
BEGIN:DAYLIGHT
TZOFFSETFROM:-0700
TZOFFSETTO:-0600
TZNAME:MDT
DTSTART:20230312T090000
END:DAYLIGHT
BEGIN:STANDARD
TZOFFSETFROM:-0600
TZOFFSETTO:-0700
TZNAME:MST
DTSTART:20231105T080000
END:STANDARD
BEGIN:DAYLIGHT
TZOFFSETFROM:-0700
TZOFFSETTO:-0600
TZNAME:MDT
DTSTART:20240310T090000
END:DAYLIGHT
BEGIN:STANDARD
TZOFFSETFROM:-0600
TZOFFSETTO:-0700
TZNAME:MST
DTSTART:20241103T080000
END:STANDARD
BEGIN:DAYLIGHT
TZOFFSETFROM:-0700
TZOFFSETTO:-0600
TZNAME:MDT
DTSTART:20250309T090000
END:DAYLIGHT
BEGIN:STANDARD
TZOFFSETFROM:-0600
TZOFFSETTO:-0700
TZNAME:MST
DTSTART:20251102T080000
END:STANDARD
END:VTIMEZONE
BEGIN:VEVENT
DTSTART;TZID=America/Edmonton:20240317T093000
DTEND;TZID=America/Edmonton:20240317T123000
DTSTAMP:20260422T233653
CREATED:20240221T154629Z
LAST-MODIFIED:20240221T154629Z
UID:10000354-1710667800-1710678600@www.skicastle.ca
SUMMARY:PROFESSIONAL SKI INSTRUCTORS OF CANADA - INTRO TO SKI INSTRUCTION
DESCRIPTION:Interested in turning your passion for skiing into a profession? Come join this Introduction to Ski Instruction session and learn about the opportunities and adventure that exists when you choose a ski instructor career path! This 3-hour session will include 2.5 hours on snow (come ready to ski) followed by a 30-minute indoor discussion. \nThis session takes place from 9:30am to 12:30pm.
URL:https://www.skicastle.ca/event/professional-ski-instructors-of-canada-intro-to-ski-instruction/
LOCATION:Castle Mountain Resort\, AB\, T0K1W0\, Canada
ATTACH;FMTTYPE=image/png:https://www.skicastle.ca/wp-content/uploads/2023/12/PSIC-1.png
ORGANIZER;CN="Castle Mountain Resort":MAILTO:info@skicastle.ca
GEO:49.3191376;-114.412619
END:VEVENT
BEGIN:VEVENT
DTSTART;TZID=America/Edmonton:20240322T210000
DTEND;TZID=America/Edmonton:20240322T234500
DTSTAMP:20260422T233653
CREATED:20200227T185042Z
LAST-MODIFIED:20240318T204126Z
UID:10000109-1711141200-1711151100@www.skicastle.ca
SUMMARY:LIVE MUSIC IN THE T-BAR PUB (THE SOUTHERN COMFORTS)
DESCRIPTION:Join us for another rockin’ Friday night in the T-Bar Pub. This weekend’s artists are Paul & Jen from The Southern Comforts. \n​The Southern Comforts are a lively rock duo based in Lethbridge\, Alberta. Jen & Paul Kaip cover a wide range of music including southern rock\, blues\, modern hits as well as their own originals. With Paul’s masterful guitar solos\, and Jen’s powerful vocal stylings\, these two are guaranteed to have something for everyone. \nLive music gets started at 9 PM and is absolutely free to attend (no cover charge).
URL:https://www.skicastle.ca/event/live-music-in-the-t-bar-pub-03-22-2024/
LOCATION:Castle Mountain Resort\, AB\, T0K1W0\, Canada
CATEGORIES:Live Music
ORGANIZER;CN="Castle Mountain Resort":MAILTO:info@skicastle.ca
GEO:49.3191376;-114.412619
END:VEVENT
BEGIN:VEVENT
DTSTART;TZID=America/Edmonton:20240323T083000
DTEND;TZID=America/Edmonton:20240323T160000
DTSTAMP:20260422T233653
CREATED:20240317T172820Z
LAST-MODIFIED:20240323T183123Z
UID:10000356-1711182600-1711209600@www.skicastle.ca
SUMMARY:CARDBOARD CHARIOT RACE
DESCRIPTION:New for this season! Let’s welcome the Chariot Race to Castle Mountain Resort’s list of Spring Events! This event requires groups to pre-make a cardboard chariot using only cardboard\, duct-tape\, and paper\, and pull the thing through a twisty and turny course to win! \n\nRace Details:\nEach team only gets one run! Those riding in the chariot must be seated before the teams may begin. Once seated their team of pullers must hula hoop a total of 10 times each\, then run to their chariot and begin pulling. The course will be windy and twisty\, test your legs and pull/push your team mate around. Once you reach the end\, your chariot rider must get out and get dressed in the gear provided! First one to get dressed and cross that finish line wins! \nLocation:\nSkiers right of Haig Way (Round Up Traverse) close to the base of the Huckleberry Chairlift. \nRules:\n\nRacers will build their own chariot – no wheels\, skis or snowboards on the base of the chariot allowed!\nThe chariot must be built with cardboard\, paper and duck-tape. The box can be pulled by rope. Get creative!\nEach group will consist of 2 – 4 people max. Only one person is permitted to ride in the Chariot.\nThose riding in the chariot\, helmets are mandatory!\n\nTiming:\n\n8:30 AM – 11:00 AM – Check in / waiver signing at Castle Mountain Resort Guest Services\n12:00 PM – 2:oo PM – Races occur near the base of Huckleberry Chair (skiers right of bottom of Round-up Traverse. Last run must occur before 1:50 PM\n3:45 PM – Prizes will be awarded on the ATCO Community Stage\, near the T-Bar Pub\n\nAge Categories:\n\nU17 racers (both male and female – mixed teams)\n18+ racers (both male and female – mixed teams)\n\n  \nPrizing Categories for both Age Groups:\n\nBest looking chariot\nFastest overall team
URL:https://www.skicastle.ca/event/chariot-race/
LOCATION:Castle Mountain Resort\, AB\, T0K1W0\, Canada
ORGANIZER;CN="Castle Mountain Resort":MAILTO:info@skicastle.ca
GEO:49.3191376;-114.412619
END:VEVENT
BEGIN:VEVENT
DTSTART;TZID=America/Edmonton:20240323T090000
DTEND;TZID=America/Edmonton:20240323T160000
DTSTAMP:20260422T233653
CREATED:20230306T173255Z
LAST-MODIFIED:20240219T214712Z
UID:10000227-1711184400-1711209600@www.skicastle.ca
SUMMARY:JERSEY DAY
DESCRIPTION:Show support to your favourite team or club and wear your jersey around the resort on March 23\, 2024.
URL:https://www.skicastle.ca/event/jersey-day/
LOCATION:Castle Mountain Resort\, AB\, T0K1W0\, Canada
CATEGORIES:Castle (Outdoors),Miscellaneous
ORGANIZER;CN="Castle Mountain Resort":MAILTO:info@skicastle.ca
GEO:49.3191376;-114.412619
END:VEVENT
BEGIN:VEVENT
DTSTART;TZID=America/Edmonton:20240323T200000
DTEND;TZID=America/Edmonton:20240323T230000
DTSTAMP:20260422T233653
CREATED:20231213T171758Z
LAST-MODIFIED:20240113T221350Z
UID:10000291-1711224000-1711234800@www.skicastle.ca
SUMMARY:OPEN MIC NIGHT
DESCRIPTION:Calling all musicians\, poets\, or those that just love to sing or play instruments\, we’ll welcome it all. Not a musician? Come by and cheer on all the participants!! \nHosted by local\, Doug Loughead\, Open Mic Night happens every other Saturday in the T-Bar Pub\, through to late March. The fun gets started every other Saturday at 8 PM. \nThis event is free to attend or participate in. Special thanks to Doug for hosting this event!
URL:https://www.skicastle.ca/event/open-mic-night/2024-03-23/
LOCATION:Castle Mountain Resort\, AB\, T0K1W0\, Canada
ORGANIZER;CN="Castle Mountain Resort":MAILTO:info@skicastle.ca
GEO:49.3191376;-114.412619
END:VEVENT
END:VCALENDAR