BEGIN:VCALENDAR
VERSION:2.0
PRODID:-//Castle Mountain Resort - ECPv6.15.20//NONSGML v1.0//EN
CALSCALE:GREGORIAN
METHOD:PUBLISH
X-WR-CALNAME:Castle Mountain Resort
X-ORIGINAL-URL:https://www.skicastle.ca
X-WR-CALDESC:Events for Castle Mountain Resort
REFRESH-INTERVAL;VALUE=DURATION:PT1H
X-Robots-Tag:noindex
X-PUBLISHED-TTL:PT1H
BEGIN:VTIMEZONE
TZID:America/Edmonton
BEGIN:DAYLIGHT
TZOFFSETFROM:-0700
TZOFFSETTO:-0600
TZNAME:MDT
DTSTART:20230312T090000
END:DAYLIGHT
BEGIN:STANDARD
TZOFFSETFROM:-0600
TZOFFSETTO:-0700
TZNAME:MST
DTSTART:20231105T080000
END:STANDARD
BEGIN:DAYLIGHT
TZOFFSETFROM:-0700
TZOFFSETTO:-0600
TZNAME:MDT
DTSTART:20240310T090000
END:DAYLIGHT
BEGIN:STANDARD
TZOFFSETFROM:-0600
TZOFFSETTO:-0700
TZNAME:MST
DTSTART:20241103T080000
END:STANDARD
BEGIN:DAYLIGHT
TZOFFSETFROM:-0700
TZOFFSETTO:-0600
TZNAME:MDT
DTSTART:20250309T090000
END:DAYLIGHT
BEGIN:STANDARD
TZOFFSETFROM:-0600
TZOFFSETTO:-0700
TZNAME:MST
DTSTART:20251102T080000
END:STANDARD
END:VTIMEZONE
BEGIN:VEVENT
DTSTART;TZID=America/Edmonton:20240327T083000
DTEND;TZID=America/Edmonton:20240327T170000
DTSTAMP:20260422T220951
CREATED:20231204T223101Z
LAST-MODIFIED:20231205T165655Z
UID:10000277-1711528200-1711558800@www.skicastle.ca
SUMMARY:PROFESSIONAL SKI INSTRUCTORS OF CANADA - LEVEL 2 EVALUATION
DESCRIPTION:Welcome to the Professional Ski Instructors of Canada\, Level 2 Program.  By now\, you are already a member of the PSIC or other organization.  We know this next step will be a great one! \nPurpose of the Level 2 program: \n\nTo support Level 1 Professional Ski Instructors with next steps\, new ideas\, concepts and practical tools to increase versatility in their practice.\nTo develop confidence and versatility in a variety of teaching and terrain situations.\nTo further technical understanding and enhance skiing and teaching skills up to and including moderate\, off piste conditions.\n\nDuration: \nThe Level 2 Program contains three components. The on snow components may be taken in the order that suits you best\, however\, we encourage you to take the skiing component first if possible. \n\nE-Learning Component — approximately 45 minutes to complete at home\, at your own pace prior to the on snow components\nOn Snow Skiing Training is three days\, approximately 4.5 – 5 hours per day\nOn Snow Teaching Training is three days\, approximately 4.5 – 5 hours per day
URL:https://www.skicastle.ca/event/professional-ski-instructors-of-canada-level-2-evaluation/2024-03-27/
LOCATION:Castle Mountain Resort\, AB\, T0K1W0\, Canada
ATTACH;FMTTYPE=image/png:https://www.skicastle.ca/wp-content/uploads/2023/12/PSIC-1.png
ORGANIZER;CN="Castle Mountain Resort":MAILTO:info@skicastle.ca
GEO:49.3191376;-114.412619
END:VEVENT
BEGIN:VEVENT
DTSTART;TZID=America/Edmonton:20240328T083000
DTEND;TZID=America/Edmonton:20240328T170000
DTSTAMP:20260422T220951
CREATED:20231204T223101Z
LAST-MODIFIED:20231205T165655Z
UID:10000278-1711614600-1711645200@www.skicastle.ca
SUMMARY:PROFESSIONAL SKI INSTRUCTORS OF CANADA - LEVEL 2 EVALUATION
DESCRIPTION:Welcome to the Professional Ski Instructors of Canada\, Level 2 Program.  By now\, you are already a member of the PSIC or other organization.  We know this next step will be a great one! \nPurpose of the Level 2 program: \n\nTo support Level 1 Professional Ski Instructors with next steps\, new ideas\, concepts and practical tools to increase versatility in their practice.\nTo develop confidence and versatility in a variety of teaching and terrain situations.\nTo further technical understanding and enhance skiing and teaching skills up to and including moderate\, off piste conditions.\n\nDuration: \nThe Level 2 Program contains three components. The on snow components may be taken in the order that suits you best\, however\, we encourage you to take the skiing component first if possible. \n\nE-Learning Component — approximately 45 minutes to complete at home\, at your own pace prior to the on snow components\nOn Snow Skiing Training is three days\, approximately 4.5 – 5 hours per day\nOn Snow Teaching Training is three days\, approximately 4.5 – 5 hours per day
URL:https://www.skicastle.ca/event/professional-ski-instructors-of-canada-level-2-evaluation/2024-03-28/
LOCATION:Castle Mountain Resort\, AB\, T0K1W0\, Canada
ATTACH;FMTTYPE=image/png:https://www.skicastle.ca/wp-content/uploads/2023/12/PSIC-1.png
ORGANIZER;CN="Castle Mountain Resort":MAILTO:info@skicastle.ca
GEO:49.3191376;-114.412619
END:VEVENT
BEGIN:VEVENT
DTSTART;TZID=America/Edmonton:20240329T210000
DTEND;TZID=America/Edmonton:20240329T234500
DTSTAMP:20260422T220951
CREATED:20240318T212827Z
LAST-MODIFIED:20240318T212827Z
UID:10000359-1711746000-1711755900@www.skicastle.ca
SUMMARY:LIVE MUSIC IN THE T-BAR PUB (MATT BLAIS)
DESCRIPTION:Join us for another rockin’ Friday night in the T-Bar Pub. This weekend’s artist is Daron Schofield. \nLive music gets started at 9 PM and is free to attend (no cover charge).
URL:https://www.skicastle.ca/event/live-music-in-the-t-bar-pub-03-29-2024/
LOCATION:Castle Mountain Resort\, AB\, T0K1W0\, Canada
CATEGORIES:Live Music
ORGANIZER;CN="Castle Mountain Resort":MAILTO:info@skicastle.ca
GEO:49.3191376;-114.412619
END:VEVENT
BEGIN:VEVENT
DTSTART;TZID=America/Edmonton:20240330T080000
DTEND;TZID=America/Edmonton:20240330T170000
DTSTAMP:20260422T220951
CREATED:20220311T163144Z
LAST-MODIFIED:20240323T183335Z
UID:10000134-1711785600-1711818000@www.skicastle.ca
SUMMARY:HAWAIIAN DAY
DESCRIPTION:Aloha Castle! Soak up the sun\, bring your hula dancing spirit\, and wear every flower t-shirt your dad picked up on spring vacation to Hawaii. Today’s Hawaiian theme day!
URL:https://www.skicastle.ca/event/hawaiian-day/
LOCATION:Castle Mountain Resort\, AB\, T0K1W0\, Canada
CATEGORIES:Castle (Outdoors),In the Community
ORGANIZER;CN="Castle Mountain Resort":MAILTO:info@skicastle.ca
GEO:49.3191376;-114.412619
END:VEVENT
BEGIN:VEVENT
DTSTART;TZID=America/Edmonton:20240330T120000
DTEND;TZID=America/Edmonton:20240330T140000
DTSTAMP:20260422T220951
CREATED:20240317T183436Z
LAST-MODIFIED:20240323T183349Z
UID:10000357-1711800000-1711807200@www.skicastle.ca
SUMMARY:PARTY IN THE PARK
DESCRIPTION:Come on out to the party in the meadows terrain park (north road) from 12PM – 2PM on March 30th \, 2024! This is a free event – only thing you need is a lift ticket or a season’s pass to get up the lift! There will be bumpin tunes\, and some great commentary from your friends in snow school!  You will be judged by our snow school staff – and they know what’s up so bring you’re A game. If you impress them\, you could get a prize!
URL:https://www.skicastle.ca/event/party-in-the-park/
LOCATION:Castle Mountain Resort\, AB\, T0K1W0\, Canada
ORGANIZER;CN="Castle Mountain Resort":MAILTO:info@skicastle.ca
GEO:49.3191376;-114.412619
END:VEVENT
END:VCALENDAR