BEGIN:VCALENDAR
VERSION:2.0
PRODID:-//Castle Mountain Resort - ECPv6.15.20//NONSGML v1.0//EN
CALSCALE:GREGORIAN
METHOD:PUBLISH
X-WR-CALNAME:Castle Mountain Resort
X-ORIGINAL-URL:https://www.skicastle.ca
X-WR-CALDESC:Events for Castle Mountain Resort
REFRESH-INTERVAL;VALUE=DURATION:PT1H
X-Robots-Tag:noindex
X-PUBLISHED-TTL:PT1H
BEGIN:VTIMEZONE
TZID:America/Edmonton
BEGIN:DAYLIGHT
TZOFFSETFROM:-0700
TZOFFSETTO:-0600
TZNAME:MDT
DTSTART:20230312T090000
END:DAYLIGHT
BEGIN:STANDARD
TZOFFSETFROM:-0600
TZOFFSETTO:-0700
TZNAME:MST
DTSTART:20231105T080000
END:STANDARD
BEGIN:DAYLIGHT
TZOFFSETFROM:-0700
TZOFFSETTO:-0600
TZNAME:MDT
DTSTART:20240310T090000
END:DAYLIGHT
BEGIN:STANDARD
TZOFFSETFROM:-0600
TZOFFSETTO:-0700
TZNAME:MST
DTSTART:20241103T080000
END:STANDARD
BEGIN:DAYLIGHT
TZOFFSETFROM:-0700
TZOFFSETTO:-0600
TZNAME:MDT
DTSTART:20250309T090000
END:DAYLIGHT
BEGIN:STANDARD
TZOFFSETFROM:-0600
TZOFFSETTO:-0700
TZNAME:MST
DTSTART:20251102T080000
END:STANDARD
END:VTIMEZONE
BEGIN:VEVENT
DTSTART;TZID=America/Edmonton:20240531T120000
DTEND;TZID=America/Edmonton:20240531T235900
DTSTAMP:20260422T202357
CREATED:20240508T173559Z
LAST-MODIFIED:20240509T212139Z
UID:10000363-1717156800-1717199940@www.skicastle.ca
SUMMARY:IT ALWAYS SNOWS IN... MAY FLASH SALE ON SEASON PASSES
DESCRIPTION:Purchase a season pass and join the Castle Family! Take advantage of how it always snows in may\, and our Flash Sale on season passes for 2024-25. Sale ends May 31\, which rates go up at 12:00 AM. Benefits of owning a season pass include: \n\nSeason-long direct-to-lift access\nFree skiing at many other resorts\, both at Powder Alliance member resorts\, in addition to other super reciprocal resorts (Apex\, Schweitzer and Whitewater).\nDiscounts on lessons\, rental equipment\, and retail\nPay for your purchase in four monthly installments\n\nTake advantage of this deal and grab your season pass today! Purchase now by clicking HERE.
URL:https://www.skicastle.ca/event/it-always-snows-in-may-flash-sale/
LOCATION:Castle Mountain Resort\, AB\, T0K1W0\, Canada
CATEGORIES:Castle (Outdoors)
ORGANIZER;CN="Castle Mountain Resort":MAILTO:info@skicastle.ca
GEO:49.3191376;-114.412619
END:VEVENT
END:VCALENDAR