BEGIN:VCALENDAR
VERSION:2.0
PRODID:-//Castle Mountain Resort - ECPv6.15.20//NONSGML v1.0//EN
CALSCALE:GREGORIAN
METHOD:PUBLISH
X-WR-CALNAME:Castle Mountain Resort
X-ORIGINAL-URL:https://www.skicastle.ca
X-WR-CALDESC:Events for Castle Mountain Resort
REFRESH-INTERVAL;VALUE=DURATION:PT1H
X-Robots-Tag:noindex
X-PUBLISHED-TTL:PT1H
BEGIN:VTIMEZONE
TZID:America/Edmonton
BEGIN:DAYLIGHT
TZOFFSETFROM:-0700
TZOFFSETTO:-0600
TZNAME:MDT
DTSTART:20230312T090000
END:DAYLIGHT
BEGIN:STANDARD
TZOFFSETFROM:-0600
TZOFFSETTO:-0700
TZNAME:MST
DTSTART:20231105T080000
END:STANDARD
BEGIN:DAYLIGHT
TZOFFSETFROM:-0700
TZOFFSETTO:-0600
TZNAME:MDT
DTSTART:20240310T090000
END:DAYLIGHT
BEGIN:STANDARD
TZOFFSETFROM:-0600
TZOFFSETTO:-0700
TZNAME:MST
DTSTART:20241103T080000
END:STANDARD
BEGIN:DAYLIGHT
TZOFFSETFROM:-0700
TZOFFSETTO:-0600
TZNAME:MDT
DTSTART:20250309T090000
END:DAYLIGHT
BEGIN:STANDARD
TZOFFSETFROM:-0600
TZOFFSETTO:-0700
TZNAME:MST
DTSTART:20251102T080000
END:STANDARD
END:VTIMEZONE
BEGIN:VEVENT
DTSTART;TZID=America/Edmonton:20241206T090000
DTEND;TZID=America/Edmonton:20241220T170000
DTSTAMP:20260422T090956
CREATED:20241128T213326Z
LAST-MODIFIED:20241206T204620Z
UID:10000393-1733475600-1734714000@www.skicastle.ca
SUMMARY:HOLIDAY FOOD DRIVE
DESCRIPTION:Get in the spirit this holiday season and let’s fill our shopping cart\, at Guest Services\, with non-perishable food items in support of our local food banks. Items received will be equally divided between the Crowsnest Pass Food Bank and the Pincher Creek Food Centre.
URL:https://www.skicastle.ca/event/holiday-food-drive/
LOCATION:Castle Mountain Resort\, AB\, T0K1W0\, Canada
CATEGORIES:In the Community
ORGANIZER;CN="Castle Mountain Resort":MAILTO:info@skicastle.ca
GEO:49.3191376;-114.412619
END:VEVENT
BEGIN:VEVENT
DTSTART;TZID=America/Edmonton:20241213T210000
DTEND;TZID=America/Edmonton:20241213T233000
DTSTAMP:20260422T090956
CREATED:20241213T163025Z
LAST-MODIFIED:20241213T163922Z
UID:10000760-1734123600-1734132600@www.skicastle.ca
SUMMARY:FRIDAY NIGHT LIVE MUSIC PRESENTED BY RED TRUCK BEER
DESCRIPTION:Our Friday night live music series is back and better than ever\, thanks in part to a new partnership with Red Truck Beer Company. \nJoin us every Friday evening\, in the T-Bar Pub\, for a new musical artist. This week come check out the band “Undefined” as they hit the stage starting at 9 PM. \nAlso\, there will be specials on Red Truck draft all day on Friday. Enjoy a 16 oz. glass for $6.69 or a 60 oz. pitcher for $21.95 (plus GST).
URL:https://www.skicastle.ca/event/friday-night-live-music-presented-by-red-truck-beer-2/
LOCATION:Castle Mountain Resort\, AB\, T0K1W0\, Canada
CATEGORIES:Live Music
ORGANIZER;CN="Castle Mountain Resort":MAILTO:info@skicastle.ca
GEO:49.3191376;-114.412619
END:VEVENT
END:VCALENDAR