BEGIN:VCALENDAR
VERSION:2.0
PRODID:-//Castle Mountain Resort - ECPv6.15.20//NONSGML v1.0//EN
CALSCALE:GREGORIAN
METHOD:PUBLISH
X-WR-CALNAME:Castle Mountain Resort
X-ORIGINAL-URL:https://www.skicastle.ca
X-WR-CALDESC:Events for Castle Mountain Resort
REFRESH-INTERVAL;VALUE=DURATION:PT1H
X-Robots-Tag:noindex
X-PUBLISHED-TTL:PT1H
BEGIN:VTIMEZONE
TZID:America/Edmonton
BEGIN:DAYLIGHT
TZOFFSETFROM:-0700
TZOFFSETTO:-0600
TZNAME:MDT
DTSTART:20240310T090000
END:DAYLIGHT
BEGIN:STANDARD
TZOFFSETFROM:-0600
TZOFFSETTO:-0700
TZNAME:MST
DTSTART:20241103T080000
END:STANDARD
BEGIN:DAYLIGHT
TZOFFSETFROM:-0700
TZOFFSETTO:-0600
TZNAME:MDT
DTSTART:20250309T090000
END:DAYLIGHT
BEGIN:STANDARD
TZOFFSETFROM:-0600
TZOFFSETTO:-0700
TZNAME:MST
DTSTART:20251102T080000
END:STANDARD
BEGIN:DAYLIGHT
TZOFFSETFROM:-0700
TZOFFSETTO:-0600
TZNAME:MDT
DTSTART:20260308T090000
END:DAYLIGHT
BEGIN:STANDARD
TZOFFSETFROM:-0600
TZOFFSETTO:-0700
TZNAME:MST
DTSTART:20261101T080000
END:STANDARD
END:VTIMEZONE
BEGIN:VEVENT
DTSTART;TZID=America/Edmonton:20250102T103000
DTEND;TZID=America/Edmonton:20250104T153000
DTSTAMP:20260422T055948
CREATED:20241231T234641Z
LAST-MODIFIED:20241231T234641Z
UID:10000802-1735813800-1736004600@www.skicastle.ca
SUMMARY:3-DAY HOLIDAY CAMPS
DESCRIPTION:The holidays are a great opportunity to develop your children’s skills\, in addition to giving you a little bit of solo shredding time! \nDuring Christmas and Family Weeks\, we offer several 3 consecutive day camps\, with two hours of lessons in the AM\, and two hours in the PM\, for kids aged between 3 & 13 years. \nSuitable for all ability levels.
URL:https://www.skicastle.ca/event/3-day-holiday-camps/
LOCATION:Castle Mountain Resort\, AB\, T0K1W0\, Canada
CATEGORIES:Castle (Outdoors)
ATTACH;FMTTYPE=image/jpeg:https://www.skicastle.ca/wp-content/uploads/2024/12/Dec21-SkiSchool-18.jpg
ORGANIZER;CN="Castle Mountain Resort":MAILTO:info@skicastle.ca
GEO:49.3191376;-114.412619
END:VEVENT
BEGIN:VEVENT
DTSTART;TZID=America/Edmonton:20250103T210000
DTEND;TZID=America/Edmonton:20250103T233000
DTSTAMP:20260422T055948
CREATED:20241215T214533Z
LAST-MODIFIED:20241215T214534Z
UID:10000763-1735938000-1735947000@www.skicastle.ca
SUMMARY:FRIDAY NIGHT LIVE MUSIC PRESENTED BY RED TRUCK BEER
DESCRIPTION:Our Friday night live music series is back and better than ever\, thanks in part to a new partnership with Red Truck Beer Company. \nJoin us every Friday evening\, in the T-Bar Pub\, for a new musical artist. They’ll hit the stage each night\, starting at 9 PM. \nAlso\, Red Truck Draft on special ALL DAY: 16 oz for $6.69 (+gst) or a 60 oz pitcher for $21.95 (+gst)!
URL:https://www.skicastle.ca/event/friday-night-live-music-presented-by-red-truck-beer-5/
LOCATION:Castle Mountain Resort\, AB\, T0K1W0\, Canada
CATEGORIES:Live Music
ORGANIZER;CN="Castle Mountain Resort":MAILTO:info@skicastle.ca
GEO:49.3191376;-114.412619
END:VEVENT
END:VCALENDAR