BEGIN:VCALENDAR
VERSION:2.0
PRODID:-//Castle Mountain Resort - ECPv6.15.20//NONSGML v1.0//EN
CALSCALE:GREGORIAN
METHOD:PUBLISH
X-WR-CALNAME:Castle Mountain Resort
X-ORIGINAL-URL:https://www.skicastle.ca
X-WR-CALDESC:Events for Castle Mountain Resort
REFRESH-INTERVAL;VALUE=DURATION:PT1H
X-Robots-Tag:noindex
X-PUBLISHED-TTL:PT1H
BEGIN:VTIMEZONE
TZID:America/Edmonton
BEGIN:DAYLIGHT
TZOFFSETFROM:-0700
TZOFFSETTO:-0600
TZNAME:MDT
DTSTART:20240310T090000
END:DAYLIGHT
BEGIN:STANDARD
TZOFFSETFROM:-0600
TZOFFSETTO:-0700
TZNAME:MST
DTSTART:20241103T080000
END:STANDARD
BEGIN:DAYLIGHT
TZOFFSETFROM:-0700
TZOFFSETTO:-0600
TZNAME:MDT
DTSTART:20250309T090000
END:DAYLIGHT
BEGIN:STANDARD
TZOFFSETFROM:-0600
TZOFFSETTO:-0700
TZNAME:MST
DTSTART:20251102T080000
END:STANDARD
BEGIN:DAYLIGHT
TZOFFSETFROM:-0700
TZOFFSETTO:-0600
TZNAME:MDT
DTSTART:20260308T090000
END:DAYLIGHT
BEGIN:STANDARD
TZOFFSETFROM:-0600
TZOFFSETTO:-0700
TZNAME:MST
DTSTART:20261101T080000
END:STANDARD
END:VTIMEZONE
BEGIN:VEVENT
DTSTART;TZID=America/Edmonton:20250207T210000
DTEND;TZID=America/Edmonton:20250207T233000
DTSTAMP:20260422T062914
CREATED:20241216T212115Z
LAST-MODIFIED:20241216T212116Z
UID:10000768-1738962000-1738971000@www.skicastle.ca
SUMMARY:FRIDAY NIGHT LIVE MUSIC PRESENTED BY RED TRUCK BEER
DESCRIPTION:Our Friday night live music series is back and better than ever\, thanks in part to a new partnership with Red Truck Beer Company. \nJoin us every Friday evening\, in the T-Bar Pub\, for a new musical artist. They’ll hit the stage each night\, starting at 9 PM. \nAlso\, Red Truck Draft on special ALL DAY: 16 oz for $6.69 (+gst) or a 60 oz pitcher for $21.95 (+gst)!
URL:https://www.skicastle.ca/event/friday-night-live-music-presented-by-red-truck-beer-11/
LOCATION:Castle Mountain Resort\, AB\, T0K1W0\, Canada
CATEGORIES:Live Music
ORGANIZER;CN="Castle Mountain Resort":MAILTO:info@skicastle.ca
GEO:49.3191376;-114.412619
END:VEVENT
BEGIN:VEVENT
DTSTART;TZID=America/Edmonton:20250208T090000
DTEND;TZID=America/Edmonton:20250209T150000
DTSTAMP:20260422T062914
CREATED:20250106T001120Z
LAST-MODIFIED:20250106T001120Z
UID:10000814-1739005200-1739113200@www.skicastle.ca
SUMMARY:2-DAY CARV CAMP
DESCRIPTION:What happens when you meld top-notch\, in-person instruction with the power of the world’s most advanced piece of ski wearable technology? You get Castle Mountain Resort’s exclusive 2-Day CARV Camp\, suitable for skiers levels 4 & up. \nThis 2-day camp includes 2 full days of on-snow instruction from some of our highest ranking instructors and valuable information on how to use the brand new CARV 2 device. \nPlease note that this program is for skiers only. \nBOOK NOW through our website or call 1-888-SKI TONS (754-8667) extension 231 to speak to a Snow School expert!
URL:https://www.skicastle.ca/event/2-day-carv-camp/2025-02-08/
LOCATION:Castle Mountain Resort\, AB\, T0K1W0\, Canada
ATTACH;FMTTYPE=image/jpeg:https://www.skicastle.ca/wp-content/uploads/2025/01/CARV-Camp-Poster.jpg
ORGANIZER;CN="Castle Mountain Resort":MAILTO:info@skicastle.ca
GEO:49.3191376;-114.412619
END:VEVENT
END:VCALENDAR