BEGIN:VCALENDAR
VERSION:2.0
PRODID:-//Castle Mountain Resort - ECPv6.15.20//NONSGML v1.0//EN
CALSCALE:GREGORIAN
METHOD:PUBLISH
X-WR-CALNAME:Castle Mountain Resort
X-ORIGINAL-URL:https://www.skicastle.ca
X-WR-CALDESC:Events for Castle Mountain Resort
REFRESH-INTERVAL;VALUE=DURATION:PT1H
X-Robots-Tag:noindex
X-PUBLISHED-TTL:PT1H
BEGIN:VTIMEZONE
TZID:America/Edmonton
BEGIN:DAYLIGHT
TZOFFSETFROM:-0700
TZOFFSETTO:-0600
TZNAME:MDT
DTSTART:20240310T090000
END:DAYLIGHT
BEGIN:STANDARD
TZOFFSETFROM:-0600
TZOFFSETTO:-0700
TZNAME:MST
DTSTART:20241103T080000
END:STANDARD
BEGIN:DAYLIGHT
TZOFFSETFROM:-0700
TZOFFSETTO:-0600
TZNAME:MDT
DTSTART:20250309T090000
END:DAYLIGHT
BEGIN:STANDARD
TZOFFSETFROM:-0600
TZOFFSETTO:-0700
TZNAME:MST
DTSTART:20251102T080000
END:STANDARD
BEGIN:DAYLIGHT
TZOFFSETFROM:-0700
TZOFFSETTO:-0600
TZNAME:MDT
DTSTART:20260308T090000
END:DAYLIGHT
BEGIN:STANDARD
TZOFFSETFROM:-0600
TZOFFSETTO:-0700
TZNAME:MST
DTSTART:20261101T080000
END:STANDARD
END:VTIMEZONE
BEGIN:VEVENT
DTSTART;TZID=America/Edmonton:20250208T090000
DTEND;TZID=America/Edmonton:20250209T150000
DTSTAMP:20260422T060015
CREATED:20250106T001120Z
LAST-MODIFIED:20250106T001120Z
UID:10000814-1739005200-1739113200@www.skicastle.ca
SUMMARY:2-DAY CARV CAMP
DESCRIPTION:What happens when you meld top-notch\, in-person instruction with the power of the world’s most advanced piece of ski wearable technology? You get Castle Mountain Resort’s exclusive 2-Day CARV Camp\, suitable for skiers levels 4 & up. \nThis 2-day camp includes 2 full days of on-snow instruction from some of our highest ranking instructors and valuable information on how to use the brand new CARV 2 device. \nPlease note that this program is for skiers only. \nBOOK NOW through our website or call 1-888-SKI TONS (754-8667) extension 231 to speak to a Snow School expert!
URL:https://www.skicastle.ca/event/2-day-carv-camp/2025-02-08/
LOCATION:Castle Mountain Resort\, AB\, T0K1W0\, Canada
ATTACH;FMTTYPE=image/jpeg:https://www.skicastle.ca/wp-content/uploads/2025/01/CARV-Camp-Poster.jpg
ORGANIZER;CN="Castle Mountain Resort":MAILTO:info@skicastle.ca
GEO:49.3191376;-114.412619
END:VEVENT
BEGIN:VEVENT
DTSTART;TZID=America/Edmonton:20250212T210000
DTEND;TZID=America/Edmonton:20250212T210000
DTSTAMP:20260422T060015
CREATED:20250126T191137Z
LAST-MODIFIED:20250126T191137Z
UID:10000843-1739394000-1739394000@www.skicastle.ca
SUMMARY:DYNAMIC DUOS
DESCRIPTION:Grab your best friend/partner/ other half for a fun night of dressing up with your wildest pair costumes! \nFrom Barbie and Ken and Shrek and Donkey\, to peanut butter and jelly and Elphaba and Glinda\, dress up as an iconic duo and you and your bestie might just win a prize. \nParty starts at 9 PM. Best costume awarded at 10 PM. \nWe can’t wait to see your impressive\, funny and creative costumes!
URL:https://www.skicastle.ca/event/dynamic-duos/
LOCATION:Castle Mountain Resort\, AB\, T0K1W0\, Canada
CATEGORIES:Miscellaneous
ATTACH;FMTTYPE=image/jpeg:https://www.skicastle.ca/wp-content/uploads/2025/01/Dynamic-Duos-Poster.jpg
ORGANIZER;CN="Castle Mountain Resort":MAILTO:info@skicastle.ca
GEO:49.3191376;-114.412619
END:VEVENT
BEGIN:VEVENT
DTSTART;TZID=America/Edmonton:20250214T170000
DTEND;TZID=America/Edmonton:20250214T190000
DTSTAMP:20260422T060015
CREATED:20250125T195524Z
LAST-MODIFIED:20250213T203802Z
UID:10000841-1739552400-1739559600@www.skicastle.ca
SUMMARY:VALENTINE'S DAY: APRÈS SKI AND SPARKS
DESCRIPTION:Whether you’re looking for love or just a few new friends to hit the slopes with\, join us at T-Bar Pub for a round of après ski speed dating/friend-making! \nThe first 20 people to show up at T-Bar at 5pm on Valentine’s Day (February 14) will get to participate in our free event where you rotate through the group getting to know everyone. Talking points will be on the tables if needed. \nFollowing the mingling portion of the event\, each person will be given a piece of paper where they can write down any of the people they would like to keep getting to know. If the other person also put down your name\, you will be given contact information to continue the conversation sometime on the slopes! \nCome find your valentine from 5-7pm on Valentine’s Day!
URL:https://www.skicastle.ca/event/valentines-day-apres-ski-and-sparks/
LOCATION:Castle Mountain Resort\, AB\, T0K1W0\, Canada
CATEGORIES:Miscellaneous
ATTACH;FMTTYPE=image/jpeg:https://www.skicastle.ca/wp-content/uploads/2025/01/V-Day-Poster.jpg
ORGANIZER;CN="Castle Mountain Resort":MAILTO:info@skicastle.ca
GEO:49.3191376;-114.412619
END:VEVENT
BEGIN:VEVENT
DTSTART;TZID=America/Edmonton:20250214T210000
DTEND;TZID=America/Edmonton:20250214T233000
DTSTAMP:20260422T060015
CREATED:20250107T192350Z
LAST-MODIFIED:20250107T192350Z
UID:10000816-1739566800-1739575800@www.skicastle.ca
SUMMARY:FRIDAY NIGHT LIVE MUSIC PRESENTED BY RED TRUCK BEER
DESCRIPTION:Our Friday night live music series is back and better than ever\, thanks in part to a new partnership with Red Truck Beer Company. \nJoin us every Friday evening\, in the T-Bar Pub\, for a new musical artist. They’ll hit the stage each night\, starting at 9 PM. \nAlso\, Red Truck Draft on special ALL DAY: 16 oz for $6.69 (+gst) or a 60 oz pitcher for $21.95 (+gst)!
URL:https://www.skicastle.ca/event/friday-night-live-music-presented-by-red-truck-beer-17/
LOCATION:Castle Mountain Resort\, AB\, T0K1W0\, Canada
CATEGORIES:Live Music
ORGANIZER;CN="Castle Mountain Resort":MAILTO:info@skicastle.ca
GEO:49.3191376;-114.412619
END:VEVENT
END:VCALENDAR