BEGIN:VCALENDAR
VERSION:2.0
PRODID:-//Castle Mountain Resort - ECPv6.15.20//NONSGML v1.0//EN
CALSCALE:GREGORIAN
METHOD:PUBLISH
X-WR-CALNAME:Castle Mountain Resort
X-ORIGINAL-URL:https://www.skicastle.ca
X-WR-CALDESC:Events for Castle Mountain Resort
REFRESH-INTERVAL;VALUE=DURATION:PT1H
X-Robots-Tag:noindex
X-PUBLISHED-TTL:PT1H
BEGIN:VTIMEZONE
TZID:America/Edmonton
BEGIN:DAYLIGHT
TZOFFSETFROM:-0700
TZOFFSETTO:-0600
TZNAME:MDT
DTSTART:20240310T090000
END:DAYLIGHT
BEGIN:STANDARD
TZOFFSETFROM:-0600
TZOFFSETTO:-0700
TZNAME:MST
DTSTART:20241103T080000
END:STANDARD
BEGIN:DAYLIGHT
TZOFFSETFROM:-0700
TZOFFSETTO:-0600
TZNAME:MDT
DTSTART:20250309T090000
END:DAYLIGHT
BEGIN:STANDARD
TZOFFSETFROM:-0600
TZOFFSETTO:-0700
TZNAME:MST
DTSTART:20251102T080000
END:STANDARD
BEGIN:DAYLIGHT
TZOFFSETFROM:-0700
TZOFFSETTO:-0600
TZNAME:MDT
DTSTART:20260308T090000
END:DAYLIGHT
BEGIN:STANDARD
TZOFFSETFROM:-0600
TZOFFSETTO:-0700
TZNAME:MST
DTSTART:20261101T080000
END:STANDARD
END:VTIMEZONE
BEGIN:VEVENT
DTSTART;TZID=America/Edmonton:20250223T133000
DTEND;TZID=America/Edmonton:20250223T160000
DTSTAMP:20260422T055947
CREATED:20250105T222020Z
LAST-MODIFIED:20250105T222056Z
UID:10000807-1740317400-1740326400@www.skicastle.ca
SUMMARY:INTRO TO PARK DAY - ADULTS
DESCRIPTION:Want to learn the ropes in the park? This one’s for you! \nOur Intro to Park Day is the perfect way to get either yourself or your kids (14 years old or older) into hitting freestyle features. We’ll discuss the fundamentals of park\, in addition to hitting some easier features. \nThis afternoon lesson is suitable for skiers / riders levels 3 – 5. \nBOOK NOW or call 1-888-SKI TONS (754-8667) extension 231 to speak to a Snow School expert!
URL:https://www.skicastle.ca/event/intro-to-park-day-adults/
LOCATION:Castle Mountain Resort\, AB\, T0K1W0\, Canada
ATTACH;FMTTYPE=image/jpeg:https://www.skicastle.ca/wp-content/uploads/2025/01/Intro-to-Park-Photo.jpg
ORGANIZER;CN="Castle Mountain Resort":MAILTO:info@skicastle.ca
GEO:49.3191376;-114.412619
END:VEVENT
BEGIN:VEVENT
DTSTART;TZID=America/Edmonton:20250226T093000
DTEND;TZID=America/Edmonton:20250226T143000
DTSTAMP:20260422T055947
CREATED:20250105T233747Z
LAST-MODIFIED:20250105T234851Z
UID:10000812-1740562200-1740580200@www.skicastle.ca
SUMMARY:HIGH ALPINE - MEN'S
DESCRIPTION:A local favourite\, our High Alpine Days are sure to sell out. \nThis skier-only\, day long clinic\, is for already advanced skiers\, looking to hone their skills in Castle’s amazing\, yet sometimes harsh alpine environment. \nSuitable for skiers levels 4 – 5. \nBOOK NOW through our website or call 1-888-SKI TONS (754-8667) extension 231 to speak to a Snow School expert!
URL:https://www.skicastle.ca/event/high-alpine-mens/2025-02-26/
LOCATION:Castle Mountain Resort\, AB\, T0K1W0\, Canada
ATTACH;FMTTYPE=image/jpeg:https://www.skicastle.ca/wp-content/uploads/2025/01/High-Alpine-Poster.jpg
ORGANIZER;CN="Castle Mountain Resort":MAILTO:info@skicastle.ca
GEO:49.3191376;-114.412619
END:VEVENT
BEGIN:VEVENT
DTSTART;TZID=America/Edmonton:20250227T093000
DTEND;TZID=America/Edmonton:20250227T143000
DTSTAMP:20260422T055947
CREATED:20250105T234046Z
LAST-MODIFIED:20250105T234046Z
UID:10000811-1740648600-1740666600@www.skicastle.ca
SUMMARY:HIGH ALPINE - WOMEN'S
DESCRIPTION:A local favourite\, our High Alpine Days are sure to sell out. \nThis skier-only\, day long clinic\, is for already advanced skiers\, looking to hone their skills in Castle’s amazing\, yet sometimes harsh alpine environment. \nSuitable for skiers levels 4 – 5. \nBOOK NOW through our website or call 1-888-SKI TONS (754-8667) extension 231 to speak to a Snow School expert!
URL:https://www.skicastle.ca/event/high-alpine-womens/2025-02-27/
LOCATION:Castle Mountain Resort\, AB\, T0K1W0\, Canada
CATEGORIES:Castle (Outdoors)
ATTACH;FMTTYPE=image/jpeg:https://www.skicastle.ca/wp-content/uploads/2025/01/High-Alpine-Poster.jpg
ORGANIZER;CN="Castle Mountain Resort":MAILTO:info@skicastle.ca
GEO:49.3191376;-114.412619
END:VEVENT
BEGIN:VEVENT
DTSTART;TZID=America/Edmonton:20250228T210000
DTEND;TZID=America/Edmonton:20250228T233000
DTSTAMP:20260422T055947
CREATED:20241215T215248Z
LAST-MODIFIED:20250228T220452Z
UID:10000771-1740776400-1740785400@www.skicastle.ca
SUMMARY:FRIDAY NIGHT LIVE MUSIC PRESENTED BY RED TRUCK BEER
DESCRIPTION:Our Friday night live music series is back and better than ever\, thanks in part to a new partnership with Red Truck Beer Company. \nJoin us every Friday evening\, in the T-Bar Pub\, for a new musical artist. They’ll hit the stage each night\, starting at 9 PM. \nAlso\, Red Truck Draft on special ALL DAY: 16 oz for $6.69 (+gst) or a 60 oz pitcher for $21.95 (+gst)!
URL:https://www.skicastle.ca/event/friday-night-live-music-presented-by-red-truck-beer-7/
LOCATION:Castle Mountain Resort\, AB\, T0K1W0\, Canada
CATEGORIES:Live Music
ATTACH;FMTTYPE=image/jpeg:https://www.skicastle.ca/wp-content/uploads/2024/12/CAS-1.jpg
ORGANIZER;CN="Castle Mountain Resort":MAILTO:info@skicastle.ca
GEO:49.3191376;-114.412619
END:VEVENT
END:VCALENDAR