BEGIN:VCALENDAR
VERSION:2.0
PRODID:-//Castle Mountain Resort - ECPv6.15.20//NONSGML v1.0//EN
CALSCALE:GREGORIAN
METHOD:PUBLISH
X-ORIGINAL-URL:https://www.skicastle.ca
X-WR-CALDESC:Events for Castle Mountain Resort
REFRESH-INTERVAL;VALUE=DURATION:PT1H
X-Robots-Tag:noindex
X-PUBLISHED-TTL:PT1H
BEGIN:VTIMEZONE
TZID:America/Edmonton
BEGIN:DAYLIGHT
TZOFFSETFROM:-0700
TZOFFSETTO:-0600
TZNAME:MDT
DTSTART:20240310T090000
END:DAYLIGHT
BEGIN:STANDARD
TZOFFSETFROM:-0600
TZOFFSETTO:-0700
TZNAME:MST
DTSTART:20241103T080000
END:STANDARD
BEGIN:DAYLIGHT
TZOFFSETFROM:-0700
TZOFFSETTO:-0600
TZNAME:MDT
DTSTART:20250309T090000
END:DAYLIGHT
BEGIN:STANDARD
TZOFFSETFROM:-0600
TZOFFSETTO:-0700
TZNAME:MST
DTSTART:20251102T080000
END:STANDARD
BEGIN:DAYLIGHT
TZOFFSETFROM:-0700
TZOFFSETTO:-0600
TZNAME:MDT
DTSTART:20260308T090000
END:DAYLIGHT
BEGIN:STANDARD
TZOFFSETFROM:-0600
TZOFFSETTO:-0700
TZNAME:MST
DTSTART:20261101T080000
END:STANDARD
END:VTIMEZONE
BEGIN:VEVENT
DTSTART;TZID=America/Edmonton:20250315T090000
DTEND;TZID=America/Edmonton:20250316T150000
DTSTAMP:20260422T045233
CREATED:20250106T001120Z
LAST-MODIFIED:20250106T001120Z
UID:10000815-1742029200-1742137200@www.skicastle.ca
SUMMARY:2-DAY CARV CAMP
DESCRIPTION:What happens when you meld top-notch\, in-person instruction with the power of the world’s most advanced piece of ski wearable technology? You get Castle Mountain Resort’s exclusive 2-Day CARV Camp\, suitable for skiers levels 4 & up. \nThis 2-day camp includes 2 full days of on-snow instruction from some of our highest ranking instructors and valuable information on how to use the brand new CARV 2 device. \nPlease note that this program is for skiers only. \nBOOK NOW through our website or call 1-888-SKI TONS (754-8667) extension 231 to speak to a Snow School expert!
URL:https://www.skicastle.ca/event/2-day-carv-camp/2025-03-15/
LOCATION:Castle Mountain Resort\, AB\, T0K1W0\, Canada
ATTACH;FMTTYPE=image/jpeg:https://www.skicastle.ca/wp-content/uploads/2025/01/CARV-Camp-Poster.jpg
ORGANIZER;CN="Castle Mountain Resort":MAILTO:info@skicastle.ca
GEO:49.3191376;-114.412619
END:VEVENT
BEGIN:VEVENT
DTSTART;TZID=America/Edmonton:20250321T210000
DTEND;TZID=America/Edmonton:20250321T233000
DTSTAMP:20260422T045233
CREATED:20241229T030642Z
LAST-MODIFIED:20241229T030642Z
UID:10000798-1742590800-1742599800@www.skicastle.ca
SUMMARY:FRIDAY NIGHT LIVE MUSIC PRESENTED BY RED TRUCK BEER
DESCRIPTION:Our Friday night live music series is back and better than ever\, thanks in part to a new partnership with Red Truck Beer Company. \nJoin us every Friday evening\, in the T-Bar Pub\, for a new musical artist. They’ll hit the stage each night\, starting at 9 PM. \nAlso\, Red Truck Draft on special ALL DAY: 16 oz for $6.69 (+gst) or a 60 oz pitcher for $21.95 (+gst)!
URL:https://www.skicastle.ca/event/friday-night-live-music-presented-by-red-truck-beer-13/
LOCATION:Castle Mountain Resort\, AB\, T0K1W0\, Canada
CATEGORIES:Live Music
ORGANIZER;CN="Castle Mountain Resort":MAILTO:info@skicastle.ca
GEO:49.3191376;-114.412619
END:VEVENT
BEGIN:VEVENT
DTSTART;VALUE=DATE:20250322
DTEND;VALUE=DATE:20250324
DTSTAMP:20260422T045233
CREATED:20250126T233651Z
LAST-MODIFIED:20250126T233651Z
UID:10000846-1742612400-1742698799@www.skicastle.ca
SUMMARY:SUPERHERO DAY
DESCRIPTION:Never fear! Superhero Day is here. \nOn March 22\, dress up as your favourite superhero (or favourite villain) and shred the slopes like it’s Gotham. Or Asgard. Or Wakanda. Or wherever your favourite superhero is from!
URL:https://www.skicastle.ca/event/superhero-day/
LOCATION:Castle Mountain Resort\, AB\, T0K1W0\, Canada
CATEGORIES:Castle (Outdoors)
ATTACH;FMTTYPE=image/jpeg:https://www.skicastle.ca/wp-content/uploads/2025/01/Superhero-Day.jpg
ORGANIZER;CN="Castle Mountain Resort":MAILTO:info@skicastle.ca
GEO:49.3191376;-114.412619
END:VEVENT
BEGIN:VEVENT
DTSTART;TZID=America/Edmonton:20250322T080000
DTEND;TZID=America/Edmonton:20250322T163000
DTSTAMP:20260422T045233
CREATED:20170316T202448Z
LAST-MODIFIED:20250315T230603Z
UID:10000006-1742630400-1742661000@www.skicastle.ca
SUMMARY:TOM TATARYN WORLD'S LONGEST SLALOM RACE
DESCRIPTION:Castle Mountain Resort\, in conjunction with the Livingstone Ski Academy (LSA)\, is proud to present the Tom Tataryn World’s Longest Slalom Race. This is your opportunity to push yourself to compete in the longest slalom race in the WORLD! The race begins near the top of our lift serviced area and goes all the way down 2\,800 + vertical feet to the base. Should you finish you will have achieved an incredible feat you can take with you forever. Information is as follows:\n\nREGISTRATION –\n\n\n\n\nRegistration is $15 in advance of race day and for $20 on the day of\, should any spots remain available. Click the “Register Now” link to reserve your spot.\nPlease note that a bib deposit of $20 (CASH ONLY) must be paid upon check-in. This is to assist us with ensuring bibs come back to us. Once you return your bib your deposit will be returned.\n\nCATEGORIES –\n\nU12 (11 years of age and younger)\nU15 (12 – 14 years of age)\nU20 (15 – 19 years of age)\nU30 (20 – 29 years of age)\nU40 (30 – 39 years of age)\nU50 (40 – 49 years of age)\n50 + (50 years and older)\nThere will be a male and female category within each age categories\n\nSCHEDULE –\n\n8:00 AM – 10:00 AM\n\nDay of registration is available\, only if not already sold out\, at CMR Guest Services.\nPreviously registered participants can proceed to the Day Lodge stage\, where events staff will check you in\, accept your $20 bib deposit (CASH ONLY)\, and issue your bib.\n\n\n10:00 AM – 11:00 AM\n\nCourse inspection\n\nPractice running of the course is not permitted\nSlide into the course\, take a look\, and slide out\n\n\n\n\n11:00 AM\n\nRace start\n\nThere are no specific start times for competitors. All you need to do is show up to the start and complete your run\, prior to 1 PM\, to have your time eligible.\n\n\n\n\n1:00 PM\n\nCourse Closed\n\n\nAnytime before 4:00 PM\n\nBib return on the Day Lodge stage. We will happily trade you $20 for your bib!\n\n\n4:00 PM\n\nAwards (outside on the ATCO Community Stage)\n\n\n\n  \nFor a complete run down of event rules\, click here (PDF). \nAll proceeds from this event go to benefit the LSA (Livingstone Ski Academy). Thanks to the many LSA and Castle community volunteers who help make this event a reality! \nAll participants will be required to sign a release of liability\, waiver of claims\, assumption of risks and indemnity agreement before they will be permitted to participate. Please note that guests under the age of 18 must have a parent or legal guardian present to sign on their behalf. \nRegistration does not include a lift ticket. A valid lift ticket or season pass is required\, in addition to payment of the registration fee\, in order to participate.
URL:https://www.skicastle.ca/event/tom-tataryn-worlds-longest-slalom/
LOCATION:Castle Mountain Resort\, AB\, T0K1W0\, Canada
CATEGORIES:Castle (Outdoors),In the Community
ATTACH;FMTTYPE=image/jpeg:https://www.skicastle.ca/wp-content/uploads/2017/03/Digital-Posters-7.jpg
ORGANIZER;CN="Castle Mountain Resort":MAILTO:info@skicastle.ca
GEO:49.3191376;-114.412619
END:VEVENT
END:VCALENDAR