BEGIN:VCALENDAR
VERSION:2.0
PRODID:-//Castle Mountain Resort - ECPv6.15.20//NONSGML v1.0//EN
CALSCALE:GREGORIAN
METHOD:PUBLISH
X-WR-CALNAME:Castle Mountain Resort
X-ORIGINAL-URL:https://www.skicastle.ca
X-WR-CALDESC:Events for Castle Mountain Resort
REFRESH-INTERVAL;VALUE=DURATION:PT1H
X-Robots-Tag:noindex
X-PUBLISHED-TTL:PT1H
BEGIN:VTIMEZONE
TZID:America/Edmonton
BEGIN:DAYLIGHT
TZOFFSETFROM:-0700
TZOFFSETTO:-0600
TZNAME:MDT
DTSTART:20240310T090000
END:DAYLIGHT
BEGIN:STANDARD
TZOFFSETFROM:-0600
TZOFFSETTO:-0700
TZNAME:MST
DTSTART:20241103T080000
END:STANDARD
BEGIN:DAYLIGHT
TZOFFSETFROM:-0700
TZOFFSETTO:-0600
TZNAME:MDT
DTSTART:20250309T090000
END:DAYLIGHT
BEGIN:STANDARD
TZOFFSETFROM:-0600
TZOFFSETTO:-0700
TZNAME:MST
DTSTART:20251102T080000
END:STANDARD
BEGIN:DAYLIGHT
TZOFFSETFROM:-0700
TZOFFSETTO:-0600
TZNAME:MDT
DTSTART:20260308T090000
END:DAYLIGHT
BEGIN:STANDARD
TZOFFSETFROM:-0600
TZOFFSETTO:-0700
TZNAME:MST
DTSTART:20261101T080000
END:STANDARD
END:VTIMEZONE
BEGIN:VEVENT
DTSTART;TZID=America/Edmonton:20250404T210000
DTEND;TZID=America/Edmonton:20250404T233000
DTSTAMP:20260422T045004
CREATED:20241229T031847Z
LAST-MODIFIED:20250107T192721Z
UID:10000800-1743800400-1743809400@www.skicastle.ca
SUMMARY:FRIDAY NIGHT LIVE MUSIC PRESENTED BY RED TRUCK BEER
DESCRIPTION:Our Friday night live music series is back and better than ever\, thanks in part to a new partnership with Red Truck Beer Company. \nJoin us every Friday evening\, in the T-Bar Pub\, for a new musical artist. They’ll hit the stage each night\, starting at 9 PM. \nAlso\, Red Truck Draft on special ALL DAY: 16 oz for $6.69 (+gst) or a 60 oz pitcher for $21.95 (+gst)!
URL:https://www.skicastle.ca/event/friday-night-live-music-presented-by-red-truck-beer-15/
LOCATION:Castle Mountain Resort\, AB\, T0K1W0\, Canada
CATEGORIES:Live Music
ORGANIZER;CN="Castle Mountain Resort":MAILTO:info@skicastle.ca
GEO:49.3191376;-114.412619
END:VEVENT
BEGIN:VEVENT
DTSTART;TZID=America/Edmonton:20250405T120000
DTEND;TZID=America/Edmonton:20250405T150000
DTSTAMP:20260422T045004
CREATED:20250114T001319Z
LAST-MODIFIED:20250325T115557Z
UID:10000839-1743854400-1743865200@www.skicastle.ca
SUMMARY:PARTY IN THE PARK
DESCRIPTION:Music! Prizes! Cool Tricks! It’s a Party in the Park! \nCome on down to our Tumbleweed terrain park on Saturday\, April 5 from 12-3 PM to watch or practice some cool tricks with some great vibes. \n 
URL:https://www.skicastle.ca/event/party-in-the-park-2/
LOCATION:Castle Mountain Resort\, AB\, T0K1W0\, Canada
CATEGORIES:Castle (Outdoors)
ATTACH;FMTTYPE=image/jpeg:https://www.skicastle.ca/wp-content/uploads/2025/01/Digital-Posters-17.jpg
ORGANIZER;CN="Castle Mountain Resort":MAILTO:info@skicastle.ca
GEO:49.3191376;-114.412619
END:VEVENT
END:VCALENDAR