BEGIN:VCALENDAR
VERSION:2.0
PRODID:-//Castle Mountain Resort - ECPv6.15.20//NONSGML v1.0//EN
CALSCALE:GREGORIAN
METHOD:PUBLISH
X-ORIGINAL-URL:https://www.skicastle.ca
X-WR-CALDESC:Events for Castle Mountain Resort
REFRESH-INTERVAL;VALUE=DURATION:PT1H
X-Robots-Tag:noindex
X-PUBLISHED-TTL:PT1H
BEGIN:VTIMEZONE
TZID:America/Edmonton
BEGIN:DAYLIGHT
TZOFFSETFROM:-0700
TZOFFSETTO:-0600
TZNAME:MDT
DTSTART:20240310T090000
END:DAYLIGHT
BEGIN:STANDARD
TZOFFSETFROM:-0600
TZOFFSETTO:-0700
TZNAME:MST
DTSTART:20241103T080000
END:STANDARD
BEGIN:DAYLIGHT
TZOFFSETFROM:-0700
TZOFFSETTO:-0600
TZNAME:MDT
DTSTART:20250309T090000
END:DAYLIGHT
BEGIN:STANDARD
TZOFFSETFROM:-0600
TZOFFSETTO:-0700
TZNAME:MST
DTSTART:20251102T080000
END:STANDARD
BEGIN:DAYLIGHT
TZOFFSETFROM:-0700
TZOFFSETTO:-0600
TZNAME:MDT
DTSTART:20260308T090000
END:DAYLIGHT
BEGIN:STANDARD
TZOFFSETFROM:-0600
TZOFFSETTO:-0700
TZNAME:MST
DTSTART:20261101T080000
END:STANDARD
END:VTIMEZONE
BEGIN:VEVENT
DTSTART;TZID=America/Edmonton:20250911T160000
DTEND;TZID=America/Edmonton:20250911T200000
DTSTAMP:20260421T192036
CREATED:20240909T164649Z
LAST-MODIFIED:20250908T222236Z
UID:10000862-1757606400-1757620800@www.skicastle.ca
SUMMARY:THE DIVIDE 200
DESCRIPTION:The Divide 200 is Western Canada’s only 200 mile trail run. The race highlights many trails within the South Canadian Rockies region of Alberta\, including multiple sections of the Great Divide Trail. \nImportant dates / times can be found below: \n\nThursday\, September 11\, 2025\n\n4:00 PM – 8:00 PM – Racer Check-in\n5:30 PM – 7:00 PM – Welcome Dinner\n7:00 PM – Mandatory Racer Meeting\n8:00 PM – Volunteer Meeting\n\n\nFriday\, September 12\, 2025\n\n8:00 AM – Race Start\n\n\nTuesday\, September 16\, 2025\n\n12:00 PM – Race Ends – Final Cutoff\n5:00 PM – 7:00 PM – Awards and Post-Race Dinner
URL:https://www.skicastle.ca/event/the-divide-200/2025-09-11/
LOCATION:Castle Mountain Resort\, AB\, T0K1W0\, Canada
CATEGORIES:Castle (Outdoors)
ATTACH;FMTTYPE=image/jpeg:https://www.skicastle.ca/wp-content/uploads/2017/05/Summer-Solstice-2017.jpg
ORGANIZER;CN="Castle Mountain Resort":MAILTO:info@skicastle.ca
GEO:49.3191376;-114.412619
END:VEVENT
BEGIN:VEVENT
DTSTART;TZID=America/Edmonton:20250912T080000
DTEND;TZID=America/Edmonton:20250912T090000
DTSTAMP:20260421T192036
CREATED:20240909T164649Z
LAST-MODIFIED:20250908T222236Z
UID:10000863-1757664000-1757667600@www.skicastle.ca
SUMMARY:THE DIVIDE 200
DESCRIPTION:The Divide 200 is Western Canada’s only 200 mile trail run. The race highlights many trails within the South Canadian Rockies region of Alberta\, including multiple sections of the Great Divide Trail. \nImportant dates / times can be found below: \n\nThursday\, September 11\, 2025\n\n4:00 PM – 8:00 PM – Racer Check-in\n5:30 PM – 7:00 PM – Welcome Dinner\n7:00 PM – Mandatory Racer Meeting\n8:00 PM – Volunteer Meeting\n\n\nFriday\, September 12\, 2025\n\n8:00 AM – Race Start\n\n\nTuesday\, September 16\, 2025\n\n12:00 PM – Race Ends – Final Cutoff\n5:00 PM – 7:00 PM – Awards and Post-Race Dinner
URL:https://www.skicastle.ca/event/the-divide-200/2025-09-12/
LOCATION:Castle Mountain Resort\, AB\, T0K1W0\, Canada
CATEGORIES:Castle (Outdoors)
ATTACH;FMTTYPE=image/jpeg:https://www.skicastle.ca/wp-content/uploads/2017/05/Summer-Solstice-2017.jpg
ORGANIZER;CN="Castle Mountain Resort":MAILTO:info@skicastle.ca
GEO:49.3191376;-114.412619
END:VEVENT
BEGIN:VEVENT
DTSTART;TZID=America/Edmonton:20250913T063000
DTEND;TZID=America/Edmonton:20250913T183000
DTSTAMP:20260421T192036
CREATED:20210819T145952Z
LAST-MODIFIED:20250908T221355Z
UID:10000108-1757745000-1757788200@www.skicastle.ca
SUMMARY:CASTLE ALPINE TRAIL RACE
DESCRIPTION:Prepare yourself for an endurance race like no other with the Castle Alpine Trail Race hosted by Sinister Sports\, and taking place right here at Castle Mountain Resort. \nCastle Alpine Trail Race (let’s call it CAT\, OK?) combines wide open vistas\, rugged single track\, off-trail running\, and so much delicious climbing. While it isn’t an extraordinarily long race distance-wise\, CAT is like a schoolyard bully – it’s going to rough you up and doesn’t relent the whole day. \nThis is a classic trail run covering two mountain summits and one of the most serene alpine valleys in the region. Each stage starts and ends at Castle Mountain Resort\, so you don’t even really need a support crew – just park your kit in the staging area and do some quick transitions. Leg 1 runs clockwise\, Leg 2 counterclockwise\, and Leg 3 clockwise. \nRace details are as follows: \n\nFriday\, September 12\, 2025\n\n5:00 PM – 8:00 PM – Racer Check-in\n7:00 PM – Racer Meeting\n7:45 PM – Volunteer Meeting\n\n\n\n\nSaturday\, September 13\, 2025\n\n6:30 AM – 8:30 AM – Late check-in (by reservation only)\n9:00 AM – Race Start\n2:00 PM – Live Music\n5:00 PM to 6:00 PM – Dinner\n5:30 PM – Race Ends\n5:30 PM – Awards\n\n\n\nFor full details\, including a course map\, and how to register please click HERE. \n  \n 
URL:https://www.skicastle.ca/event/castle-alpine-trail-race/
LOCATION:Castle Mountain Resort\, AB\, T0K1W0\, Canada
CATEGORIES:Castle (Outdoors)
ATTACH;FMTTYPE=image/jpeg:https://www.skicastle.ca/wp-content/uploads/2021/08/Still-9.jpg
ORGANIZER;CN="Sinister Sports":MAILTO:racehq@sinistersports.ca
GEO:49.3191376;-114.412619
END:VEVENT
END:VCALENDAR