BEGIN:VCALENDAR
VERSION:2.0
PRODID:-//Castle Mountain Resort - ECPv6.15.20//NONSGML v1.0//EN
CALSCALE:GREGORIAN
METHOD:PUBLISH
X-ORIGINAL-URL:https://www.skicastle.ca
X-WR-CALDESC:Events for Castle Mountain Resort
REFRESH-INTERVAL;VALUE=DURATION:PT1H
X-Robots-Tag:noindex
X-PUBLISHED-TTL:PT1H
BEGIN:VTIMEZONE
TZID:America/Edmonton
BEGIN:DAYLIGHT
TZOFFSETFROM:-0700
TZOFFSETTO:-0600
TZNAME:MDT
DTSTART:20240310T090000
END:DAYLIGHT
BEGIN:STANDARD
TZOFFSETFROM:-0600
TZOFFSETTO:-0700
TZNAME:MST
DTSTART:20241103T080000
END:STANDARD
BEGIN:DAYLIGHT
TZOFFSETFROM:-0700
TZOFFSETTO:-0600
TZNAME:MDT
DTSTART:20250309T090000
END:DAYLIGHT
BEGIN:STANDARD
TZOFFSETFROM:-0600
TZOFFSETTO:-0700
TZNAME:MST
DTSTART:20251102T080000
END:STANDARD
BEGIN:DAYLIGHT
TZOFFSETFROM:-0700
TZOFFSETTO:-0600
TZNAME:MDT
DTSTART:20260308T090000
END:DAYLIGHT
BEGIN:STANDARD
TZOFFSETFROM:-0600
TZOFFSETTO:-0700
TZNAME:MST
DTSTART:20261101T080000
END:STANDARD
END:VTIMEZONE
BEGIN:VEVENT
DTSTART;TZID=America/Edmonton:20251026T100000
DTEND;TZID=America/Edmonton:20251026T160000
DTSTAMP:20260421T173614
CREATED:20201028T215820Z
LAST-MODIFIED:20251015T221658Z
UID:10000870-1761472800-1761494400@www.skicastle.ca
SUMMARY:CASTLE ON LOCATION (CALGARY SKI SALE)
DESCRIPTION:Catch Castle Mountain Resort staff at the annual Calgary Ski Sale\, at the Max Bell Arena. Season passes and WOW Cards will be available for sale and\, if you haven’t already received your season pass or direct-to-lift card in the mail\, our team will be happy to get that to you\, upon the signing of your release agreement / waiver\, and credit card authorization\, if applicable. Hours are as follows: \n\nFriday\, October 24 – 5:00 PM to 10:00 PM\nSaturday\, October 25 – 10:00 AM to 6:00 PM\nSunday\, October 26 – 10:00 AM to 4:00 PM\n\nNOTE: This event requires an entry fee. Please click here for complete event details.
URL:https://www.skicastle.ca/event/season-pass-dtl-card-printing-days-calgary/2025-10-26/
LOCATION:Max Bell Centre\, 1001 Barlow Trail SE\, Calgary\, Alberta\, T2E 6S2\, Canada
CATEGORIES:In the Community
ATTACH;FMTTYPE=image/jpeg:https://www.skicastle.ca/wp-content/uploads/2023/03/dronelogov2-scaled.jpg
ORGANIZER;CN="Castle Mountain Resort":MAILTO:info@skicastle.ca
GEO:51.0420777;-114.0042273
X-APPLE-STRUCTURED-LOCATION;VALUE=URI;X-ADDRESS=Max Bell Centre 1001 Barlow Trail SE Calgary Alberta T2E 6S2 Canada;X-APPLE-RADIUS=500;X-TITLE=1001 Barlow Trail SE:geo:-114.0042273,51.0420777
END:VEVENT
BEGIN:VEVENT
DTSTART;TZID=America/Edmonton:20251101T090000
DTEND;TZID=America/Edmonton:20251101T170000
DTSTAMP:20260421T173614
CREATED:20251029T215704Z
LAST-MODIFIED:20251029T215704Z
UID:10000873-1761987600-1762016400@www.skicastle.ca
SUMMARY:CASTLE ON LOCATION (ALPENLAND LETHBRIDGE)
DESCRIPTION:Catch Castle Mountain Resort staff on location\, at Alpenland – Lethbridge\, on Saturday\, November 1\, from 9 AM to 5 PM. Our team members will be happy to answer any questions you have\, especially about our new lift and terrain expansion. We’ll also have some free swag\, a sneak peek at our new trail map\, and would be happy to help you out with your digital waiver (required for all season pass holders or WOW direct-to-lift card holders). \nNote: Season passes and/or WOW DTL Cards will NOT be available for printing / pick-up at this event. Your pass or direct-to-lift card will be mailed to you\, provided you complete your digital release agreement / waiver prior to November 15. \n\n 
URL:https://www.skicastle.ca/event/castle-on-location-alpenland-lethbridge/
LOCATION:Alpenland Lethbridge\, 1202 3rd Ave S.\, Lethbridge\, AB\, T1J 0J9\, Canada
ATTACH;FMTTYPE=image/jpeg:https://www.skicastle.ca/wp-content/uploads/2023/03/dronelogov2-scaled.jpg
ORGANIZER;CN="Castle Mountain Resort":MAILTO:info@skicastle.ca
GEO:49.6960134;-112.8288274
X-APPLE-STRUCTURED-LOCATION;VALUE=URI;X-ADDRESS=Alpenland Lethbridge 1202 3rd Ave S. Lethbridge AB T1J 0J9 Canada;X-APPLE-RADIUS=500;X-TITLE=1202 3rd Ave S.:geo:-112.8288274,49.6960134
END:VEVENT
END:VCALENDAR