BEGIN:VCALENDAR
VERSION:2.0
PRODID:-//Castle Mountain Resort - ECPv6.15.20//NONSGML v1.0//EN
CALSCALE:GREGORIAN
METHOD:PUBLISH
X-ORIGINAL-URL:https://www.skicastle.ca
X-WR-CALDESC:Events for Castle Mountain Resort
REFRESH-INTERVAL;VALUE=DURATION:PT1H
X-Robots-Tag:noindex
X-PUBLISHED-TTL:PT1H
BEGIN:VTIMEZONE
TZID:America/Edmonton
BEGIN:DAYLIGHT
TZOFFSETFROM:-0700
TZOFFSETTO:-0600
TZNAME:MDT
DTSTART:20240310T090000
END:DAYLIGHT
BEGIN:STANDARD
TZOFFSETFROM:-0600
TZOFFSETTO:-0700
TZNAME:MST
DTSTART:20241103T080000
END:STANDARD
BEGIN:DAYLIGHT
TZOFFSETFROM:-0700
TZOFFSETTO:-0600
TZNAME:MDT
DTSTART:20250309T090000
END:DAYLIGHT
BEGIN:STANDARD
TZOFFSETFROM:-0600
TZOFFSETTO:-0700
TZNAME:MST
DTSTART:20251102T080000
END:STANDARD
BEGIN:DAYLIGHT
TZOFFSETFROM:-0700
TZOFFSETTO:-0600
TZNAME:MDT
DTSTART:20260308T090000
END:DAYLIGHT
BEGIN:STANDARD
TZOFFSETFROM:-0600
TZOFFSETTO:-0700
TZNAME:MST
DTSTART:20261101T080000
END:STANDARD
END:VTIMEZONE
BEGIN:VEVENT
DTSTART;TZID=America/Edmonton:20251205T090000
DTEND;TZID=America/Edmonton:20251205T160000
DTSTAMP:20260421T153727
CREATED:20241128T195703Z
LAST-MODIFIED:20251126T224100Z
UID:10000263-1764925200-1764950400@www.skicastle.ca
SUMMARY:OPENING WEEKEND FOOD BANK FUNDRAISER
DESCRIPTION:Ski or ride with us opening weekend and help us give back to those less fortunate\, in our area. For every visit over our opening weekend\, December 5 – 7\, Castle Mountain Resort will donate $1 to local food banks within our area\, to a maximum of $2500. Our friends at Co-op Pincher Creek have also agreed to match to our donation\, helping to amplify our impact! \nDonations will be split 50/50 between the Crowsnest Pass Food Bank and the Pincher Creek Food Bank. It doesn’t matter if you’re a season pass holder\, WOW Card holder\, or a ticket purchaser\, it all counts so come on out! \nGuests are encouraged to bring non-perishable goods to further amplify our impact. Any donated items will be forwarded onto the agencies above and can be dropped off at CMR Guest Services. \n 
URL:https://www.skicastle.ca/event/food-bank-fundraiser/2025-12-05/
LOCATION:Castle Mountain Resort\, AB\, T0K1W0\, Canada
CATEGORIES:Castle (Outdoors),In the Community
ATTACH;FMTTYPE=image/jpeg:https://www.skicastle.ca/wp-content/uploads/2024/11/2025-Opening-Weekend-Food-Bank-Fundraiser.jpg
ORGANIZER;CN="Castle Mountain Resort":MAILTO:info@skicastle.ca
GEO:49.3191376;-114.412619
END:VEVENT
BEGIN:VEVENT
DTSTART;TZID=America/Edmonton:20251205T210000
DTEND;TZID=America/Edmonton:20251205T233000
DTSTAMP:20260421T153727
CREATED:20241107T191505Z
LAST-MODIFIED:20251206T183236Z
UID:10000374-1764968400-1764977400@www.skicastle.ca
SUMMARY:BOARDERLINE PUB TAKEOVER
DESCRIPTION:Join the team from Boarderline Skate & Snow\, in Lethbridge\, as they take over the T-Bar Pub on Friday night\, December 5. There will be multiple snowboard themed movies being shown starting at 9 PM\, a toast to ULLR at 9:45 PM\, free prizes\, and DJ BMac Beats and DJ Spicy will take is into the wee hours of the morning\, starting at 10 PM. \nThis event has no cover charge.
URL:https://www.skicastle.ca/event/boarderline-pub-takeover/
LOCATION:Castle Mountain Resort\, AB\, T0K1W0\, Canada
CATEGORIES:Live Music,Miscellaneous
ATTACH;FMTTYPE=image/png:https://www.skicastle.ca/wp-content/uploads/2024/11/boaderline-pub-takeover.png
ORGANIZER;CN="Castle Mountain Resort":MAILTO:info@skicastle.ca
GEO:49.3191376;-114.412619
END:VEVENT
BEGIN:VEVENT
DTSTART;TZID=America/Edmonton:20251206T090000
DTEND;TZID=America/Edmonton:20251206T160000
DTSTAMP:20260421T153727
CREATED:20241128T195703Z
LAST-MODIFIED:20251126T224100Z
UID:10000875-1765011600-1765036800@www.skicastle.ca
SUMMARY:OPENING WEEKEND FOOD BANK FUNDRAISER
DESCRIPTION:Ski or ride with us opening weekend and help us give back to those less fortunate\, in our area. For every visit over our opening weekend\, December 5 – 7\, Castle Mountain Resort will donate $1 to local food banks within our area\, to a maximum of $2500. Our friends at Co-op Pincher Creek have also agreed to match to our donation\, helping to amplify our impact! \nDonations will be split 50/50 between the Crowsnest Pass Food Bank and the Pincher Creek Food Bank. It doesn’t matter if you’re a season pass holder\, WOW Card holder\, or a ticket purchaser\, it all counts so come on out! \nGuests are encouraged to bring non-perishable goods to further amplify our impact. Any donated items will be forwarded onto the agencies above and can be dropped off at CMR Guest Services. \n 
URL:https://www.skicastle.ca/event/food-bank-fundraiser/2025-12-06/
LOCATION:Castle Mountain Resort\, AB\, T0K1W0\, Canada
CATEGORIES:Castle (Outdoors),In the Community
ATTACH;FMTTYPE=image/jpeg:https://www.skicastle.ca/wp-content/uploads/2024/11/2025-Opening-Weekend-Food-Bank-Fundraiser.jpg
ORGANIZER;CN="Castle Mountain Resort":MAILTO:info@skicastle.ca
GEO:49.3191376;-114.412619
END:VEVENT
BEGIN:VEVENT
DTSTART;TZID=America/Edmonton:20251206T183000
DTEND;TZID=America/Edmonton:20251206T210000
DTSTAMP:20260421T153727
CREATED:20241119T165432Z
LAST-MODIFIED:20251119T234506Z
UID:10000378-1765045800-1765054800@www.skicastle.ca
SUMMARY:CMCA WARREN MILLER MOVIE NIGHT
DESCRIPTION:Come celebrate the start of the ski season with the CMCA’s 2nd annual Warren Miller Movie Night. \nBring on winter with Warren Miller! From big mountain lines and race gates to urban ski hills and unexpected destinations\, come along as we carve turns and find our crew—from California\, Colorado\, and New Hampshire to Austria\, British Columbia\, Finland\, and Scotland. Drop in with Olympians\, urban riders\, and local legends on the big screen this fall\, including Daron Rahlves\, Britta Winans\, Judd Henkes\, Sarka Panacochova\, Breezy Johnson\, Chris Rubens\, Juho Kilkki\, and more. Warren Miller’s SNO-CIETY is a celebration of the spirit of winter—wherever you ride and however you connect to the snow and the community around it. \nDate : December 6th 2025Location : Castle Mountain Resort Day LodgeTime : Doors open at 6:30 Movie starts at 7:00Entry: Receive at ticket at the door by donation \nBar will be open! \nThe CMCA would like to express its gratitude to Alpenland Ski & Sport\, Castle Mountain Resort\, McDonald’s\, Co-op Pincher Creek\, and Beaver Fever for their support of this event. \n \n 
URL:https://www.skicastle.ca/event/warren-millers-75-presented-by-the-cmca/
LOCATION:Castle Mountain Resort\, AB\, T0K1W0\, Canada
CATEGORIES:Day Lodge Event
ATTACH;FMTTYPE=image/jpeg:https://www.skicastle.ca/wp-content/uploads/2024/11/2025-CMCA-Warren-Miller-Movie-Night.jpg
GEO:49.3191376;-114.412619
END:VEVENT
END:VCALENDAR