BEGIN:VCALENDAR
VERSION:2.0
PRODID:-//Castle Mountain Resort - ECPv6.15.20//NONSGML v1.0//EN
CALSCALE:GREGORIAN
METHOD:PUBLISH
X-WR-CALNAME:Castle Mountain Resort
X-ORIGINAL-URL:https://www.skicastle.ca
X-WR-CALDESC:Events for Castle Mountain Resort
REFRESH-INTERVAL;VALUE=DURATION:PT1H
X-Robots-Tag:noindex
X-PUBLISHED-TTL:PT1H
BEGIN:VTIMEZONE
TZID:America/Edmonton
BEGIN:DAYLIGHT
TZOFFSETFROM:-0700
TZOFFSETTO:-0600
TZNAME:MDT
DTSTART:20240310T090000
END:DAYLIGHT
BEGIN:STANDARD
TZOFFSETFROM:-0600
TZOFFSETTO:-0700
TZNAME:MST
DTSTART:20241103T080000
END:STANDARD
BEGIN:DAYLIGHT
TZOFFSETFROM:-0700
TZOFFSETTO:-0600
TZNAME:MDT
DTSTART:20250309T090000
END:DAYLIGHT
BEGIN:STANDARD
TZOFFSETFROM:-0600
TZOFFSETTO:-0700
TZNAME:MST
DTSTART:20251102T080000
END:STANDARD
BEGIN:DAYLIGHT
TZOFFSETFROM:-0700
TZOFFSETTO:-0600
TZNAME:MDT
DTSTART:20260308T090000
END:DAYLIGHT
BEGIN:STANDARD
TZOFFSETFROM:-0600
TZOFFSETTO:-0700
TZNAME:MST
DTSTART:20261101T080000
END:STANDARD
BEGIN:DAYLIGHT
TZOFFSETFROM:-0700
TZOFFSETTO:-0600
TZNAME:MDT
DTSTART:20270314T090000
END:DAYLIGHT
BEGIN:STANDARD
TZOFFSETFROM:-0600
TZOFFSETTO:-0700
TZNAME:MST
DTSTART:20271107T080000
END:STANDARD
END:VTIMEZONE
BEGIN:VEVENT
DTSTART;TZID=America/Edmonton:20251230T180000
DTEND;TZID=America/Edmonton:20251230T200000
DTSTAMP:20260421T140025
CREATED:20251216T003842Z
LAST-MODIFIED:20251221T170816Z
UID:10000928-1767117600-1767124800@www.skicastle.ca
SUMMARY:FROSTY FRIENDS NEW YEAR PARTY
DESCRIPTION:Get ready for an evening of music\, dancing\, and creativity. Join us on December 30th\, 2025 from 6–8 PM\, in the Barnaby Room for a fun-filled kids party featuring dancing\, a hands-on craft station\, and a sweet treat waiting for you at the door. \nAges up to 17 welcome.\nChildren under 7 must be accompanied by an adult. \nAdmission: $10 \n 
URL:https://www.skicastle.ca/event/frosty-friends-new-year-party/
LOCATION:Castle Mountain Resort Daylodge\, PO Box 610\, Pincher Creek\, AB\, T0K1W0\, Canada
ATTACH;FMTTYPE=image/jpeg:https://www.skicastle.ca/wp-content/uploads/2025/12/Frosty-Friends-New-Year-Party-updated.jpg
ORGANIZER;CN="Castle Mountain Resort":MAILTO:info@skicastle.ca
GEO:49.319234;-114.415162
X-APPLE-STRUCTURED-LOCATION;VALUE=URI;X-ADDRESS=Castle Mountain Resort Daylodge PO Box 610 Pincher Creek AB T0K1W0 Canada;X-APPLE-RADIUS=500;X-TITLE=PO Box 610:geo:-114.415162,49.319234
END:VEVENT
BEGIN:VEVENT
DTSTART;TZID=America/Edmonton:20251231T170000
DTEND;TZID=America/Edmonton:20251231T200000
DTSTAMP:20260421T140025
CREATED:20241208T193721Z
LAST-MODIFIED:20251231T152240Z
UID:10000375-1767200400-1767211200@www.skicastle.ca
SUMMARY:UNITED RENTALS NIGHT SKIING ON GREEN
DESCRIPTION:Just because the sun has gone down doesn’t mean the fun has to! \nNight Skiing on Green is back and what better way to spend the holiday weekend then with family & friends skiing under the lights. Most runs accessible by the Green Chair will be open during this event. \nSpecial rates are in effect\, as follows: \nAdult (18 – 64) – $21.95  \nSenior (65 – 74) – $16.95 \nJunior (13 – 17) – $16.95 \nChild (6 – 12) – $8.95 \nWOW Card holders will save 50% off all rates above with Lake Louise Plus Card holders saving 20% off. Unrestricted pass holders enjoy complimentary access to the slopes for this special event\, as per usual! \n Tickets are available through the Snow School desk starting at 4:30 PM or from Guest Services prior to that time. Please note that these tickets are NOT available for online purchase (on-site only).
URL:https://www.skicastle.ca/event/united-rentals-night-skiing-on-green/
LOCATION:Castle Mountain Resort\, AB\, T0K1W0\, Canada
CATEGORIES:Castle (Outdoors)
ATTACH;FMTTYPE=image/jpeg:https://www.skicastle.ca/wp-content/uploads/2024/12/Night-Skiing.jpg
ORGANIZER;CN="Castle Mountain Resort":MAILTO:info@skicastle.ca
GEO:49.3191376;-114.412619
END:VEVENT
BEGIN:VEVENT
DTSTART;TZID=America/Edmonton:20251231T170000
DTEND;TZID=America/Edmonton:20251231T210000
DTSTAMP:20260421T140025
CREATED:20241228T210014Z
LAST-MODIFIED:20251221T183628Z
UID:10000930-1767200400-1767214800@www.skicastle.ca
SUMMARY:WING WEDNESDAY
DESCRIPTION:Join us every Wednesday night\, in the T-Bar Pub\, for wing night! Enjoy a 1/2 price order of wings\, with the purchase of a beverage\, from 5 PM onward\, every Wednesday night. \nDiscount applies to orders of bone-in chicken wings only. Please ask your server for details.
URL:https://www.skicastle.ca/event/wing-wednesday/2025-12-31/
LOCATION:Castle Mountain Resort\, AB\, T0K1W0\, Canada
CATEGORIES:Miscellaneous
ATTACH;FMTTYPE=image/jpeg:https://www.skicastle.ca/wp-content/uploads/2024/12/25-26-Wing-Wednesdays.jpg
ORGANIZER;CN="Castle Mountain Resort":MAILTO:info@skicastle.ca
GEO:49.3191376;-114.412619
END:VEVENT
BEGIN:VEVENT
DTSTART;TZID=America/Edmonton:20251231T201500
DTEND;TZID=America/Edmonton:20251231T203000
DTSTAMP:20260421T140025
CREATED:20211217T040722Z
LAST-MODIFIED:20251213T173110Z
UID:10000121-1767212100-1767213000@www.skicastle.ca
SUMMARY:NEW YEAR'S EVE FIREWORKS
DESCRIPTION:Join us for fireworks as we ring in the New Year! The fun happens at 8:15 PM with the fireworks being shot off from up on the mountain! \n  \nBig thank you to the Castle Mountain Community Association and the MD of Pincher Creek for making this happen! We couldn’t do this without you!
URL:https://www.skicastle.ca/event/new-years-eve-fireworks/
LOCATION:Castle Mountain Resort\, AB\, T0K1W0\, Canada
CATEGORIES:Castle (Outdoors)
ATTACH;FMTTYPE=image/jpeg:https://www.skicastle.ca/wp-content/uploads/2021/12/NYE-Fireworks.jpg
ORGANIZER;CN="Castle Mountain Resort":MAILTO:info@skicastle.ca
GEO:49.3191376;-114.412619
END:VEVENT
BEGIN:VEVENT
DTSTART;TZID=America/Edmonton:20251231T210000
DTEND;TZID=America/Edmonton:20251231T233000
DTSTAMP:20260421T140025
CREATED:20221114T234243Z
LAST-MODIFIED:20251121T184405Z
UID:10000146-1767214800-1767223800@www.skicastle.ca
SUMMARY:NEW YEAR'S EVE DAY LODGE PARTY
DESCRIPTION:Our New Year’s Eve Day Lodge Party is back! This year’s party is sure to rock as we end one year and ring in another – 2026! \nThe theme of this year’s event is “Gatsby After Dark”. The novel turns 100 this year so we’re bringing back the roaring 20’s (1920’s)\, with its glamorous dresses and men’s formal wear. \nOur performer for this year’s event is Kayla Williams & The Cover Brothers\, a powerhouse live band fronted by Western Canadian Music Awards “Pop Artist of the Year” nominee Kayla Williams. Known for their vibrant energy and dynamic stage presence\, this group brings a crowd-pleasing mix of ‘70s and ‘80s soft rock\, modern pop\, rock\, and a touch of country- ensuring something for every guest to love. \nTickets for this event are now available\, with the following options: \n\nGeneral Admission \n\nAdvance Purchase (until end of day on Monday\, Dec. 30) – $30 + GST\nDay of / at the door – $35 + GST\n\n\nVIP Admission (Advance Purchase Only) – $80 + GST\n\nVIP admission includes the following\n\nEarly entry\nA selection of Chef’s choice Hors D’oeuvres\nAssortment of desserts\nCoffee & tea\nChampagne toast at midnight\nExclusive access to Barnaby Room\nPrivate bar / bartender\n\n\n\n\n\nA limited number of tickets may be available at the door should this event not sell out in advance. \nVIP admission tickets provide access starting at 9 PM while general admission tickets provide access starting at 9:30 PM. \nThis is an 18+ event. Government issued ID will be required to gain access. Minors are NOT permitted.
URL:https://www.skicastle.ca/event/new-years-eve-day-lodge-party/
LOCATION:Castle Mountain Resort\, AB\, T0K1W0\, Canada
CATEGORIES:Day Lodge Event,Live Music
ATTACH;FMTTYPE=image/jpeg:https://www.skicastle.ca/wp-content/uploads/2022/11/NYE-Day-Lodge-Party-Poster-1.jpg
ORGANIZER;CN="Castle Mountain Resort":MAILTO:info@skicastle.ca
GEO:49.3191376;-114.412619
END:VEVENT
BEGIN:VEVENT
DTSTART;TZID=America/Edmonton:20260102T210000
DTEND;TZID=America/Edmonton:20260102T235900
DTSTAMP:20260421T140025
CREATED:20251222T222014Z
LAST-MODIFIED:20251222T222020Z
UID:10000897-1767387600-1767398340@www.skicastle.ca
SUMMARY:FRIDAY NIGHT LIVE MUSIC
DESCRIPTION:Our Friday night live music series is back! Join us every Friday evening\, in the T-Bar Pub\, for a new musical artist. They’ll hit the stage each night starting at 9 PM. \nAlso\, Red Truck Draft will be on special ALL DAY! \nAbout this week’s artist: \nPuttin’OnTheFoiL is a Kickass Rock and Roll Party band. We are mainly an original band but we also have 4 sets of covers. We are diverse. If you wanted to hear a Steve Earle/ Otis Redding tune we can do it. If you want to hear a Slayer/Metallica\ntune we’ll do it as well. We are ready for anything. Revelations 13:81 ” I felt the earth shake and heard thunder from the west. Darkness on man receded. All living things felt\, learned and understood. I’ve seen the future of Rock and that Rock is Puttin’OnTheFOiL “
URL:https://www.skicastle.ca/event/friday-night-live-music-5/
LOCATION:T-Bar Pub & Grub\, PO Box 610\, Pincher Creek\, AB\, T0K1W0\, Canada
CATEGORIES:Live Music
ATTACH;FMTTYPE=image/jpeg:https://www.skicastle.ca/wp-content/uploads/2025/12/Friday-Night-Live-Music-ft-Puttin-On-The-Foil.jpg
ORGANIZER;CN="Castle Mountain Resort":MAILTO:info@skicastle.ca
GEO:49.3181843;-114.4144166
X-APPLE-STRUCTURED-LOCATION;VALUE=URI;X-ADDRESS=T-Bar Pub & Grub PO Box 610 Pincher Creek AB T0K1W0 Canada;X-APPLE-RADIUS=500;X-TITLE=PO Box 610:geo:-114.4144166,49.3181843
END:VEVENT
BEGIN:VEVENT
DTSTART;TZID=America/Edmonton:20260103T180000
DTEND;TZID=America/Edmonton:20260103T210000
DTSTAMP:20260421T140025
CREATED:20251219T201223Z
LAST-MODIFIED:20251219T201229Z
UID:10000914-1767463200-1767474000@www.skicastle.ca
SUMMARY:SATURDAY NIGHT LIVE MUSIC
DESCRIPTION:You asked and we listened! We’re stoked to bring you\, for the first time ever\, live music every Saturday. Join us from 6–9 PM for an easy-listening performance\, featuring a new musical artist every week! \nAlso Stronghold Draft will be on special ALL DAY! \nAbout this week’s artist: \nLethbridge based Singer/Songwriter Jen Misura goes by Olson. She grew up in the wide-open fields of Manitoba\, where music was as much a part of the landscape as the prairie sky. Her journey has taken her across Canada—from coast to coast—each place and its people leaving a lasting imprint on her voice and her stories. Her songwriting blends folk roots with a timeless sense of place\, creating a sound that feels both personal and universal. Her debut EP titled Grounded produced by Paul Zacharias of Wheelhouse Sound will be released January 17\, 2026.
URL:https://www.skicastle.ca/event/saturday-night-live-music-5/
LOCATION:T-Bar Pub & Grub\, PO Box 610\, Pincher Creek\, AB\, T0K1W0\, Canada
CATEGORIES:Live Music
ATTACH;FMTTYPE=image/jpeg:https://www.skicastle.ca/wp-content/uploads/2025/12/Saturday-Night-Live-Music-olson.jpg
ORGANIZER;CN="Castle Mountain Resort":MAILTO:info@skicastle.ca
GEO:49.3181843;-114.4144166
X-APPLE-STRUCTURED-LOCATION;VALUE=URI;X-ADDRESS=T-Bar Pub & Grub PO Box 610 Pincher Creek AB T0K1W0 Canada;X-APPLE-RADIUS=500;X-TITLE=PO Box 610:geo:-114.4144166,49.3181843
END:VEVENT
END:VCALENDAR