BEGIN:VCALENDAR
VERSION:2.0
PRODID:-//Castle Mountain Resort - ECPv6.15.20//NONSGML v1.0//EN
CALSCALE:GREGORIAN
METHOD:PUBLISH
X-ORIGINAL-URL:https://www.skicastle.ca
X-WR-CALDESC:Events for Castle Mountain Resort
REFRESH-INTERVAL;VALUE=DURATION:PT1H
X-Robots-Tag:noindex
X-PUBLISHED-TTL:PT1H
BEGIN:VTIMEZONE
TZID:America/Edmonton
BEGIN:DAYLIGHT
TZOFFSETFROM:-0700
TZOFFSETTO:-0600
TZNAME:MDT
DTSTART:20250309T090000
END:DAYLIGHT
BEGIN:STANDARD
TZOFFSETFROM:-0600
TZOFFSETTO:-0700
TZNAME:MST
DTSTART:20251102T080000
END:STANDARD
BEGIN:DAYLIGHT
TZOFFSETFROM:-0700
TZOFFSETTO:-0600
TZNAME:MDT
DTSTART:20260308T090000
END:DAYLIGHT
BEGIN:STANDARD
TZOFFSETFROM:-0600
TZOFFSETTO:-0700
TZNAME:MST
DTSTART:20261101T080000
END:STANDARD
BEGIN:DAYLIGHT
TZOFFSETFROM:-0700
TZOFFSETTO:-0600
TZNAME:MDT
DTSTART:20270314T090000
END:DAYLIGHT
BEGIN:STANDARD
TZOFFSETFROM:-0600
TZOFFSETTO:-0700
TZNAME:MST
DTSTART:20271107T080000
END:STANDARD
END:VTIMEZONE
BEGIN:VEVENT
DTSTART;TZID=America/Edmonton:20260104T103000
DTEND;TZID=America/Edmonton:20260104T160000
DTSTAMP:20260421T123145
CREATED:20251222T194030Z
LAST-MODIFIED:20251222T194543Z
UID:10000945-1767522600-1767542400@www.skicastle.ca
SUMMARY:NEVER EVER DAYS
DESCRIPTION:Never Ever Days at Castle – Learn to Ski or Snowboard for Just $29.95!\nReady to try skiing or snowboarding for the very first time? Never Ever Days is the perfect introduction to winter sports\, and is designed specifically for first-time skiers and snowboarders\, of all ages\, looking to learn in a fun\, supportive environment. \nFor just $29.95 + GST\, participants receive: \n\nA half-day (2-hour) beginner lesson starting at 10:30 AM\nA full-day beginner area lift ticket (Green Chair ticket)\nFull-day equipment rental\n\nWHEN: Sunday\, January 4\, 2026\, starting at 10:30 AM \nImportant Information: \n\nPlease arrive 60–90 minutes before your lesson to allow time for equipment fitting and getting settled.\nThis offer is available for guests aged 5 and up.\nEquipment rentals include:\nSkiers: skis\, bindings\, boots\, poles\, and helmet\nSnowboarders: snowboard\, bindings\, boots\, and helmet\nParticipants must bring their own warm\, weatherproof outdoor clothing\, suitable for a full day on the snow.\n\nVisit https://nevereverdays.ca/ to book and/or to learn more.
URL:https://www.skicastle.ca/event/never-ever-days/
LOCATION:Castle Mountain Resort\, AB\, T0K1W0\, Canada
CATEGORIES:Castle (Outdoors)
ATTACH;FMTTYPE=image/jpeg:https://www.skicastle.ca/wp-content/uploads/2025/12/Never-Ever-Days.jpg
ORGANIZER;CN="Castle Mountain Resort":MAILTO:info@skicastle.ca
GEO:49.3191376;-114.412619
END:VEVENT
BEGIN:VEVENT
DTSTART;TZID=America/Edmonton:20260104T190000
DTEND;TZID=America/Edmonton:20260104T210000
DTSTAMP:20260421T123145
CREATED:20250113T013512Z
LAST-MODIFIED:20251221T181653Z
UID:10000834-1767553200-1767560400@www.skicastle.ca
SUMMARY:KARAOKE NIGHT
DESCRIPTION:Who’s ready to belt out some tunes? Karaoke has arrived at Castle Mountain Resort! \nGrab your friends and come to the T-Bar Pub for our Karaoke Night. Sing a song and cheer on your friends as they seek to achieve vocal greatness! \nThe fun begins at 7 PM.
URL:https://www.skicastle.ca/event/karaoke-night-4/
LOCATION:T-Bar Pub & Grub\, PO Box 610\, Pincher Creek\, AB\, T0K1W0\, Canada
CATEGORIES:Miscellaneous
ATTACH;FMTTYPE=image/jpeg:https://www.skicastle.ca/wp-content/uploads/2025/01/Karaoke-night-jan-4.jpg
ORGANIZER;CN="Castle Mountain Resort":MAILTO:info@skicastle.ca
GEO:49.3181843;-114.4144166
X-APPLE-STRUCTURED-LOCATION;VALUE=URI;X-ADDRESS=T-Bar Pub & Grub PO Box 610 Pincher Creek AB T0K1W0 Canada;X-APPLE-RADIUS=500;X-TITLE=PO Box 610:geo:-114.4144166,49.3181843
END:VEVENT
BEGIN:VEVENT
DTSTART;TZID=America/Edmonton:20260107T170000
DTEND;TZID=America/Edmonton:20260107T210000
DTSTAMP:20260421T123145
CREATED:20241228T210014Z
LAST-MODIFIED:20251221T183628Z
UID:10000931-1767805200-1767819600@www.skicastle.ca
SUMMARY:WING WEDNESDAY
DESCRIPTION:Join us every Wednesday night\, in the T-Bar Pub\, for wing night! Enjoy a 1/2 price order of wings\, with the purchase of a beverage\, from 5 PM onward\, every Wednesday night. \nDiscount applies to orders of bone-in chicken wings only. Please ask your server for details.
URL:https://www.skicastle.ca/event/wing-wednesday/2026-01-07/
LOCATION:Castle Mountain Resort\, AB\, T0K1W0\, Canada
CATEGORIES:Miscellaneous
ATTACH;FMTTYPE=image/jpeg:https://www.skicastle.ca/wp-content/uploads/2024/12/25-26-Wing-Wednesdays.jpg
ORGANIZER;CN="Castle Mountain Resort":MAILTO:info@skicastle.ca
GEO:49.3191376;-114.412619
END:VEVENT
BEGIN:VEVENT
DTSTART;TZID=America/Edmonton:20260109T160000
DTEND;TZID=America/Edmonton:20260109T170000
DTSTAMP:20260421T123145
CREATED:20161111T183407Z
LAST-MODIFIED:20260102T002123Z
UID:10000946-1767974400-1767978000@www.skicastle.ca
SUMMARY:CASTLE MOUNTAIN SKI MOUNTAINEERING RACES
DESCRIPTION:The Castle Mountain Resort Skimo Races are Jan 9-11\, 2026\, with the following event slated to occur: \n\nVertical race\n\n4:00PM on Friday\, January 9\, 2026\n\n\nSprint race\n\n1:00 PM on Saturday\, January 10\, 2026\n\n\nIndividual race\n\n10:00 AM on Sunday\, January 11\, 2026\n\n\n\nA registration desk in the Barnaby Room (formerly Joe’s Cafe) will be open daily for bib pick ups\, waivers\, snacks. Awards will take place at 3 PM\, on Sunday\, on the CMR Day Lodge stage. \nAthletes holding the annual 2026 Skimo Canada license do not pay the single event license fee. Athletes without the 2026 Skimo Canada annual license pay the single event license fee ($35.00). The single event license fee covers all three races over the weekend. License fees assist Skimo Canada with operational expenses. \nThe Castle races are the first stop on the 2026 Canada Cup Skimo Race circuit. \n 
URL:https://www.skicastle.ca/event/skimoraces/2026-01-09/
LOCATION:Castle Mountain Resort\, AB\, T0K1W0\, Canada
CATEGORIES:Castle (Outdoors)
ATTACH;FMTTYPE=image/jpeg:https://www.skicastle.ca/wp-content/uploads/2016/11/SKIMO-1.jpg
ORGANIZER;CN="SKIMO Canada":MAILTO:info@smcc.ski
GEO:49.3191376;-114.412619
END:VEVENT
BEGIN:VEVENT
DTSTART;TZID=America/Edmonton:20260109T210000
DTEND;TZID=America/Edmonton:20260109T235900
DTSTAMP:20260421T123145
CREATED:20251222T223401Z
LAST-MODIFIED:20251222T223404Z
UID:10000898-1767992400-1768003140@www.skicastle.ca
SUMMARY:FRIDAY NIGHT LIVE MUSIC
DESCRIPTION:Our Friday night live music series is back! Join us every Friday evening\, in the T-Bar Pub\, for a new musical artist. They’ll hit the stage each night starting at 9 PM. \nAlso\, Red Truck Draft will be on special ALL DAY! \nAbout this week’s artist: \nLani Folkard has spent much of her life entertaining crowds around Southern Alberta. Her smooth vocals with a powerhouse range\, acoustic guitar stylings\, and songwriting artistry leaves her audiences captivated. She and her bandmates all reside in the Crowsnest Pass and are sure to light up any stage with their mix of popular covers. Through their collective years of performing\, the band has mastered the art of crafting the perfect set list for their crowds and events.
URL:https://www.skicastle.ca/event/friday-night-live-music-6/
LOCATION:T-Bar Pub & Grub\, PO Box 610\, Pincher Creek\, AB\, T0K1W0\, Canada
CATEGORIES:Live Music
ATTACH;FMTTYPE=image/jpeg:https://www.skicastle.ca/wp-content/uploads/2025/12/Friday-Night-Live-Music-ft-Lani-Folkard.jpg
ORGANIZER;CN="Castle Mountain Resort":MAILTO:info@skicastle.ca
GEO:49.3181843;-114.4144166
X-APPLE-STRUCTURED-LOCATION;VALUE=URI;X-ADDRESS=T-Bar Pub & Grub PO Box 610 Pincher Creek AB T0K1W0 Canada;X-APPLE-RADIUS=500;X-TITLE=PO Box 610:geo:-114.4144166,49.3181843
END:VEVENT
BEGIN:VEVENT
DTSTART;TZID=America/Edmonton:20260110T130000
DTEND;TZID=America/Edmonton:20260110T170000
DTSTAMP:20260421T123145
CREATED:20161111T183407Z
LAST-MODIFIED:20260102T002123Z
UID:10000947-1768050000-1768064400@www.skicastle.ca
SUMMARY:CASTLE MOUNTAIN SKI MOUNTAINEERING RACES
DESCRIPTION:The Castle Mountain Resort Skimo Races are Jan 9-11\, 2026\, with the following event slated to occur: \n\nVertical race\n\n4:00PM on Friday\, January 9\, 2026\n\n\nSprint race\n\n1:00 PM on Saturday\, January 10\, 2026\n\n\nIndividual race\n\n10:00 AM on Sunday\, January 11\, 2026\n\n\n\nA registration desk in the Barnaby Room (formerly Joe’s Cafe) will be open daily for bib pick ups\, waivers\, snacks. Awards will take place at 3 PM\, on Sunday\, on the CMR Day Lodge stage. \nAthletes holding the annual 2026 Skimo Canada license do not pay the single event license fee. Athletes without the 2026 Skimo Canada annual license pay the single event license fee ($35.00). The single event license fee covers all three races over the weekend. License fees assist Skimo Canada with operational expenses. \nThe Castle races are the first stop on the 2026 Canada Cup Skimo Race circuit. \n 
URL:https://www.skicastle.ca/event/skimoraces/2026-01-10/
LOCATION:Castle Mountain Resort\, AB\, T0K1W0\, Canada
CATEGORIES:Castle (Outdoors)
ATTACH;FMTTYPE=image/jpeg:https://www.skicastle.ca/wp-content/uploads/2016/11/SKIMO-1.jpg
ORGANIZER;CN="SKIMO Canada":MAILTO:info@smcc.ski
GEO:49.3191376;-114.412619
END:VEVENT
BEGIN:VEVENT
DTSTART;TZID=America/Edmonton:20260110T180000
DTEND;TZID=America/Edmonton:20260110T210000
DTSTAMP:20260421T123145
CREATED:20251225T224752Z
LAST-MODIFIED:20251225T224800Z
UID:10000915-1768068000-1768078800@www.skicastle.ca
SUMMARY:SATURDAY NIGHT LIVE MUSIC
DESCRIPTION:You asked and we listened! We’re stoked to bring you\, for the first time ever\, live music every Saturday. Join us from 6–9 PM for an easy-listening performance\, featuring a new musical artist every week! \nAlso Stronghold Draft will be on special ALL DAY! \nAbout this week’s artist: \nIrene Poole is a captivating singer-songwriter and actor from Banff\, now based in Calgary. Her indie-folk melodies\, full of heart and inspired by nature\, have enchanted audiences across the Bow Valley.
URL:https://www.skicastle.ca/event/saturday-night-live-music-6/
LOCATION:T-Bar Pub & Grub\, PO Box 610\, Pincher Creek\, AB\, T0K1W0\, Canada
CATEGORIES:Live Music
ATTACH;FMTTYPE=image/jpeg:https://www.skicastle.ca/wp-content/uploads/2025/12/Saturday-Night-Live-Music-irene-poole.jpg
ORGANIZER;CN="Castle Mountain Resort":MAILTO:info@skicastle.ca
GEO:49.3181843;-114.4144166
X-APPLE-STRUCTURED-LOCATION;VALUE=URI;X-ADDRESS=T-Bar Pub & Grub PO Box 610 Pincher Creek AB T0K1W0 Canada;X-APPLE-RADIUS=500;X-TITLE=PO Box 610:geo:-114.4144166,49.3181843
END:VEVENT
END:VCALENDAR