BEGIN:VCALENDAR
VERSION:2.0
PRODID:-//Castle Mountain Resort - ECPv6.15.20//NONSGML v1.0//EN
CALSCALE:GREGORIAN
METHOD:PUBLISH
X-ORIGINAL-URL:https://www.skicastle.ca
X-WR-CALDESC:Events for Castle Mountain Resort
REFRESH-INTERVAL;VALUE=DURATION:PT1H
X-Robots-Tag:noindex
X-PUBLISHED-TTL:PT1H
BEGIN:VTIMEZONE
TZID:America/Edmonton
BEGIN:DAYLIGHT
TZOFFSETFROM:-0700
TZOFFSETTO:-0600
TZNAME:MDT
DTSTART:20250309T090000
END:DAYLIGHT
BEGIN:STANDARD
TZOFFSETFROM:-0600
TZOFFSETTO:-0700
TZNAME:MST
DTSTART:20251102T080000
END:STANDARD
BEGIN:DAYLIGHT
TZOFFSETFROM:-0700
TZOFFSETTO:-0600
TZNAME:MDT
DTSTART:20260308T090000
END:DAYLIGHT
BEGIN:STANDARD
TZOFFSETFROM:-0600
TZOFFSETTO:-0700
TZNAME:MST
DTSTART:20261101T080000
END:STANDARD
BEGIN:DAYLIGHT
TZOFFSETFROM:-0700
TZOFFSETTO:-0600
TZNAME:MDT
DTSTART:20270314T090000
END:DAYLIGHT
BEGIN:STANDARD
TZOFFSETFROM:-0600
TZOFFSETTO:-0700
TZNAME:MST
DTSTART:20271107T080000
END:STANDARD
END:VTIMEZONE
BEGIN:VEVENT
DTSTART;TZID=America/Edmonton:20260111T100000
DTEND;TZID=America/Edmonton:20260111T170000
DTSTAMP:20260421T140135
CREATED:20161111T183407Z
LAST-MODIFIED:20260102T002123Z
UID:10000948-1768125600-1768150800@www.skicastle.ca
SUMMARY:CASTLE MOUNTAIN SKI MOUNTAINEERING RACES
DESCRIPTION:The Castle Mountain Resort Skimo Races are Jan 9-11\, 2026\, with the following event slated to occur: \n\nVertical race\n\n4:00PM on Friday\, January 9\, 2026\n\n\nSprint race\n\n1:00 PM on Saturday\, January 10\, 2026\n\n\nIndividual race\n\n10:00 AM on Sunday\, January 11\, 2026\n\n\n\nA registration desk in the Barnaby Room (formerly Joe’s Cafe) will be open daily for bib pick ups\, waivers\, snacks. Awards will take place at 3 PM\, on Sunday\, on the CMR Day Lodge stage. \nAthletes holding the annual 2026 Skimo Canada license do not pay the single event license fee. Athletes without the 2026 Skimo Canada annual license pay the single event license fee ($35.00). The single event license fee covers all three races over the weekend. License fees assist Skimo Canada with operational expenses. \nThe Castle races are the first stop on the 2026 Canada Cup Skimo Race circuit. \n 
URL:https://www.skicastle.ca/event/skimoraces/2026-01-11/
LOCATION:Castle Mountain Resort\, AB\, T0K1W0\, Canada
CATEGORIES:Castle (Outdoors)
ATTACH;FMTTYPE=image/jpeg:https://www.skicastle.ca/wp-content/uploads/2016/11/SKIMO-1.jpg
ORGANIZER;CN="SKIMO Canada":MAILTO:info@smcc.ski
GEO:49.3191376;-114.412619
END:VEVENT
BEGIN:VEVENT
DTSTART;TZID=America/Edmonton:20260111T190000
DTEND;TZID=America/Edmonton:20260111T210000
DTSTAMP:20260421T140135
CREATED:20250113T005322Z
LAST-MODIFIED:20251221T223043Z
UID:10000824-1768158000-1768165200@www.skicastle.ca
SUMMARY:BINGO NIGHT
DESCRIPTION:It’s Bingo night at the T-Bar Pub! Enjoy a cozy atmosphere\, great drinks\, and test your luck! \nThe fun begins at 7 PM.
URL:https://www.skicastle.ca/event/bingo-night/
LOCATION:T-Bar Pub & Grub\, PO Box 610\, Pincher Creek\, AB\, T0K1W0\, Canada
CATEGORIES:Miscellaneous
ATTACH;FMTTYPE=image/jpeg:https://www.skicastle.ca/wp-content/uploads/2025/01/Bingo.jpg
ORGANIZER;CN="Castle Mountain Resort":MAILTO:info@skicastle.ca
GEO:49.3181843;-114.4144166
X-APPLE-STRUCTURED-LOCATION;VALUE=URI;X-ADDRESS=T-Bar Pub & Grub PO Box 610 Pincher Creek AB T0K1W0 Canada;X-APPLE-RADIUS=500;X-TITLE=PO Box 610:geo:-114.4144166,49.3181843
END:VEVENT
BEGIN:VEVENT
DTSTART;TZID=America/Edmonton:20260114T170000
DTEND;TZID=America/Edmonton:20260114T210000
DTSTAMP:20260421T140135
CREATED:20241228T210014Z
LAST-MODIFIED:20251221T183628Z
UID:10000932-1768410000-1768424400@www.skicastle.ca
SUMMARY:WING WEDNESDAY
DESCRIPTION:Join us every Wednesday night\, in the T-Bar Pub\, for wing night! Enjoy a 1/2 price order of wings\, with the purchase of a beverage\, from 5 PM onward\, every Wednesday night. \nDiscount applies to orders of bone-in chicken wings only. Please ask your server for details.
URL:https://www.skicastle.ca/event/wing-wednesday/2026-01-14/
LOCATION:Castle Mountain Resort\, AB\, T0K1W0\, Canada
CATEGORIES:Miscellaneous
ATTACH;FMTTYPE=image/jpeg:https://www.skicastle.ca/wp-content/uploads/2024/12/25-26-Wing-Wednesdays.jpg
ORGANIZER;CN="Castle Mountain Resort":MAILTO:info@skicastle.ca
GEO:49.3191376;-114.412619
END:VEVENT
BEGIN:VEVENT
DTSTART;TZID=America/Edmonton:20260114T190000
DTEND;TZID=America/Edmonton:20260114T210000
DTSTAMP:20260421T140135
CREATED:20260104T183012Z
LAST-MODIFIED:20260104T183012Z
UID:10000949-1768417200-1768424400@www.skicastle.ca
SUMMARY:CENTURY PARTY
DESCRIPTION:Time to get creative! Imagine yourself 50 years from now and dress the part – anything goes\, and the more imaginative\, the better. Think wrinkles\, gray hair\, bold outfits\, and your future vibe turned all the way up. Join us in the T-Bar from 7–9 PM!
URL:https://www.skicastle.ca/event/century-party/
LOCATION:Castle Mountain Resort\, AB\, T0K1W0\, Canada
CATEGORIES:Miscellaneous
ATTACH;FMTTYPE=image/jpeg:https://www.skicastle.ca/wp-content/uploads/2026/01/CENTURY-PARTY.jpg
ORGANIZER;CN="Castle Mountain Resort":MAILTO:info@skicastle.ca
GEO:49.3191376;-114.412619
END:VEVENT
BEGIN:VEVENT
DTSTART;TZID=America/Edmonton:20260116T210000
DTEND;TZID=America/Edmonton:20260116T235900
DTSTAMP:20260421T140135
CREATED:20251222T223623Z
LAST-MODIFIED:20251222T223627Z
UID:10000899-1768597200-1768607940@www.skicastle.ca
SUMMARY:FRIDAY NIGHT LIVE MUSIC
DESCRIPTION:Our Friday night live music series is back! Join us every Friday evening\, in the T-Bar Pub\, for a new musical artist. They’ll hit the stage each night starting at 9 PM. \nAlso\, Red Truck Draft will be on special ALL DAY! \nAbout this week’s artist: \nPicture yourself in a small town somewhere in Ireland\, when a group of local musicians start playing and singing some traditional tunes in the corner. They’re sitting around a few tables\, most likely with a few pints of Guinness within reach. Or\, maybe you’re strolling down the street in Glasgow or Inverness or anywhere else in Scotland and you’re drawn in by the sound of music and song emanating from a local pub. Or\, perhaps\, you’re somewhere in Atlantic Canada and you’ve stumbled on to an east coast kitchen party\, where local tunes are ringing out well into the evening. And\, what if you’re touring Cornwall in southeastern England and you hear a group of fishermen singing sea shanties! \nIf you envision yourself in one of these settings\, you’ll be hearing and singing along or tapping your feet to the music that you’ll find at a Celtic Routes concert or pub night. Celtic Routes – we’re excited and proud to be sharing the music\, songs and stories from the Celtic Nations!
URL:https://www.skicastle.ca/event/friday-night-live-music-7/
LOCATION:T-Bar Pub & Grub\, PO Box 610\, Pincher Creek\, AB\, T0K1W0\, Canada
CATEGORIES:Live Music
ATTACH;FMTTYPE=image/jpeg:https://www.skicastle.ca/wp-content/uploads/2025/12/Friday-Night-Live-Music-ft-Celtic-Routes.jpg
ORGANIZER;CN="Castle Mountain Resort":MAILTO:info@skicastle.ca
GEO:49.3181843;-114.4144166
X-APPLE-STRUCTURED-LOCATION;VALUE=URI;X-ADDRESS=T-Bar Pub & Grub PO Box 610 Pincher Creek AB T0K1W0 Canada;X-APPLE-RADIUS=500;X-TITLE=PO Box 610:geo:-114.4144166,49.3181843
END:VEVENT
BEGIN:VEVENT
DTSTART;TZID=America/Edmonton:20260117T090000
DTEND;TZID=America/Edmonton:20260117T150000
DTSTAMP:20260421T140135
CREATED:20260111T175115Z
LAST-MODIFIED:20260111T175306Z
UID:10000950-1768640400-1768662000@www.skicastle.ca
SUMMARY:AVALANCHE AWARENESS DAYS
DESCRIPTION:Come learn more about avalanches and how to stay safe from them at our Avalanche Awareness Days! \nFrom 9 AM to 3 PM\, visit the information booth in the Day Lodge. Stop by to enter the prize draw and chat with a patroller about careers in the avalanche world\, educational resources\, or just anything snow-related. \nUp at the top of Huckleberry\, you can check out snow profile demos happening every hour on the hour\, along with a transceiver demo and practice area where you can try out your rescue skills. \nThroughout the day\, head to the bottom of Whiskey Jack to catch avalanche dog demos and see these incredible dogs in action.
URL:https://www.skicastle.ca/event/avalanche-awareness-days/2026-01-17/
LOCATION:AB
ATTACH;FMTTYPE=image/jpeg:https://www.skicastle.ca/wp-content/uploads/2026/01/Avalanche-Awareness-Days-1.jpg
END:VEVENT
BEGIN:VEVENT
DTSTART;TZID=America/Edmonton:20260117T180000
DTEND;TZID=America/Edmonton:20260117T210000
DTSTAMP:20260421T140135
CREATED:20251226T191400Z
LAST-MODIFIED:20251226T191412Z
UID:10000916-1768672800-1768683600@www.skicastle.ca
SUMMARY:SATURDAY NIGHT LIVE MUSIC
DESCRIPTION:You asked and we listened! We’re stoked to bring you\, for the first time ever\, live music every Saturday. Join us from 6–9 PM for an easy-listening performance\, featuring a new musical artist every week! \nAlso Stronghold Draft will be on special ALL DAY! \nAbout this week’s artist: \nScarlett Dawn is a Calgary-based musician with a big love for sharing music that feels honest\, nostalgic\, and full of heart. She brings together influences from country\, folk\, indie\, oldies\, and rock with the occasional playful splash of metal\, creating a sound that’s both familiar and uniquely her own.
URL:https://www.skicastle.ca/event/saturday-night-live-music-9/
LOCATION:T-Bar Pub & Grub\, PO Box 610\, Pincher Creek\, AB\, T0K1W0\, Canada
CATEGORIES:Live Music
ATTACH;FMTTYPE=image/jpeg:https://www.skicastle.ca/wp-content/uploads/2025/12/Saturday-Night-Live-Music-SCARLETT-DAWN.jpg
ORGANIZER;CN="Castle Mountain Resort":MAILTO:info@skicastle.ca
GEO:49.3181843;-114.4144166
X-APPLE-STRUCTURED-LOCATION;VALUE=URI;X-ADDRESS=T-Bar Pub & Grub PO Box 610 Pincher Creek AB T0K1W0 Canada;X-APPLE-RADIUS=500;X-TITLE=PO Box 610:geo:-114.4144166,49.3181843
END:VEVENT
END:VCALENDAR