BEGIN:VCALENDAR
VERSION:2.0
PRODID:-//Castle Mountain Resort - ECPv6.15.20//NONSGML v1.0//EN
CALSCALE:GREGORIAN
METHOD:PUBLISH
X-WR-CALNAME:Castle Mountain Resort
X-ORIGINAL-URL:https://www.skicastle.ca
X-WR-CALDESC:Events for Castle Mountain Resort
REFRESH-INTERVAL;VALUE=DURATION:PT1H
X-Robots-Tag:noindex
X-PUBLISHED-TTL:PT1H
BEGIN:VTIMEZONE
TZID:America/Edmonton
BEGIN:DAYLIGHT
TZOFFSETFROM:-0700
TZOFFSETTO:-0600
TZNAME:MDT
DTSTART:20250309T090000
END:DAYLIGHT
BEGIN:STANDARD
TZOFFSETFROM:-0600
TZOFFSETTO:-0700
TZNAME:MST
DTSTART:20251102T080000
END:STANDARD
BEGIN:DAYLIGHT
TZOFFSETFROM:-0700
TZOFFSETTO:-0600
TZNAME:MDT
DTSTART:20260308T090000
END:DAYLIGHT
BEGIN:STANDARD
TZOFFSETFROM:-0600
TZOFFSETTO:-0700
TZNAME:MST
DTSTART:20261101T080000
END:STANDARD
BEGIN:DAYLIGHT
TZOFFSETFROM:-0700
TZOFFSETTO:-0600
TZNAME:MDT
DTSTART:20270314T090000
END:DAYLIGHT
BEGIN:STANDARD
TZOFFSETFROM:-0600
TZOFFSETTO:-0700
TZNAME:MST
DTSTART:20271107T080000
END:STANDARD
END:VTIMEZONE
BEGIN:VEVENT
DTSTART;TZID=America/Edmonton:20260118T090000
DTEND;TZID=America/Edmonton:20260118T150000
DTSTAMP:20260423T042358
CREATED:20260111T175115Z
LAST-MODIFIED:20260111T175306Z
UID:10000951-1768726800-1768748400@www.skicastle.ca
SUMMARY:AVALANCHE AWARENESS DAYS
DESCRIPTION:Come learn more about avalanches and how to stay safe from them at our Avalanche Awareness Days! \nFrom 9 AM to 3 PM\, visit the information booth in the Day Lodge. Stop by to enter the prize draw and chat with a patroller about careers in the avalanche world\, educational resources\, or just anything snow-related. \nUp at the top of Huckleberry\, you can check out snow profile demos happening every hour on the hour\, along with a transceiver demo and practice area where you can try out your rescue skills. \nThroughout the day\, head to the bottom of Whiskey Jack to catch avalanche dog demos and see these incredible dogs in action.
URL:https://www.skicastle.ca/event/avalanche-awareness-days/2026-01-18/
LOCATION:AB
ATTACH;FMTTYPE=image/jpeg:https://www.skicastle.ca/wp-content/uploads/2026/01/Avalanche-Awareness-Days-1.jpg
END:VEVENT
BEGIN:VEVENT
DTSTART;TZID=America/Edmonton:20260118T190000
DTEND;TZID=America/Edmonton:20260118T210000
DTSTAMP:20260423T042358
CREATED:20250113T010507Z
LAST-MODIFIED:20251221T185430Z
UID:10000831-1768762800-1768770000@www.skicastle.ca
SUMMARY:TRIVIA NIGHT
DESCRIPTION:You’ve been physically tested on the slopes but are you ready to test your mental capabilities at Trivia night?! \nGrab your team and come to the T-Bar Pub to break a mental sweat in this trivia pursuit of knowledge. Answer this week’s uniquely-themed questions for your chance to win awesome prizes and ultimate bragging rights! \nEvery Trivia Night features a different topic\, so join us for each night to learn more fascinating facts.  The fun begins at 7 PM.
URL:https://www.skicastle.ca/event/trivia-2/
LOCATION:T-Bar Pub & Grub\, PO Box 610\, Pincher Creek\, AB\, T0K1W0\, Canada
CATEGORIES:Miscellaneous
ATTACH;FMTTYPE=image/jpeg:https://www.skicastle.ca/wp-content/uploads/2025/01/Trivia-Night-Jan-18.jpg
ORGANIZER;CN="Castle Mountain Resort":MAILTO:info@skicastle.ca
GEO:49.3181843;-114.4144166
X-APPLE-STRUCTURED-LOCATION;VALUE=URI;X-ADDRESS=T-Bar Pub & Grub PO Box 610 Pincher Creek AB T0K1W0 Canada;X-APPLE-RADIUS=500;X-TITLE=PO Box 610:geo:-114.4144166,49.3181843
END:VEVENT
BEGIN:VEVENT
DTSTART;TZID=America/Edmonton:20260121T170000
DTEND;TZID=America/Edmonton:20260121T210000
DTSTAMP:20260423T042358
CREATED:20241228T210014Z
LAST-MODIFIED:20251221T183628Z
UID:10000933-1769014800-1769029200@www.skicastle.ca
SUMMARY:WING WEDNESDAY
DESCRIPTION:Join us every Wednesday night\, in the T-Bar Pub\, for wing night! Enjoy a 1/2 price order of wings\, with the purchase of a beverage\, from 5 PM onward\, every Wednesday night. \nDiscount applies to orders of bone-in chicken wings only. Please ask your server for details.
URL:https://www.skicastle.ca/event/wing-wednesday/2026-01-21/
LOCATION:Castle Mountain Resort\, AB\, T0K1W0\, Canada
CATEGORIES:Miscellaneous
ATTACH;FMTTYPE=image/jpeg:https://www.skicastle.ca/wp-content/uploads/2024/12/25-26-Wing-Wednesdays.jpg
ORGANIZER;CN="Castle Mountain Resort":MAILTO:info@skicastle.ca
GEO:49.3191376;-114.412619
END:VEVENT
BEGIN:VEVENT
DTSTART;TZID=America/Edmonton:20260123T210000
DTEND;TZID=America/Edmonton:20260123T235900
DTSTAMP:20260423T042358
CREATED:20251222T223755Z
LAST-MODIFIED:20251222T223759Z
UID:10000900-1769202000-1769212740@www.skicastle.ca
SUMMARY:FRIDAY NIGHT LIVE MUSIC
DESCRIPTION:Our Friday night live music series is back! Join us every Friday evening\, in the T-Bar Pub\, for a new musical artist. They’ll hit the stage each night starting at 9 PM. \nAlso\, Red Truck Draft will be on special ALL DAY! \nAbout this week’s artist: \nNevin Matheson is a singer/songwriter currently living in Calgary\, AB and offers a performance that will fill your cup and keep you wanting more!
URL:https://www.skicastle.ca/event/friday-night-live-music-8/
LOCATION:T-Bar Pub & Grub\, PO Box 610\, Pincher Creek\, AB\, T0K1W0\, Canada
CATEGORIES:Live Music
ATTACH;FMTTYPE=image/jpeg:https://www.skicastle.ca/wp-content/uploads/2025/12/Friday-Night-Live-Music-ft-Nevin-Matheson-Duo.jpg
ORGANIZER;CN="Castle Mountain Resort":MAILTO:info@skicastle.ca
GEO:49.3181843;-114.4144166
X-APPLE-STRUCTURED-LOCATION;VALUE=URI;X-ADDRESS=T-Bar Pub & Grub PO Box 610 Pincher Creek AB T0K1W0 Canada;X-APPLE-RADIUS=500;X-TITLE=PO Box 610:geo:-114.4144166,49.3181843
END:VEVENT
BEGIN:VEVENT
DTSTART;TZID=America/Edmonton:20260124T180000
DTEND;TZID=America/Edmonton:20260124T210000
DTSTAMP:20260423T042358
CREATED:20251225T225557Z
LAST-MODIFIED:20251225T225559Z
UID:10000917-1769277600-1769288400@www.skicastle.ca
SUMMARY:SATURDAY NIGHT LIVE MUSIC
DESCRIPTION:You asked and we listened! We’re stoked to bring you\, for the first time ever\, live music every Saturday. Join us from 6–9 PM for an easy-listening performance\, featuring a new musical artist every week! \nAlso Stronghold Draft will be on special ALL DAY! \nAbout this week’s artist: \nMusic isn’t just a talent- it’s her first love. Growing up with a deep connection to sound and storytelling and a voice that moves effortlessly between Rock\, Country and Pop. On stage she delivers a soulful emotion that pulls you in from the first note. Raw\, real and unforgettable. A multi genre blend of originals and covers.
URL:https://www.skicastle.ca/event/saturday-night-live-music-8/
LOCATION:T-Bar Pub & Grub\, PO Box 610\, Pincher Creek\, AB\, T0K1W0\, Canada
CATEGORIES:Live Music
ATTACH;FMTTYPE=image/jpeg:https://www.skicastle.ca/wp-content/uploads/2025/12/Saturday-Night-Live-Music-Jamie-Rain.jpg
ORGANIZER;CN="Castle Mountain Resort":MAILTO:info@skicastle.ca
GEO:49.3181843;-114.4144166
X-APPLE-STRUCTURED-LOCATION;VALUE=URI;X-ADDRESS=T-Bar Pub & Grub PO Box 610 Pincher Creek AB T0K1W0 Canada;X-APPLE-RADIUS=500;X-TITLE=PO Box 610:geo:-114.4144166,49.3181843
END:VEVENT
END:VCALENDAR