BEGIN:VCALENDAR
VERSION:2.0
PRODID:-//Castle Mountain Resort - ECPv6.15.20//NONSGML v1.0//EN
CALSCALE:GREGORIAN
METHOD:PUBLISH
X-ORIGINAL-URL:https://www.skicastle.ca
X-WR-CALDESC:Events for Castle Mountain Resort
REFRESH-INTERVAL;VALUE=DURATION:PT1H
X-Robots-Tag:noindex
X-PUBLISHED-TTL:PT1H
BEGIN:VTIMEZONE
TZID:America/Edmonton
BEGIN:DAYLIGHT
TZOFFSETFROM:-0700
TZOFFSETTO:-0600
TZNAME:MDT
DTSTART:20250309T090000
END:DAYLIGHT
BEGIN:STANDARD
TZOFFSETFROM:-0600
TZOFFSETTO:-0700
TZNAME:MST
DTSTART:20251102T080000
END:STANDARD
BEGIN:DAYLIGHT
TZOFFSETFROM:-0700
TZOFFSETTO:-0600
TZNAME:MDT
DTSTART:20260308T090000
END:DAYLIGHT
BEGIN:STANDARD
TZOFFSETFROM:-0600
TZOFFSETTO:-0700
TZNAME:MST
DTSTART:20261101T080000
END:STANDARD
BEGIN:DAYLIGHT
TZOFFSETFROM:-0700
TZOFFSETTO:-0600
TZNAME:MDT
DTSTART:20270314T090000
END:DAYLIGHT
BEGIN:STANDARD
TZOFFSETFROM:-0600
TZOFFSETTO:-0700
TZNAME:MST
DTSTART:20271107T080000
END:STANDARD
END:VTIMEZONE
BEGIN:VEVENT
DTSTART;TZID=America/Edmonton:20260201T190000
DTEND;TZID=America/Edmonton:20260201T210000
DTSTAMP:20260421T091604
CREATED:20250113T012402Z
LAST-MODIFIED:20251221T181926Z
UID:10000833-1769972400-1769979600@www.skicastle.ca
SUMMARY:KARAOKE NIGHT
DESCRIPTION:Who’s ready to belt out some tunes? Karaoke has arrived at Castle Mountain Resort! \nGrab your friends and come to the T-Bar Pub for our Karaoke Night. Sing a song and cheer on your friends as they seek to achieve vocal greatness! \nThe fun begins at 7 PM.
URL:https://www.skicastle.ca/event/karaoke-night-3/
LOCATION:T-Bar Pub & Grub\, PO Box 610\, Pincher Creek\, AB\, T0K1W0\, Canada
CATEGORIES:Miscellaneous
ATTACH;FMTTYPE=image/jpeg:https://www.skicastle.ca/wp-content/uploads/2025/01/karaoke-feb-1.jpg
ORGANIZER;CN="Castle Mountain Resort":MAILTO:info@skicastle.ca
GEO:49.3181843;-114.4144166
X-APPLE-STRUCTURED-LOCATION;VALUE=URI;X-ADDRESS=T-Bar Pub & Grub PO Box 610 Pincher Creek AB T0K1W0 Canada;X-APPLE-RADIUS=500;X-TITLE=PO Box 610:geo:-114.4144166,49.3181843
END:VEVENT
BEGIN:VEVENT
DTSTART;TZID=America/Edmonton:20260204T170000
DTEND;TZID=America/Edmonton:20260204T210000
DTSTAMP:20260421T091604
CREATED:20241228T210014Z
LAST-MODIFIED:20251221T183628Z
UID:10000935-1770224400-1770238800@www.skicastle.ca
SUMMARY:WING WEDNESDAY
DESCRIPTION:Join us every Wednesday night\, in the T-Bar Pub\, for wing night! Enjoy a 1/2 price order of wings\, with the purchase of a beverage\, from 5 PM onward\, every Wednesday night. \nDiscount applies to orders of bone-in chicken wings only. Please ask your server for details.
URL:https://www.skicastle.ca/event/wing-wednesday/2026-02-04/
LOCATION:Castle Mountain Resort\, AB\, T0K1W0\, Canada
CATEGORIES:Miscellaneous
ATTACH;FMTTYPE=image/jpeg:https://www.skicastle.ca/wp-content/uploads/2024/12/25-26-Wing-Wednesdays.jpg
ORGANIZER;CN="Castle Mountain Resort":MAILTO:info@skicastle.ca
GEO:49.3191376;-114.412619
END:VEVENT
BEGIN:VEVENT
DTSTART;TZID=America/Edmonton:20260206T210000
DTEND;TZID=America/Edmonton:20260206T235900
DTSTAMP:20260421T091604
CREATED:20260112T201116Z
LAST-MODIFIED:20260112T201119Z
UID:10000902-1770411600-1770422340@www.skicastle.ca
SUMMARY:FRIDAY NIGHT LIVE MUSIC
DESCRIPTION:Our Friday night live music series is back! Join us every Friday evening\, in the T-Bar Pub\, for a new musical artist. They’ll hit the stage each night starting at 9 PM. \nAlso\, Red Truck Draft will be on special ALL DAY! \nAbout this week’s artist: \nStubbs and The is a multi genre theatrical musical experience. A group of five hooligans performing eclectic music in over 10 different languages and stylings. Hailing from the small mountain town of Rossland\, BC. They’ve toured all of Canada and have been making their way through the Western Canadian festival circuit. Stubbs and The break all the boundaries by mixing genres with silliness and genuine authenticity! \n 
URL:https://www.skicastle.ca/event/friday-night-live-music-10/
LOCATION:T-Bar Pub & Grub\, PO Box 610\, Pincher Creek\, AB\, T0K1W0\, Canada
CATEGORIES:Live Music
ATTACH;FMTTYPE=image/jpeg:https://www.skicastle.ca/wp-content/uploads/2025/12/Friday-Night-Live-Music-Feb-6-.jpg
ORGANIZER;CN="Castle Mountain Resort":MAILTO:info@skicastle.ca
GEO:49.3181843;-114.4144166
X-APPLE-STRUCTURED-LOCATION;VALUE=URI;X-ADDRESS=T-Bar Pub & Grub PO Box 610 Pincher Creek AB T0K1W0 Canada;X-APPLE-RADIUS=500;X-TITLE=PO Box 610:geo:-114.4144166,49.3181843
END:VEVENT
BEGIN:VEVENT
DTSTART;TZID=America/Edmonton:20260207T180000
DTEND;TZID=America/Edmonton:20260207T193000
DTSTAMP:20260421T091604
CREATED:20230118T164802Z
LAST-MODIFIED:20260129T183524Z
UID:10000207-1770487200-1770492600@www.skicastle.ca
SUMMARY:TORCHLIGHT PARADE
DESCRIPTION:Our annual torchlight parade is back! Taking place Saturday\, February 7th\, the torchlight parade is a way to honour and celebrate the lives of our friends and Castle lovers that have passed away. \nThe torchlight parade involves taking a short ride up the lower portion of the T-Rex T-Bar (don’t forget a headlamp / flashlight) and then skiing down Whiskey Jack by the light of a flare. Guests are asked to arrive / meet at CMR’s Snow School desk no later than 6:30 PM. Loading on the T-Rex t-bar will take place starting at 6:45 PM with the parade to take place just after 7 PM. \nOnline registration is available at the link above. Last minute spots\, should they remain available\, will be available between 5 PM and 6 PM in our Snow School.  \nNOTE: A waiver must be completed by all participants\, or by a legal parent or guardian\, in the event that a participant is under the age of 18. Participant waivers will be sent via email\, immediately after your online purchase is complete. Guests without a completed waiver will NOT be able to participate.  \n 
URL:https://www.skicastle.ca/event/torchlight-parade/
LOCATION:Castle Mountain Resort\, AB\, T0K1W0\, Canada
CATEGORIES:Castle (Outdoors),In the Community
ATTACH;FMTTYPE=image/jpeg:https://www.skicastle.ca/wp-content/uploads/2023/01/Torchlight-Parade-1-1.jpg
ORGANIZER;CN="Castle Mountain Resort":MAILTO:info@skicastle.ca
GEO:49.3191376;-114.412619
END:VEVENT
BEGIN:VEVENT
DTSTART;TZID=America/Edmonton:20260207T180000
DTEND;TZID=America/Edmonton:20260207T210000
DTSTAMP:20260421T091604
CREATED:20260112T194708Z
LAST-MODIFIED:20260112T194711Z
UID:10000919-1770487200-1770498000@www.skicastle.ca
SUMMARY:SATURDAY NIGHT LIVE MUSIC
DESCRIPTION:You asked and we listened! We’re stoked to bring you\, for the first time ever\, live music every Saturday. Join us from 6–9 PM for an easy-listening performance\, featuring a new musical artist every week! \nAlso Stronghold Draft will be on special ALL DAY! \nAbout this week’s artist: \nWestern Canada’s dynamic singer-songwriter and acoustic entertainer who transforms any venue into an unforgettable musical experience. This isn’t your typical melodic acoustic performer. With a powerful 4½ octave vocal range and over 30 years of musical expertise\, Doug delivers energetic interactive acoustic shows that get entire crowds singing along.
URL:https://www.skicastle.ca/event/saturday-night-live-music-10/
LOCATION:T-Bar Pub & Grub\, PO Box 610\, Pincher Creek\, AB\, T0K1W0\, Canada
CATEGORIES:Live Music
ATTACH;FMTTYPE=image/jpeg:https://www.skicastle.ca/wp-content/uploads/2025/12/Saturday-Night-Live-Music-Feb-7.jpg
ORGANIZER;CN="Castle Mountain Resort":MAILTO:info@skicastle.ca
GEO:49.3181843;-114.4144166
X-APPLE-STRUCTURED-LOCATION;VALUE=URI;X-ADDRESS=T-Bar Pub & Grub PO Box 610 Pincher Creek AB T0K1W0 Canada;X-APPLE-RADIUS=500;X-TITLE=PO Box 610:geo:-114.4144166,49.3181843
END:VEVENT
END:VCALENDAR