BEGIN:VCALENDAR
VERSION:2.0
PRODID:-//Castle Mountain Resort - ECPv6.15.20//NONSGML v1.0//EN
CALSCALE:GREGORIAN
METHOD:PUBLISH
X-WR-CALNAME:Castle Mountain Resort
X-ORIGINAL-URL:https://www.skicastle.ca
X-WR-CALDESC:Events for Castle Mountain Resort
REFRESH-INTERVAL;VALUE=DURATION:PT1H
X-Robots-Tag:noindex
X-PUBLISHED-TTL:PT1H
BEGIN:VTIMEZONE
TZID:America/Edmonton
BEGIN:DAYLIGHT
TZOFFSETFROM:-0700
TZOFFSETTO:-0600
TZNAME:MDT
DTSTART:20250309T090000
END:DAYLIGHT
BEGIN:STANDARD
TZOFFSETFROM:-0600
TZOFFSETTO:-0700
TZNAME:MST
DTSTART:20251102T080000
END:STANDARD
BEGIN:DAYLIGHT
TZOFFSETFROM:-0700
TZOFFSETTO:-0600
TZNAME:MDT
DTSTART:20260308T090000
END:DAYLIGHT
BEGIN:STANDARD
TZOFFSETFROM:-0600
TZOFFSETTO:-0700
TZNAME:MST
DTSTART:20261101T080000
END:STANDARD
BEGIN:DAYLIGHT
TZOFFSETFROM:-0700
TZOFFSETTO:-0600
TZNAME:MDT
DTSTART:20270314T090000
END:DAYLIGHT
BEGIN:STANDARD
TZOFFSETFROM:-0600
TZOFFSETTO:-0700
TZNAME:MST
DTSTART:20271107T080000
END:STANDARD
END:VTIMEZONE
BEGIN:VEVENT
DTSTART;TZID=America/Edmonton:20260211T093000
DTEND;TZID=America/Edmonton:20260211T153000
DTSTAMP:20260421T105252
CREATED:20260211T003122Z
LAST-MODIFIED:20260211T003122Z
UID:10000954-1770802200-1770823800@www.skicastle.ca
SUMMARY:STAGECOACH EXPRESS GRAND OPENING
DESCRIPTION:Come one\, come all. Your Stagecoach has arrived! \nJoin us on Wednesday\, February 11\, for the Grand Opening of the Stagecoach Express – Castle’s first high-speed lift – with access to 20+ new trails for you to enjoy. First chair is scheduled for 9:30 AM after a brief ceremonial ribbon cutting.  \nWe look forward to seeing you here for this historic day!
URL:https://www.skicastle.ca/event/stagecoach-express-grand-opening/
LOCATION:Castle Mountain Resort\, AB\, T0K1W0\, Canada
CATEGORIES:Castle (Outdoors)
ATTACH;FMTTYPE=image/jpeg:https://www.skicastle.ca/wp-content/uploads/2026/02/20260209-February-9-Stagecoach-staff-day-NK-0359-RESIDE-scaled.jpg
ORGANIZER;CN="Castle Mountain Resort":MAILTO:info@skicastle.ca
GEO:49.3191376;-114.412619
END:VEVENT
BEGIN:VEVENT
DTSTART;TZID=America/Edmonton:20260211T170000
DTEND;TZID=America/Edmonton:20260211T210000
DTSTAMP:20260421T105252
CREATED:20241228T210014Z
LAST-MODIFIED:20251221T183628Z
UID:10000936-1770829200-1770843600@www.skicastle.ca
SUMMARY:WING WEDNESDAY
DESCRIPTION:Join us every Wednesday night\, in the T-Bar Pub\, for wing night! Enjoy a 1/2 price order of wings\, with the purchase of a beverage\, from 5 PM onward\, every Wednesday night. \nDiscount applies to orders of bone-in chicken wings only. Please ask your server for details.
URL:https://www.skicastle.ca/event/wing-wednesday/2026-02-11/
LOCATION:Castle Mountain Resort\, AB\, T0K1W0\, Canada
CATEGORIES:Miscellaneous
ATTACH;FMTTYPE=image/jpeg:https://www.skicastle.ca/wp-content/uploads/2024/12/25-26-Wing-Wednesdays.jpg
ORGANIZER;CN="Castle Mountain Resort":MAILTO:info@skicastle.ca
GEO:49.3191376;-114.412619
END:VEVENT
BEGIN:VEVENT
DTSTART;TZID=America/Edmonton:20260211T200000
DTEND;TZID=America/Edmonton:20260211T233000
DTSTAMP:20260421T105252
CREATED:20260131T191122Z
LAST-MODIFIED:20260131T191122Z
UID:10000953-1770840000-1770852600@www.skicastle.ca
SUMMARY:OPPOSITES ATTRACT PARTY
DESCRIPTION:Opposites don’t just attract – they party together. Join us at the T-Bar Pub for a themed night where you come dressed up as contrasting duos. Think day & night\, good & evil\, young & old. Dress bold\, get creative\, and let the fun begin!
URL:https://www.skicastle.ca/event/opposites-attract-party/
LOCATION:Castle Mountain Resort\, AB\, T0K1W0\, Canada
ATTACH;FMTTYPE=image/jpeg:https://www.skicastle.ca/wp-content/uploads/2026/01/Opposites-Attract-Party.jpg
ORGANIZER;CN="Castle Mountain Resort":MAILTO:info@skicastle.ca
GEO:49.3191376;-114.412619
END:VEVENT
BEGIN:VEVENT
DTSTART;TZID=America/Edmonton:20260213T183000
DTEND;TZID=America/Edmonton:20260213T210000
DTSTAMP:20260421T105252
CREATED:20260125T001203Z
LAST-MODIFIED:20260127T002248Z
UID:10000952-1771007400-1771016400@www.skicastle.ca
SUMMARY:60TH ANNIVERSARY COMMUNITY SOCIAL & FIRESIDE CHAT
DESCRIPTION:Join fellow community members for an evening of socializing and reminiscing\, in honour of 60 years of skiing at Castle / Westcastle\, in the Day Lodge.  \nIn addition to socializing\, a portion of the evening will be devoted to moderated\, fireside chat with multiple members of the CMR team who will share their thoughts / insights on the Stagecoach Express project\, and what lies ahead for CMR\, into the future. The Day Lodge bar will be open for the duration of the event with other special commemorative touches planned.  \nThis event is free to attend! No RSVP is required! \nWe want you to share your favourite Castle memories with us. Click here to upload photos which will be considered for our event slide show.
URL:https://www.skicastle.ca/event/60th-anniversary-community-social-fireside-chat/
LOCATION:Castle Mountain Resort\, AB\, T0K1W0\, Canada
CATEGORIES:Day Lodge Event
ATTACH;FMTTYPE=image/jpeg:https://www.skicastle.ca/wp-content/uploads/2026/01/60th-Anniversary-Community-Social-Fireside-Chat.jpg
ORGANIZER;CN="Castle Mountain Resort":MAILTO:info@skicastle.ca
GEO:49.3191376;-114.412619
END:VEVENT
BEGIN:VEVENT
DTSTART;TZID=America/Edmonton:20260213T210000
DTEND;TZID=America/Edmonton:20260213T235900
DTSTAMP:20260421T105252
CREATED:20260112T202702Z
LAST-MODIFIED:20260121T213345Z
UID:10000903-1771016400-1771027140@www.skicastle.ca
SUMMARY:FRIDAY NIGHT LIVE MUSIC
DESCRIPTION:Our Friday night live music series is back! Join us every Friday evening\, in the T-Bar Pub\, for a new musical artist. They’ll hit the stage each night starting at 9 PM. \nAlso\, Red Truck Draft will be on special ALL DAY! \nAbout this week’s artist: \nJuno Nominated and Internationally Recognized Singer/ Songwriter/ Slide Guitarist Sean Pinchin has been a steady presence on the Festival circuit for nearly 2 decades. Since his first performance in 2005 while opening for Sawyer Brown as Guitarist / 2nd Vocalist in a Gretchen Wilson Tribute band\, Sean had begun a regular pre – pandemic life on the road performing roughly 200 shows a year all through North America. Recording original music and creating beautifully constructed interpretations of classic Blues and Roots music since 2007\, he received a (2014) Maple Blues Nomination for Best New Artist\, his 2016 Release “Monkey Brain” received the Juno Nomination for Best Blues Album of the Year (2017) and he was recognized by the Toronto Blues Society as Semi Finalist for the Road to Memphis Challenge (2019). In (2020) Sean recorded guitar for the “Lily Pad Bop” by Splash’N Boots featuring Jill Barber which won the Juno Award for Best Children’s Album.
URL:https://www.skicastle.ca/event/friday-night-live-music-11/
LOCATION:T-Bar Pub & Grub\, PO Box 610\, Pincher Creek\, AB\, T0K1W0\, Canada
CATEGORIES:Live Music
ATTACH;FMTTYPE=image/jpeg:https://www.skicastle.ca/wp-content/uploads/2026/01/Friday-Night-Live-Music-Feb-13.jpg
ORGANIZER;CN="Castle Mountain Resort":MAILTO:info@skicastle.ca
GEO:49.3181843;-114.4144166
X-APPLE-STRUCTURED-LOCATION;VALUE=URI;X-ADDRESS=T-Bar Pub & Grub PO Box 610 Pincher Creek AB T0K1W0 Canada;X-APPLE-RADIUS=500;X-TITLE=PO Box 610:geo:-114.4144166,49.3181843
END:VEVENT
BEGIN:VEVENT
DTSTART;TZID=America/Edmonton:20260214T180000
DTEND;TZID=America/Edmonton:20260214T210000
DTSTAMP:20260421T105252
CREATED:20260112T194856Z
LAST-MODIFIED:20260112T194858Z
UID:10000920-1771092000-1771102800@www.skicastle.ca
SUMMARY:SATURDAY NIGHT LIVE MUSIC
DESCRIPTION:You asked and we listened! We’re stoked to bring you\, for the first time ever\, live music every Saturday. Join us from 6–9 PM for an easy-listening performance\, featuring a new musical artist every week! \nAlso Stronghold Draft will be on special ALL DAY! \nAbout this week’s artist: \nJose Luis (JL) brings a powerful blend of rock\, pop\, and Latin rhythms to the stage. With more than two decades of performing across North and South America\, he delivers a vibrant\, crowd-pleasing experience featuring a vast repertoire that spans from Chuck Berry to The Weekend — making his show the perfect fit for an unforgettable night at the T-Bar.
URL:https://www.skicastle.ca/event/saturday-night-live-music-11/
LOCATION:T-Bar Pub & Grub\, PO Box 610\, Pincher Creek\, AB\, T0K1W0\, Canada
CATEGORIES:Live Music
ATTACH;FMTTYPE=image/jpeg:https://www.skicastle.ca/wp-content/uploads/2025/12/Saturday-Night-Live-Music-Feb-14.jpg
ORGANIZER;CN="Castle Mountain Resort":MAILTO:info@skicastle.ca
GEO:49.3181843;-114.4144166
X-APPLE-STRUCTURED-LOCATION;VALUE=URI;X-ADDRESS=T-Bar Pub & Grub PO Box 610 Pincher Creek AB T0K1W0 Canada;X-APPLE-RADIUS=500;X-TITLE=PO Box 610:geo:-114.4144166,49.3181843
END:VEVENT
BEGIN:VEVENT
DTSTART;TZID=America/Edmonton:20260214T180000
DTEND;TZID=America/Edmonton:20260214T220000
DTSTAMP:20260421T105252
CREATED:20250118T184248Z
LAST-MODIFIED:20260204T173043Z
UID:10000840-1771092000-1771106400@www.skicastle.ca
SUMMARY:CMCA CARNIVAL NIGHT
DESCRIPTION:Join us for an evening of fun from 6 PM to 10 PM in the Castle Mountain Resort Day Lodge! Enjoy free entry to this family-friendly carnival night which will host tons of games\, amazing raffle prizes\, and plenty of entertainment for all ages. Each game will cost $1 to play. \n🧥 Free coat check while you enjoy all the carnival magic. \nDon’t miss this chance to make lasting memories on Family Day weekend – see you there!
URL:https://www.skicastle.ca/event/cmca-carnival/
LOCATION:Castle Mountain Resort\, AB\, T0K1W0\, Canada
CATEGORIES:Day Lodge Event,In the Community
ATTACH;FMTTYPE=image/jpeg:https://www.skicastle.ca/wp-content/uploads/2025/01/CMCA-Carnival.jpg
ORGANIZER;CN="Castle Mountain Resort":MAILTO:info@skicastle.ca
GEO:49.3191376;-114.412619
END:VEVENT
END:VCALENDAR