BEGIN:VCALENDAR
VERSION:2.0
PRODID:-//Castle Mountain Resort - ECPv6.15.20//NONSGML v1.0//EN
CALSCALE:GREGORIAN
METHOD:PUBLISH
X-ORIGINAL-URL:https://www.skicastle.ca
X-WR-CALDESC:Events for Castle Mountain Resort
REFRESH-INTERVAL;VALUE=DURATION:PT1H
X-Robots-Tag:noindex
X-PUBLISHED-TTL:PT1H
BEGIN:VTIMEZONE
TZID:America/Edmonton
BEGIN:DAYLIGHT
TZOFFSETFROM:-0700
TZOFFSETTO:-0600
TZNAME:MDT
DTSTART:20250309T090000
END:DAYLIGHT
BEGIN:STANDARD
TZOFFSETFROM:-0600
TZOFFSETTO:-0700
TZNAME:MST
DTSTART:20251102T080000
END:STANDARD
BEGIN:DAYLIGHT
TZOFFSETFROM:-0700
TZOFFSETTO:-0600
TZNAME:MDT
DTSTART:20260308T090000
END:DAYLIGHT
BEGIN:STANDARD
TZOFFSETFROM:-0600
TZOFFSETTO:-0700
TZNAME:MST
DTSTART:20261101T080000
END:STANDARD
BEGIN:DAYLIGHT
TZOFFSETFROM:-0700
TZOFFSETTO:-0600
TZNAME:MDT
DTSTART:20270314T090000
END:DAYLIGHT
BEGIN:STANDARD
TZOFFSETFROM:-0600
TZOFFSETTO:-0700
TZNAME:MST
DTSTART:20271107T080000
END:STANDARD
END:VTIMEZONE
BEGIN:VEVENT
DTSTART;TZID=America/Edmonton:20260301T080000
DTEND;TZID=America/Edmonton:20260301T170000
DTSTAMP:20260421T073554
CREATED:20260220T214150Z
LAST-MODIFIED:20260223T010919Z
UID:10000958-1772352000-1772384400@www.skicastle.ca
SUMMARY:WILD WEST SNOWDOWN
DESCRIPTION:The Wild West Snowdown Club Competition is a Mogul and Slopestyle competition. All club-level athletes in the ‘learn to train’ phase of their development are encouraged to compete at this fun\, skill-building event. The competition includes age categories U12 through U16.
URL:https://www.skicastle.ca/event/wild-west-snowdown/2026-03-01/
LOCATION:Castle Mountain Resort\, AB\, T0K1W0\, Canada
ATTACH;FMTTYPE=image/jpeg:https://www.skicastle.ca/wp-content/uploads/2026/02/Wild-West-Snowdown.jpg
GEO:49.3191376;-114.412619
END:VEVENT
BEGIN:VEVENT
DTSTART;TZID=America/Edmonton:20260304T170000
DTEND;TZID=America/Edmonton:20260304T210000
DTSTAMP:20260421T073554
CREATED:20241228T210014Z
LAST-MODIFIED:20251221T183628Z
UID:10000939-1772643600-1772658000@www.skicastle.ca
SUMMARY:WING WEDNESDAY
DESCRIPTION:Join us every Wednesday night\, in the T-Bar Pub\, for wing night! Enjoy a 1/2 price order of wings\, with the purchase of a beverage\, from 5 PM onward\, every Wednesday night. \nDiscount applies to orders of bone-in chicken wings only. Please ask your server for details.
URL:https://www.skicastle.ca/event/wing-wednesday/2026-03-04/
LOCATION:Castle Mountain Resort\, AB\, T0K1W0\, Canada
CATEGORIES:Miscellaneous
ATTACH;FMTTYPE=image/jpeg:https://www.skicastle.ca/wp-content/uploads/2024/12/25-26-Wing-Wednesdays.jpg
ORGANIZER;CN="Castle Mountain Resort":MAILTO:info@skicastle.ca
GEO:49.3191376;-114.412619
END:VEVENT
BEGIN:VEVENT
DTSTART;TZID=America/Edmonton:20260306T210000
DTEND;TZID=America/Edmonton:20260306T235900
DTSTAMP:20260421T073554
CREATED:20260221T221149Z
LAST-MODIFIED:20260221T221152Z
UID:10000906-1772830800-1772841540@www.skicastle.ca
SUMMARY:FRIDAY NIGHT LIVE MUSIC
DESCRIPTION:Our Friday night live music series is back! Join us every Friday evening\, in the T-Bar Pub\, for a new musical artist. They’ll hit the stage each night starting at 9 PM. \nAlso\, Red Truck Draft will be on special ALL DAY! \nAbout this week’s artist: \nStretch & Tripp are an alt – country duo from Southern Alberta. Known for their harmonies and feel-good sound each show is a journey into the soundscape of new/old country hits and originals.
URL:https://www.skicastle.ca/event/friday-night-live-music-14/
LOCATION:T-Bar Pub & Grub\, PO Box 610\, Pincher Creek\, AB\, T0K1W0\, Canada
CATEGORIES:Live Music
ATTACH;FMTTYPE=image/jpeg:https://www.skicastle.ca/wp-content/uploads/2025/12/Friday-Night-Live-Music-Mar-6.jpg
ORGANIZER;CN="Castle Mountain Resort":MAILTO:info@skicastle.ca
GEO:49.3181843;-114.4144166
X-APPLE-STRUCTURED-LOCATION;VALUE=URI;X-ADDRESS=T-Bar Pub & Grub PO Box 610 Pincher Creek AB T0K1W0 Canada;X-APPLE-RADIUS=500;X-TITLE=PO Box 610:geo:-114.4144166,49.3181843
END:VEVENT
BEGIN:VEVENT
DTSTART;TZID=America/Edmonton:20260307T090000
DTEND;TZID=America/Edmonton:20260307T150000
DTSTAMP:20260421T073554
CREATED:20201117T210824Z
LAST-MODIFIED:20260226T171040Z
UID:10000080-1772874000-1772895600@www.skicastle.ca
SUMMARY:ALPENLAND DEMO DAY
DESCRIPTION:Demo Days are back! One of our most popular outdoor events sees about a dozen or so vendors descend upon Castle and offer the latest and greatest equipment for you to try out\, in affiliation with our partners at Alpenland Ski & Sport. \nBest of all? Demo Days are completely FREE! All you need is a valid license or credit card which will be returned to you upon equipment return. \n \nThis event takes place between 9 AM and 3 PM and you can sign up at the outdoor registration table/tent next to Snow School. The last set of demos will be given out at 2:30 PM. \nVendors in attendance: \n\nRossignol\nK2 Ski\nK2 Snowboard\nSalomon Alpine\nSalomon Snowboards\nAtomic\nRide\nLine Skis\nBurton Snowboards\n\nIf you are an avid skier or rider this is an event you won’t want to miss out on!
URL:https://www.skicastle.ca/event/alpenland-demo-day/
LOCATION:Castle Mountain Resort\, AB\, T0K1W0\, Canada
CATEGORIES:Castle (Outdoors)
ATTACH;FMTTYPE=image/jpeg:https://www.skicastle.ca/wp-content/uploads/2020/11/Alpenland-Demo-Day.jpg
GEO:49.3191376;-114.412619
END:VEVENT
BEGIN:VEVENT
DTSTART;TZID=America/Edmonton:20260307T180000
DTEND;TZID=America/Edmonton:20260307T210000
DTSTAMP:20260421T073554
CREATED:20260222T172522Z
LAST-MODIFIED:20260222T172526Z
UID:10000923-1772906400-1772917200@www.skicastle.ca
SUMMARY:SATURDAY NIGHT LIVE MUSIC
DESCRIPTION:You asked and we listened! We’re stoked to bring you\, for the first time ever\, live music every Saturday. Join us from 6–9 PM for an easy-listening performance\, featuring a new musical artist every week! \nAlso Stronghold Draft will be on special ALL DAY! \nAbout this week’s artist: \nBarbe a Papa music located in Nelson\, BC is a electro-folk musician who’s lyrics and melodies leave everything to the imagination.
URL:https://www.skicastle.ca/event/saturday-night-live-music-14/
LOCATION:T-Bar Pub & Grub\, PO Box 610\, Pincher Creek\, AB\, T0K1W0\, Canada
CATEGORIES:Live Music
ATTACH;FMTTYPE=image/jpeg:https://www.skicastle.ca/wp-content/uploads/2025/12/Saturday-Night-Live-Music-Mar-7.jpg
ORGANIZER;CN="Castle Mountain Resort":MAILTO:info@skicastle.ca
GEO:49.3181843;-114.4144166
X-APPLE-STRUCTURED-LOCATION;VALUE=URI;X-ADDRESS=T-Bar Pub & Grub PO Box 610 Pincher Creek AB T0K1W0 Canada;X-APPLE-RADIUS=500;X-TITLE=PO Box 610:geo:-114.4144166,49.3181843
END:VEVENT
END:VCALENDAR