BEGIN:VCALENDAR
VERSION:2.0
PRODID:-//Castle Mountain Resort - ECPv6.15.20//NONSGML v1.0//EN
CALSCALE:GREGORIAN
METHOD:PUBLISH
X-ORIGINAL-URL:https://www.skicastle.ca
X-WR-CALDESC:Events for Castle Mountain Resort
REFRESH-INTERVAL;VALUE=DURATION:PT1H
X-Robots-Tag:noindex
X-PUBLISHED-TTL:PT1H
BEGIN:VTIMEZONE
TZID:America/Edmonton
BEGIN:DAYLIGHT
TZOFFSETFROM:-0700
TZOFFSETTO:-0600
TZNAME:MDT
DTSTART:20250309T090000
END:DAYLIGHT
BEGIN:STANDARD
TZOFFSETFROM:-0600
TZOFFSETTO:-0700
TZNAME:MST
DTSTART:20251102T080000
END:STANDARD
BEGIN:DAYLIGHT
TZOFFSETFROM:-0700
TZOFFSETTO:-0600
TZNAME:MDT
DTSTART:20260308T090000
END:DAYLIGHT
BEGIN:STANDARD
TZOFFSETFROM:-0600
TZOFFSETTO:-0700
TZNAME:MST
DTSTART:20261101T080000
END:STANDARD
BEGIN:DAYLIGHT
TZOFFSETFROM:-0700
TZOFFSETTO:-0600
TZNAME:MDT
DTSTART:20270314T090000
END:DAYLIGHT
BEGIN:STANDARD
TZOFFSETFROM:-0600
TZOFFSETTO:-0700
TZNAME:MST
DTSTART:20271107T080000
END:STANDARD
END:VTIMEZONE
BEGIN:VEVENT
DTSTART;VALUE=DATE:20260314
DTEND;VALUE=DATE:20260316
DTSTAMP:20260421T104726
CREATED:20250126T231729Z
LAST-MODIFIED:20260227T210926Z
UID:10000844-1773457200-1773543599@www.skicastle.ca
SUMMARY:WESTERN DAY
DESCRIPTION:HEY Y’ALL! \nIt’s Western Day on March 14! Grab your boots and your belts and get ready for an on-hill honkytonk you’ll never forget. \nCorral your rootin’ tootin’ friends in your finest denim and ride those slopes like a bull!
URL:https://www.skicastle.ca/event/western-day-3/
LOCATION:Castle Mountain Resort\, AB\, T0K1W0\, Canada
CATEGORIES:Castle (Outdoors)
ATTACH;FMTTYPE=image/jpeg:https://www.skicastle.ca/wp-content/uploads/2025/01/Western-Day.jpg
ORGANIZER;CN="Castle Mountain Resort":MAILTO:info@skicastle.ca
GEO:49.3191376;-114.412619
END:VEVENT
BEGIN:VEVENT
DTSTART;TZID=America/Edmonton:20260315T130000
DTEND;TZID=America/Edmonton:20260315T160000
DTSTAMP:20260421T104726
CREATED:20200218T130402Z
LAST-MODIFIED:20260314T215241Z
UID:10000975-1773579600-1773590400@www.skicastle.ca
SUMMARY:BEATS IN THE BASE SPRING CONCERT SERIES
DESCRIPTION:Castle’s spring concert series is back with live acts\, every Saturday and Sunday afternoon\, all spring! Live music occurs outdoors\, on the ATCO Community Stage\, every Saturday from 2 PM to 5 PM and Sunday from 1 PM to 4 PM. Enjoy a cold one from our outdoor bar as we transform the area outside of the T-Bar Pub into one giant\, snowy beach! \nOur musical line-up for this spring includes: \n\nSaturday\, March 14 – Less Than Three\nSunday\, March 15 – Mudlarker\nSaturday\, March 21 – Coda Club\nSunday\, March 22 – September Crows Band\nSaturday\, March 28 – 90 Times Over\nSunday\, March 29 – The Crowsnest River Band\nSaturday\, April 4 – UNDEFINED\nSunday\, April 5 – Nik n Mitch\n\nA special thanks to our friends at ATCO for lending us their lovely community stage for this series.
URL:https://www.skicastle.ca/event/beats-in-the-base/2026-03-15/
LOCATION:Castle Mountain Resort\, AB\, T0K1W0\, Canada
CATEGORIES:Castle (Outdoors)
ATTACH;FMTTYPE=image/jpeg:https://www.skicastle.ca/wp-content/uploads/2020/02/Beats-in-the-Base-1.jpg
ORGANIZER;CN="Castle Mountain Resort":MAILTO:info@skicastle.ca
GEO:49.3191376;-114.412619
END:VEVENT
BEGIN:VEVENT
DTSTART;VALUE=DATE:20260316
DTEND;VALUE=DATE:20260318
DTSTAMP:20260421T104726
CREATED:20260301T201215Z
LAST-MODIFIED:20260301T201215Z
UID:10000980-1773630000-1773716399@www.skicastle.ca
SUMMARY:U16 WESTERN CHAMPIONSHIPS
DESCRIPTION:Westcastle Ski Club and Castle Mountain Resort are thrilled to host this prestigious event\, bringing together the top U16 racers from across Canada. Athletes will battle it out in multiple alpine disciplines for national titles and a chance to qualify for Team Canada. \nFor more info click here!
URL:https://www.skicastle.ca/event/u16-western-championships/2026-03-16/
LOCATION:Castle Mountain Resort\, AB\, T0K1W0\, Canada
CATEGORIES:Castle (Outdoors)
ATTACH;FMTTYPE=image/jpeg:https://www.skicastle.ca/wp-content/uploads/2026/03/U16-Western-Championships.jpg
ORGANIZER;CN="Castle Mountain Resort":MAILTO:info@skicastle.ca
GEO:49.3191376;-114.412619
END:VEVENT
BEGIN:VEVENT
DTSTART;VALUE=DATE:20260317
DTEND;VALUE=DATE:20260319
DTSTAMP:20260421T104726
CREATED:20260301T201215Z
LAST-MODIFIED:20260301T201215Z
UID:10000981-1773716400-1773802799@www.skicastle.ca
SUMMARY:U16 WESTERN CHAMPIONSHIPS
DESCRIPTION:Westcastle Ski Club and Castle Mountain Resort are thrilled to host this prestigious event\, bringing together the top U16 racers from across Canada. Athletes will battle it out in multiple alpine disciplines for national titles and a chance to qualify for Team Canada. \nFor more info click here!
URL:https://www.skicastle.ca/event/u16-western-championships/2026-03-17/
LOCATION:Castle Mountain Resort\, AB\, T0K1W0\, Canada
CATEGORIES:Castle (Outdoors)
ATTACH;FMTTYPE=image/jpeg:https://www.skicastle.ca/wp-content/uploads/2026/03/U16-Western-Championships.jpg
ORGANIZER;CN="Castle Mountain Resort":MAILTO:info@skicastle.ca
GEO:49.3191376;-114.412619
END:VEVENT
BEGIN:VEVENT
DTSTART;VALUE=DATE:20260318
DTEND;VALUE=DATE:20260320
DTSTAMP:20260421T104726
CREATED:20260301T201215Z
LAST-MODIFIED:20260301T201215Z
UID:10000982-1773802800-1773889199@www.skicastle.ca
SUMMARY:U16 WESTERN CHAMPIONSHIPS
DESCRIPTION:Westcastle Ski Club and Castle Mountain Resort are thrilled to host this prestigious event\, bringing together the top U16 racers from across Canada. Athletes will battle it out in multiple alpine disciplines for national titles and a chance to qualify for Team Canada. \nFor more info click here!
URL:https://www.skicastle.ca/event/u16-western-championships/2026-03-18/
LOCATION:Castle Mountain Resort\, AB\, T0K1W0\, Canada
CATEGORIES:Castle (Outdoors)
ATTACH;FMTTYPE=image/jpeg:https://www.skicastle.ca/wp-content/uploads/2026/03/U16-Western-Championships.jpg
ORGANIZER;CN="Castle Mountain Resort":MAILTO:info@skicastle.ca
GEO:49.3191376;-114.412619
END:VEVENT
BEGIN:VEVENT
DTSTART;TZID=America/Edmonton:20260318T170000
DTEND;TZID=America/Edmonton:20260318T210000
DTSTAMP:20260421T104726
CREATED:20241228T210014Z
LAST-MODIFIED:20251221T183628Z
UID:10000941-1773853200-1773867600@www.skicastle.ca
SUMMARY:WING WEDNESDAY
DESCRIPTION:Join us every Wednesday night\, in the T-Bar Pub\, for wing night! Enjoy a 1/2 price order of wings\, with the purchase of a beverage\, from 5 PM onward\, every Wednesday night. \nDiscount applies to orders of bone-in chicken wings only. Please ask your server for details.
URL:https://www.skicastle.ca/event/wing-wednesday/2026-03-18/
LOCATION:Castle Mountain Resort\, AB\, T0K1W0\, Canada
CATEGORIES:Miscellaneous
ATTACH;FMTTYPE=image/jpeg:https://www.skicastle.ca/wp-content/uploads/2024/12/25-26-Wing-Wednesdays.jpg
ORGANIZER;CN="Castle Mountain Resort":MAILTO:info@skicastle.ca
GEO:49.3191376;-114.412619
END:VEVENT
BEGIN:VEVENT
DTSTART;VALUE=DATE:20260319
DTEND;VALUE=DATE:20260321
DTSTAMP:20260421T104726
CREATED:20260301T201215Z
LAST-MODIFIED:20260301T201215Z
UID:10000983-1773889200-1773975599@www.skicastle.ca
SUMMARY:U16 WESTERN CHAMPIONSHIPS
DESCRIPTION:Westcastle Ski Club and Castle Mountain Resort are thrilled to host this prestigious event\, bringing together the top U16 racers from across Canada. Athletes will battle it out in multiple alpine disciplines for national titles and a chance to qualify for Team Canada. \nFor more info click here!
URL:https://www.skicastle.ca/event/u16-western-championships/2026-03-19/
LOCATION:Castle Mountain Resort\, AB\, T0K1W0\, Canada
CATEGORIES:Castle (Outdoors)
ATTACH;FMTTYPE=image/jpeg:https://www.skicastle.ca/wp-content/uploads/2026/03/U16-Western-Championships.jpg
ORGANIZER;CN="Castle Mountain Resort":MAILTO:info@skicastle.ca
GEO:49.3191376;-114.412619
END:VEVENT
BEGIN:VEVENT
DTSTART;VALUE=DATE:20260320
DTEND;VALUE=DATE:20260322
DTSTAMP:20260421T104726
CREATED:20260301T201215Z
LAST-MODIFIED:20260301T201215Z
UID:10000984-1773975600-1774061999@www.skicastle.ca
SUMMARY:U16 WESTERN CHAMPIONSHIPS
DESCRIPTION:Westcastle Ski Club and Castle Mountain Resort are thrilled to host this prestigious event\, bringing together the top U16 racers from across Canada. Athletes will battle it out in multiple alpine disciplines for national titles and a chance to qualify for Team Canada. \nFor more info click here!
URL:https://www.skicastle.ca/event/u16-western-championships/2026-03-20/
LOCATION:Castle Mountain Resort\, AB\, T0K1W0\, Canada
CATEGORIES:Castle (Outdoors)
ATTACH;FMTTYPE=image/jpeg:https://www.skicastle.ca/wp-content/uploads/2026/03/U16-Western-Championships.jpg
ORGANIZER;CN="Castle Mountain Resort":MAILTO:info@skicastle.ca
GEO:49.3191376;-114.412619
END:VEVENT
BEGIN:VEVENT
DTSTART;TZID=America/Edmonton:20260320T210000
DTEND;TZID=America/Edmonton:20260320T235900
DTSTAMP:20260421T104726
CREATED:20260221T221739Z
LAST-MODIFIED:20260221T221742Z
UID:10000908-1774040400-1774051140@www.skicastle.ca
SUMMARY:FRIDAY NIGHT LIVE MUSIC
DESCRIPTION:Our Friday night live music series is back! Join us every Friday evening\, in the T-Bar Pub\, for a new musical artist. They’ll hit the stage each night starting at 9 PM. \nAlso\, Red Truck Draft will be on special ALL DAY! \nAbout this week’s artist: \nComing from a healthy dose of Classic Rock growing up\, ‘Luc Roach’\, has taken on his own spin on mixing old Rock with new age Blues. Starting playing guitar at age 12 he played for a couple years till he gave it up\, it wasn’t until 2011 when he moved From his Home town of Hinton AB to Whistler BC where he starting get back into playing and writing Folk music. 2 years later he moves down to Vancouver for more opportunity where he recorded his first EP under “Luc RoAch” in April 2015. About a year later he would go on to host an Open Mic on Commercial ave. Fast forward a couple years he now resides in Calgary AB and has since put out a couple single’s including an EP “She’s Got the Blues” released January 18\, 2020 and his Single “What I Need” that received a nomination for Blues Recording of the year in 2022 at the YYC Music Awards. Now him and his band continue to play shows in and around Calgary\, with an Album on the way.
URL:https://www.skicastle.ca/event/friday-night-live-music-16/
LOCATION:T-Bar Pub & Grub\, PO Box 610\, Pincher Creek\, AB\, T0K1W0\, Canada
CATEGORIES:Live Music
ATTACH;FMTTYPE=image/jpeg:https://www.skicastle.ca/wp-content/uploads/2025/12/Friday-Night-Live-Music-Mar-20.jpg
ORGANIZER;CN="Castle Mountain Resort":MAILTO:info@skicastle.ca
GEO:49.3181843;-114.4144166
X-APPLE-STRUCTURED-LOCATION;VALUE=URI;X-ADDRESS=T-Bar Pub & Grub PO Box 610 Pincher Creek AB T0K1W0 Canada;X-APPLE-RADIUS=500;X-TITLE=PO Box 610:geo:-114.4144166,49.3181843
END:VEVENT
BEGIN:VEVENT
DTSTART;TZID=America/Edmonton:20260321T090000
DTEND;TZID=America/Edmonton:20260321T190000
DTSTAMP:20260421T104726
CREATED:20260301T180815Z
LAST-MODIFIED:20260316T181625Z
UID:10000979-1774083600-1774119600@www.skicastle.ca
SUMMARY:IRISH DAY
DESCRIPTION:Go all out for Themed Irish Day — break out your best green gear\, shamrocks\, kilts\, and festive flair! Dress up\, hit the slopes\, and then join us at the T-Bar for an unforgettable Après Irish Party with festive drink specials and live tunes kicking off at 6 PM.
URL:https://www.skicastle.ca/event/irish-day/
LOCATION:Castle Mountain Resort\, AB\, T0K1W0\, Canada
ATTACH;FMTTYPE=image/jpeg:https://www.skicastle.ca/wp-content/uploads/2026/03/Irish-Day-1.jpg
ORGANIZER;CN="Castle Mountain Resort":MAILTO:info@skicastle.ca
GEO:49.3191376;-114.412619
END:VEVENT
BEGIN:VEVENT
DTSTART;TZID=America/Edmonton:20260321T140000
DTEND;TZID=America/Edmonton:20260321T170000
DTSTAMP:20260421T104726
CREATED:20200218T130402Z
LAST-MODIFIED:20260314T215241Z
UID:10000970-1774101600-1774112400@www.skicastle.ca
SUMMARY:BEATS IN THE BASE SPRING CONCERT SERIES
DESCRIPTION:Castle’s spring concert series is back with live acts\, every Saturday and Sunday afternoon\, all spring! Live music occurs outdoors\, on the ATCO Community Stage\, every Saturday from 2 PM to 5 PM and Sunday from 1 PM to 4 PM. Enjoy a cold one from our outdoor bar as we transform the area outside of the T-Bar Pub into one giant\, snowy beach! \nOur musical line-up for this spring includes: \n\nSaturday\, March 14 – Less Than Three\nSunday\, March 15 – Mudlarker\nSaturday\, March 21 – Coda Club\nSunday\, March 22 – September Crows Band\nSaturday\, March 28 – 90 Times Over\nSunday\, March 29 – The Crowsnest River Band\nSaturday\, April 4 – UNDEFINED\nSunday\, April 5 – Nik n Mitch\n\nA special thanks to our friends at ATCO for lending us their lovely community stage for this series.
URL:https://www.skicastle.ca/event/beats-in-the-base/2026-03-21/
LOCATION:Castle Mountain Resort\, AB\, T0K1W0\, Canada
CATEGORIES:Castle (Outdoors)
ATTACH;FMTTYPE=image/jpeg:https://www.skicastle.ca/wp-content/uploads/2020/02/Beats-in-the-Base-1.jpg
ORGANIZER;CN="Castle Mountain Resort":MAILTO:info@skicastle.ca
GEO:49.3191376;-114.412619
END:VEVENT
BEGIN:VEVENT
DTSTART;TZID=America/Edmonton:20260321T180000
DTEND;TZID=America/Edmonton:20260321T210000
DTSTAMP:20260421T104726
CREATED:20260305T181405Z
LAST-MODIFIED:20260305T181408Z
UID:10000925-1774116000-1774126800@www.skicastle.ca
SUMMARY:SATURDAY NIGHT LIVE MUSIC
DESCRIPTION:You asked and we listened! We’re stoked to bring you\, for the first time ever\, live music every Saturday. Join us from 6–9 PM for an easy-listening performance\, featuring a new musical artist every week! \nAlso Stronghold Draft will be on special ALL DAY! \nAbout this week’s artists: \nDon’t Tell Mama will be hitting the T-Bar on March 21st and you don’t want to miss it. They are a 4 piece\, multi genre\, high energy dance band that will surely get you on the dance floor. From Mamas costume changes and wailing vocals\, Mick rippin’ on guitar\, Rod laying the beat and Les’s rhythmic bass\, you’ll want to Ski\, walk\, run\, drive to come and rock out on the mountain us. 
URL:https://www.skicastle.ca/event/saturday-night-live-music-17/
LOCATION:T-Bar Pub & Grub\, PO Box 610\, Pincher Creek\, AB\, T0K1W0\, Canada
CATEGORIES:Live Music
ATTACH;FMTTYPE=image/jpeg:https://www.skicastle.ca/wp-content/uploads/2025/12/Saturday-Night-Live-Music-Mar-21.jpg
ORGANIZER;CN="Castle Mountain Resort":MAILTO:info@skicastle.ca
GEO:49.3181843;-114.4144166
X-APPLE-STRUCTURED-LOCATION;VALUE=URI;X-ADDRESS=T-Bar Pub & Grub PO Box 610 Pincher Creek AB T0K1W0 Canada;X-APPLE-RADIUS=500;X-TITLE=PO Box 610:geo:-114.4144166,49.3181843
END:VEVENT
END:VCALENDAR