BEGIN:VCALENDAR
VERSION:2.0
PRODID:-//Castle Mountain Resort - ECPv6.15.20//NONSGML v1.0//EN
CALSCALE:GREGORIAN
METHOD:PUBLISH
X-WR-CALNAME:Castle Mountain Resort
X-ORIGINAL-URL:https://www.skicastle.ca
X-WR-CALDESC:Events for Castle Mountain Resort
REFRESH-INTERVAL;VALUE=DURATION:PT1H
X-Robots-Tag:noindex
X-PUBLISHED-TTL:PT1H
BEGIN:VTIMEZONE
TZID:America/Edmonton
BEGIN:DAYLIGHT
TZOFFSETFROM:-0700
TZOFFSETTO:-0600
TZNAME:MDT
DTSTART:20250309T090000
END:DAYLIGHT
BEGIN:STANDARD
TZOFFSETFROM:-0600
TZOFFSETTO:-0700
TZNAME:MST
DTSTART:20251102T080000
END:STANDARD
BEGIN:DAYLIGHT
TZOFFSETFROM:-0700
TZOFFSETTO:-0600
TZNAME:MDT
DTSTART:20260308T090000
END:DAYLIGHT
BEGIN:STANDARD
TZOFFSETFROM:-0600
TZOFFSETTO:-0700
TZNAME:MST
DTSTART:20261101T080000
END:STANDARD
BEGIN:DAYLIGHT
TZOFFSETFROM:-0700
TZOFFSETTO:-0600
TZNAME:MDT
DTSTART:20270314T090000
END:DAYLIGHT
BEGIN:STANDARD
TZOFFSETFROM:-0600
TZOFFSETTO:-0700
TZNAME:MST
DTSTART:20271107T080000
END:STANDARD
END:VTIMEZONE
BEGIN:VEVENT
DTSTART;TZID=America/Edmonton:20260322T080000
DTEND;TZID=America/Edmonton:20260322T160000
DTSTAMP:20260421T103448
CREATED:20250302T175813Z
LAST-MODIFIED:20260321T170857Z
UID:10000857-1774166400-1774195200@www.skicastle.ca
SUMMARY:KING & QUEEN OF THE CASTLE RACE
DESCRIPTION:***This event has unfortunately been cancelled\, if you have already registered you’ll be issued a refund.*** \nJoin us for this fun\, two-run\, dual slalom race. Participants will have one run in the morning and one run in the afternoon. Our champions will be determined by way of the best combined time. \nEVENT SCHEDULE\n\n8:00 AM to 8:45 AM – Racer check-in and last minute registration (Day Lodge stage)\n9:10 AM to 9:40 AM – Course open for inspection (Whiskey Jack)\n9:45 AM – First races (Whiskey Jack)\n\nOdd Number – Red Course\nEven Number – Blue Course\n\n\n11:30 AM – Lunch break\n12:45 PM – Second race (Whiskey Jack)\n\nOdd Number – Blue Course\nEven Number – Red Course\n\n\n2:00 PM to 2:30 PM –  Fun run! Grab your friend / partner and have a non-timed fun race. (Whiskey Jack)\n2:35 PM – King and Queen of the Castle Race Off (Whiskey Jack)\n3:00 PM – Course closed / teardown commences (Whiskey Jack)\n3:30 PM – Awards (outside of the Day Lodge)\n\n  \nAGE CATEGORIES\n\nU10 (9 years old & younger)\nU16 (10 – 15 years old)\n16 – 29 years old\n30 – 39 years old\n40 – 49 years old\n50 – 59 years old\n60 + years old\nMen’s and women’s category within each age category\n\n  \nREGISTRATION\n\nClick the register now button to register.\nAll participants must sign a release agreement / waiver prior to participating in this event. Minors (those under 18 years of age) must have their waiver signed by a parent or legal guardian.
URL:https://www.skicastle.ca/event/king-queen-of-the-castle-race/
LOCATION:Castle Mountain Resort\, AB\, T0K1W0\, Canada
CATEGORIES:Castle (Outdoors)
ATTACH;FMTTYPE=image/jpeg:https://www.skicastle.ca/wp-content/uploads/2025/03/King-Queen-of-Castle-Race-3.jpg
ORGANIZER;CN="Castle Mountain Resort":MAILTO:info@skicastle.ca
GEO:49.3191376;-114.412619
END:VEVENT
BEGIN:VEVENT
DTSTART;TZID=America/Edmonton:20260322T130000
DTEND;TZID=America/Edmonton:20260322T160000
DTSTAMP:20260421T103448
CREATED:20200218T130402Z
LAST-MODIFIED:20260314T215241Z
UID:10000976-1774184400-1774195200@www.skicastle.ca
SUMMARY:BEATS IN THE BASE SPRING CONCERT SERIES
DESCRIPTION:Castle’s spring concert series is back with live acts\, every Saturday and Sunday afternoon\, all spring! Live music occurs outdoors\, on the ATCO Community Stage\, every Saturday from 2 PM to 5 PM and Sunday from 1 PM to 4 PM. Enjoy a cold one from our outdoor bar as we transform the area outside of the T-Bar Pub into one giant\, snowy beach! \nOur musical line-up for this spring includes: \n\nSaturday\, March 14 – Less Than Three\nSunday\, March 15 – Mudlarker\nSaturday\, March 21 – Coda Club\nSunday\, March 22 – September Crows Band\nSaturday\, March 28 – 90 Times Over\nSunday\, March 29 – The Crowsnest River Band\nSaturday\, April 4 – UNDEFINED\nSunday\, April 5 – Nik n Mitch\n\nA special thanks to our friends at ATCO for lending us their lovely community stage for this series.
URL:https://www.skicastle.ca/event/beats-in-the-base/2026-03-22/
LOCATION:Castle Mountain Resort\, AB\, T0K1W0\, Canada
CATEGORIES:Castle (Outdoors)
ATTACH;FMTTYPE=image/jpeg:https://www.skicastle.ca/wp-content/uploads/2020/02/Beats-in-the-Base-1.jpg
ORGANIZER;CN="Castle Mountain Resort":MAILTO:info@skicastle.ca
GEO:49.3191376;-114.412619
END:VEVENT
BEGIN:VEVENT
DTSTART;TZID=America/Edmonton:20260322T190000
DTEND;TZID=America/Edmonton:20260322T210000
DTSTAMP:20260421T103448
CREATED:20250113T011840Z
LAST-MODIFIED:20251221T232642Z
UID:10000825-1774206000-1774213200@www.skicastle.ca
SUMMARY:MUSICAL BINGO
DESCRIPTION:Jam out and test your musical knowledge at Musical Bingo Night at the T-Bar Pub! \nEvery Musical Bingo Night will feature a theme or era of music\, so join us every other Sunday to test your tuned ears. \nThe fun begins at 7 PM.
URL:https://www.skicastle.ca/event/musical-bingo-3/
LOCATION:T-Bar Pub & Grub\, PO Box 610\, Pincher Creek\, AB\, T0K1W0\, Canada
CATEGORIES:Miscellaneous
ATTACH;FMTTYPE=image/jpeg:https://www.skicastle.ca/wp-content/uploads/2025/01/Musical-Bingo.jpg
ORGANIZER;CN="Castle Mountain Resort":MAILTO:info@skicastle.ca
GEO:49.3181843;-114.4144166
X-APPLE-STRUCTURED-LOCATION;VALUE=URI;X-ADDRESS=T-Bar Pub & Grub PO Box 610 Pincher Creek AB T0K1W0 Canada;X-APPLE-RADIUS=500;X-TITLE=PO Box 610:geo:-114.4144166,49.3181843
END:VEVENT
BEGIN:VEVENT
DTSTART;TZID=America/Edmonton:20260325T170000
DTEND;TZID=America/Edmonton:20260325T210000
DTSTAMP:20260421T103448
CREATED:20241228T210014Z
LAST-MODIFIED:20251221T183628Z
UID:10000942-1774458000-1774472400@www.skicastle.ca
SUMMARY:WING WEDNESDAY
DESCRIPTION:Join us every Wednesday night\, in the T-Bar Pub\, for wing night! Enjoy a 1/2 price order of wings\, with the purchase of a beverage\, from 5 PM onward\, every Wednesday night. \nDiscount applies to orders of bone-in chicken wings only. Please ask your server for details.
URL:https://www.skicastle.ca/event/wing-wednesday/2026-03-25/
LOCATION:Castle Mountain Resort\, AB\, T0K1W0\, Canada
CATEGORIES:Miscellaneous
ATTACH;FMTTYPE=image/jpeg:https://www.skicastle.ca/wp-content/uploads/2024/12/25-26-Wing-Wednesdays.jpg
ORGANIZER;CN="Castle Mountain Resort":MAILTO:info@skicastle.ca
GEO:49.3191376;-114.412619
END:VEVENT
BEGIN:VEVENT
DTSTART;TZID=America/Edmonton:20260327T210000
DTEND;TZID=America/Edmonton:20260327T235900
DTSTAMP:20260421T103448
CREATED:20260221T222047Z
LAST-MODIFIED:20260221T222050Z
UID:10000909-1774645200-1774655940@www.skicastle.ca
SUMMARY:FRIDAY NIGHT LIVE MUSIC
DESCRIPTION:Our Friday night live music series is back! Join us every Friday evening\, in the T-Bar Pub\, for a new musical artist. They’ll hit the stage each night starting at 9 PM. \nAlso\, Red Truck Draft will be on special ALL DAY! \nAbout this week’s artist: \nLike fast moving freight train barreling down the tracks\, with its smokestack spewing fire encrusted cinders\, churning with sparking steel wheels and howling like an unholy whistle\, hold the heck on it’s gonna be a bare knuckle ride. The Blue Mules deliver a distinct style with varied flavors to each song from raw blues to countrified rock\, tying it all together like the steam engine stoker shoveling coal into the furnace keeping it full steam ahead. The Blue Mules personify Solid Blues with a Powerful Kick! \n 
URL:https://www.skicastle.ca/event/friday-night-live-music-17/
LOCATION:T-Bar Pub & Grub\, PO Box 610\, Pincher Creek\, AB\, T0K1W0\, Canada
CATEGORIES:Live Music
ATTACH;FMTTYPE=image/jpeg:https://www.skicastle.ca/wp-content/uploads/2025/12/Friday-Night-Live-Music-Mar-27.jpg
ORGANIZER;CN="Castle Mountain Resort":MAILTO:info@skicastle.ca
GEO:49.3181843;-114.4144166
X-APPLE-STRUCTURED-LOCATION;VALUE=URI;X-ADDRESS=T-Bar Pub & Grub PO Box 610 Pincher Creek AB T0K1W0 Canada;X-APPLE-RADIUS=500;X-TITLE=PO Box 610:geo:-114.4144166,49.3181843
END:VEVENT
BEGIN:VEVENT
DTSTART;VALUE=DATE:20260328
DTEND;VALUE=DATE:20260330
DTSTAMP:20260421T103448
CREATED:20250126T232732Z
LAST-MODIFIED:20260227T233736Z
UID:10000845-1774666800-1774753199@www.skicastle.ca
SUMMARY:HAWAIIAN DAY
DESCRIPTION:Aloha! \nWear your most colourful and floral shirts and gear on March 28 for HAWAIIAN DAY! (floral leis and funky sunnies encouraged.) \nIt’s SLUSH CUP on the 28th as well so prepare for the most iconic spring skiing day of the season 😎
URL:https://www.skicastle.ca/event/hawaiian-day-2/
LOCATION:Castle Mountain Resort\, AB\, T0K1W0\, Canada
CATEGORIES:Castle (Outdoors)
ATTACH;FMTTYPE=image/jpeg:https://www.skicastle.ca/wp-content/uploads/2025/01/Hawaiian-Day.jpg
ORGANIZER;CN="Castle Mountain Resort":MAILTO:info@skicastle.ca
GEO:49.3191376;-114.412619
END:VEVENT
BEGIN:VEVENT
DTSTART;TZID=America/Edmonton:20260328T080000
DTEND;TZID=America/Edmonton:20260328T160000
DTSTAMP:20260421T103448
CREATED:20220224T083007Z
LAST-MODIFIED:20260323T195744Z
UID:10000016-1774684800-1774713600@www.skicastle.ca
SUMMARY:*CANCELLED* SLUSH CUP
DESCRIPTION:** We are saddened to cancel our Slush Cup this year due to conditions. Those who have already registered will be issued refunds.** \n  \nGo full send and try to waterski / ride across our huge man-made pond! Not up for participating? Don’t worry\, this is one of the best spectating events of the season! Our annual Slush Cup event is not one you’re going to want to miss and takes place at the bottom of Whiskey Jack\, within the base area. This event will take place on Saturday\, March 28! \nRegistration\n\nThere is a pre-registration fee of $15 if registered via online sign-up prior to\, and a $20 registration fee day-of (if spots remain).\n\nSchedule of Events\n\n8:00 AM – 1:00 PM – Registration and bib pick-up / check-in\n1:30 PM – Event start / runs begin\n3:00 PM – Last run. Any participant not having arrived at the start ramp by this time will forfeit the ability to ski / ride the pit\n3:45 PM – Awards (ATCO Community Stage)\n\nRules \n\nEach participant will receive one (1) run through the slush cup course. Additional runs are not permitted.\nAll participants will be issued a bib with their participant number. Those arriving at the course without their bib will be deemed ineligible to participate.\nLocation of the starting ramp will be determined by Castle Mountain Resort officials.\nAll participants must wear a helmet – absolutely no exceptions will be made.\nParticipants may not leave the starting gate without permission from the starter.\nNo inverted aerial maneuvers / jumps.\nAbsolutely no nudity. Costumes deemed inappropriate will result in disqualification.\nAny guests deemed to be under the influence of drugs / alcohol will be disqualified and are unable to participate\nA maximum of 100 participants will be accepted on a first-come\, first-serve basis.\nDress to get wet! All participants are encouraged to bring a towel / change of clothing.\nParticipants will be required to sign a waiver\, during the mandatory registration / check-in period in Guest Services – no waiver\, no runs\, no exceptions. Participants\, under the age of 18\, will be required to have a legal parent or guardian sign a waiver on their behalf.\n\nJudging\nOur panel of Slush Cup judges will select our 2025 champions in three categories: Best Splash\, Best Form\, & Best Costume.
URL:https://www.skicastle.ca/event/slushcup/
LOCATION:Castle Mountain Resort\, AB\, T0K1W0\, Canada
CATEGORIES:Castle (Outdoors)
ATTACH;FMTTYPE=image/jpeg:https://www.skicastle.ca/wp-content/uploads/2022/02/Slush-Cup-1.jpg
ORGANIZER;CN="Castle Mountain Resort":MAILTO:info@skicastle.ca
GEO:49.3191376;-114.412619
END:VEVENT
BEGIN:VEVENT
DTSTART;TZID=America/Edmonton:20260328T140000
DTEND;TZID=America/Edmonton:20260328T170000
DTSTAMP:20260421T103448
CREATED:20200218T130402Z
LAST-MODIFIED:20260314T215241Z
UID:10000971-1774706400-1774717200@www.skicastle.ca
SUMMARY:BEATS IN THE BASE SPRING CONCERT SERIES
DESCRIPTION:Castle’s spring concert series is back with live acts\, every Saturday and Sunday afternoon\, all spring! Live music occurs outdoors\, on the ATCO Community Stage\, every Saturday from 2 PM to 5 PM and Sunday from 1 PM to 4 PM. Enjoy a cold one from our outdoor bar as we transform the area outside of the T-Bar Pub into one giant\, snowy beach! \nOur musical line-up for this spring includes: \n\nSaturday\, March 14 – Less Than Three\nSunday\, March 15 – Mudlarker\nSaturday\, March 21 – Coda Club\nSunday\, March 22 – September Crows Band\nSaturday\, March 28 – 90 Times Over\nSunday\, March 29 – The Crowsnest River Band\nSaturday\, April 4 – UNDEFINED\nSunday\, April 5 – Nik n Mitch\n\nA special thanks to our friends at ATCO for lending us their lovely community stage for this series.
URL:https://www.skicastle.ca/event/beats-in-the-base/2026-03-28/
LOCATION:Castle Mountain Resort\, AB\, T0K1W0\, Canada
CATEGORIES:Castle (Outdoors)
ATTACH;FMTTYPE=image/jpeg:https://www.skicastle.ca/wp-content/uploads/2020/02/Beats-in-the-Base-1.jpg
ORGANIZER;CN="Castle Mountain Resort":MAILTO:info@skicastle.ca
GEO:49.3191376;-114.412619
END:VEVENT
BEGIN:VEVENT
DTSTART;TZID=America/Edmonton:20260328T140000
DTEND;TZID=America/Edmonton:20260328T173000
DTSTAMP:20260421T103448
CREATED:20260327T165123Z
LAST-MODIFIED:20260327T165123Z
UID:10000986-1774706400-1774719000@www.skicastle.ca
SUMMARY:SPRING FEST
DESCRIPTION:Spring Fest is here with an afternoon full of music\, games\, and tropical fun for all ages! Join us as we bring the island vibes to life with live entertainment\, interactive challenges\, and plenty of laughs along the way. \n2:00 PM – Live Band Performance\nKick things off with live tunes from 90 Times Over. \n2:45 PM – Limbo Challenge\nStep up and see how low you can go in this fun\, all-ages crowd favourite. \n3:45 PM – Hawaiian Dance & Outfit Contest\nShow off your best moves and tropical style as the crowd cheers on their favourites. \n5:00 PM – Cookie Face Challenge 🍪\nStick around for a hilarious challenge—move a cookie from forehead to mouth with no hands allowed! \nCome soak up the atmosphere\, join the fun\, and celebrate spring with us! 🌺
URL:https://www.skicastle.ca/event/spring-fest/
LOCATION:Castle Mountain Resort\, AB\, T0K1W0\, Canada
CATEGORIES:Castle (Outdoors)
ATTACH;FMTTYPE=image/jpeg:https://www.skicastle.ca/wp-content/uploads/2026/03/Spring-Fest.jpg
ORGANIZER;CN="Castle Mountain Resort":MAILTO:info@skicastle.ca
GEO:49.3191376;-114.412619
END:VEVENT
BEGIN:VEVENT
DTSTART;TZID=America/Edmonton:20260328T180000
DTEND;TZID=America/Edmonton:20260328T210000
DTSTAMP:20260421T103448
CREATED:20260222T173626Z
LAST-MODIFIED:20260222T173628Z
UID:10000926-1774720800-1774731600@www.skicastle.ca
SUMMARY:SATURDAY NIGHT LIVE MUSIC
DESCRIPTION:You asked and we listened! We’re stoked to bring you\, for the first time ever\, live music every Saturday. Join us from 6–9 PM for an easy-listening performance\, featuring a new musical artist every week! \nAlso Stronghold Draft will be on special ALL DAY! \nAbout this week’s artist: \nLuke Borges may be new to Airdrie and Canada\, but his musical journey began more than 20 years ago in Brazil. \nBorn in Rio de Janeiro\, Borges has an intimate relationship with music that connects him to culture\, family and a strong desire to be himself as a performer. \n“Music is a free expression\, and you have to be free to do what you like\,” he says. \nAs a child\, he was exposed to music through a religious group his family belonged to\, but his greatest influence was his father.
URL:https://www.skicastle.ca/event/saturday-night-live-music-16/
LOCATION:T-Bar Pub & Grub\, PO Box 610\, Pincher Creek\, AB\, T0K1W0\, Canada
CATEGORIES:Live Music
ATTACH;FMTTYPE=image/jpeg:https://www.skicastle.ca/wp-content/uploads/2025/12/Saturday-Night-Live-Music-Mar-28.jpg
ORGANIZER;CN="Castle Mountain Resort":MAILTO:info@skicastle.ca
GEO:49.3181843;-114.4144166
X-APPLE-STRUCTURED-LOCATION;VALUE=URI;X-ADDRESS=T-Bar Pub & Grub PO Box 610 Pincher Creek AB T0K1W0 Canada;X-APPLE-RADIUS=500;X-TITLE=PO Box 610:geo:-114.4144166,49.3181843
END:VEVENT
END:VCALENDAR