BEGIN:VCALENDAR
VERSION:2.0
PRODID:-//Castle Mountain Resort - ECPv6.15.20//NONSGML v1.0//EN
CALSCALE:GREGORIAN
METHOD:PUBLISH
X-WR-CALNAME:Castle Mountain Resort
X-ORIGINAL-URL:https://www.skicastle.ca
X-WR-CALDESC:Events for Castle Mountain Resort
REFRESH-INTERVAL;VALUE=DURATION:PT1H
X-Robots-Tag:noindex
X-PUBLISHED-TTL:PT1H
BEGIN:VTIMEZONE
TZID:America/Edmonton
BEGIN:DAYLIGHT
TZOFFSETFROM:-0700
TZOFFSETTO:-0600
TZNAME:MDT
DTSTART:20250309T090000
END:DAYLIGHT
BEGIN:STANDARD
TZOFFSETFROM:-0600
TZOFFSETTO:-0700
TZNAME:MST
DTSTART:20251102T080000
END:STANDARD
BEGIN:DAYLIGHT
TZOFFSETFROM:-0700
TZOFFSETTO:-0600
TZNAME:MDT
DTSTART:20260308T090000
END:DAYLIGHT
BEGIN:STANDARD
TZOFFSETFROM:-0600
TZOFFSETTO:-0700
TZNAME:MST
DTSTART:20261101T080000
END:STANDARD
BEGIN:DAYLIGHT
TZOFFSETFROM:-0700
TZOFFSETTO:-0600
TZNAME:MDT
DTSTART:20270314T090000
END:DAYLIGHT
BEGIN:STANDARD
TZOFFSETFROM:-0600
TZOFFSETTO:-0700
TZNAME:MST
DTSTART:20271107T080000
END:STANDARD
END:VTIMEZONE
BEGIN:VEVENT
DTSTART;VALUE=DATE:20260328
DTEND;VALUE=DATE:20260330
DTSTAMP:20260421T091445
CREATED:20250126T232732Z
LAST-MODIFIED:20260227T233736Z
UID:10000845-1774666800-1774753199@www.skicastle.ca
SUMMARY:HAWAIIAN DAY
DESCRIPTION:Aloha! \nWear your most colourful and floral shirts and gear on March 28 for HAWAIIAN DAY! (floral leis and funky sunnies encouraged.) \nIt’s SLUSH CUP on the 28th as well so prepare for the most iconic spring skiing day of the season 😎
URL:https://www.skicastle.ca/event/hawaiian-day-2/
LOCATION:Castle Mountain Resort\, AB\, T0K1W0\, Canada
CATEGORIES:Castle (Outdoors)
ATTACH;FMTTYPE=image/jpeg:https://www.skicastle.ca/wp-content/uploads/2025/01/Hawaiian-Day.jpg
ORGANIZER;CN="Castle Mountain Resort":MAILTO:info@skicastle.ca
GEO:49.3191376;-114.412619
END:VEVENT
BEGIN:VEVENT
DTSTART;TZID=America/Edmonton:20260329T130000
DTEND;TZID=America/Edmonton:20260329T160000
DTSTAMP:20260421T091445
CREATED:20200218T130402Z
LAST-MODIFIED:20260314T215241Z
UID:10000977-1774789200-1774800000@www.skicastle.ca
SUMMARY:BEATS IN THE BASE SPRING CONCERT SERIES
DESCRIPTION:Castle’s spring concert series is back with live acts\, every Saturday and Sunday afternoon\, all spring! Live music occurs outdoors\, on the ATCO Community Stage\, every Saturday from 2 PM to 5 PM and Sunday from 1 PM to 4 PM. Enjoy a cold one from our outdoor bar as we transform the area outside of the T-Bar Pub into one giant\, snowy beach! \nOur musical line-up for this spring includes: \n\nSaturday\, March 14 – Less Than Three\nSunday\, March 15 – Mudlarker\nSaturday\, March 21 – Coda Club\nSunday\, March 22 – September Crows Band\nSaturday\, March 28 – 90 Times Over\nSunday\, March 29 – The Crowsnest River Band\nSaturday\, April 4 – UNDEFINED\nSunday\, April 5 – Nik n Mitch\n\nA special thanks to our friends at ATCO for lending us their lovely community stage for this series.
URL:https://www.skicastle.ca/event/beats-in-the-base/2026-03-29/
LOCATION:Castle Mountain Resort\, AB\, T0K1W0\, Canada
CATEGORIES:Castle (Outdoors)
ATTACH;FMTTYPE=image/jpeg:https://www.skicastle.ca/wp-content/uploads/2020/02/Beats-in-the-Base-1.jpg
ORGANIZER;CN="Castle Mountain Resort":MAILTO:info@skicastle.ca
GEO:49.3191376;-114.412619
END:VEVENT
BEGIN:VEVENT
DTSTART;TZID=America/Edmonton:20260329T190000
DTEND;TZID=America/Edmonton:20260329T210000
DTSTAMP:20260421T091445
CREATED:20250113T010221Z
LAST-MODIFIED:20251221T182139Z
UID:10000832-1774810800-1774818000@www.skicastle.ca
SUMMARY:KARAOKE NIGHT
DESCRIPTION:Who’s ready to belt out some tunes? Karaoke has arrived at Castle Mountain Resort! \nGrab your friends and come to the T-Bar Pub for our Karaoke Night. Sing a song and cheer on your friends as they seek to achieve vocal greatness! \nThe fun begins at 7 PM.
URL:https://www.skicastle.ca/event/karaoke-night-2/
LOCATION:T-Bar Pub & Grub\, PO Box 610\, Pincher Creek\, AB\, T0K1W0\, Canada
CATEGORIES:Miscellaneous
ATTACH;FMTTYPE=image/jpeg:https://www.skicastle.ca/wp-content/uploads/2025/01/karaoke-MAR-29.jpg
ORGANIZER;CN="Castle Mountain Resort":MAILTO:info@skicastle.ca
GEO:49.3181843;-114.4144166
X-APPLE-STRUCTURED-LOCATION;VALUE=URI;X-ADDRESS=T-Bar Pub & Grub PO Box 610 Pincher Creek AB T0K1W0 Canada;X-APPLE-RADIUS=500;X-TITLE=PO Box 610:geo:-114.4144166,49.3181843
END:VEVENT
BEGIN:VEVENT
DTSTART;TZID=America/Edmonton:20260331T190000
DTEND;TZID=America/Edmonton:20260331T210000
DTSTAMP:20260421T091445
CREATED:20260326T234335Z
LAST-MODIFIED:20260326T234335Z
UID:10000985-1774983600-1774990800@www.skicastle.ca
SUMMARY:OPEN MIC NIGHT
DESCRIPTION:Calling all musicians\, poets\, or those that just love to sing or play instruments\, we’ll welcome it all. Not a musician? Come by and cheer on all the participants!! The fun starts at 7 PM.
URL:https://www.skicastle.ca/event/open-mic-night-2/
LOCATION:T-Bar Pub & Grub\, PO Box 610\, Pincher Creek\, AB\, T0K1W0\, Canada
CATEGORIES:Miscellaneous
ATTACH;FMTTYPE=image/jpeg:https://www.skicastle.ca/wp-content/uploads/2026/03/Open-Mic-Night.jpg
ORGANIZER;CN="Castle Mountain Resort":MAILTO:info@skicastle.ca
GEO:49.3181843;-114.4144166
X-APPLE-STRUCTURED-LOCATION;VALUE=URI;X-ADDRESS=T-Bar Pub & Grub PO Box 610 Pincher Creek AB T0K1W0 Canada;X-APPLE-RADIUS=500;X-TITLE=PO Box 610:geo:-114.4144166,49.3181843
END:VEVENT
BEGIN:VEVENT
DTSTART;TZID=America/Edmonton:20260401T170000
DTEND;TZID=America/Edmonton:20260401T210000
DTSTAMP:20260421T091445
CREATED:20241228T210014Z
LAST-MODIFIED:20251221T183628Z
UID:10000943-1775062800-1775077200@www.skicastle.ca
SUMMARY:WING WEDNESDAY
DESCRIPTION:Join us every Wednesday night\, in the T-Bar Pub\, for wing night! Enjoy a 1/2 price order of wings\, with the purchase of a beverage\, from 5 PM onward\, every Wednesday night. \nDiscount applies to orders of bone-in chicken wings only. Please ask your server for details.
URL:https://www.skicastle.ca/event/wing-wednesday/2026-04-01/
LOCATION:Castle Mountain Resort\, AB\, T0K1W0\, Canada
CATEGORIES:Miscellaneous
ATTACH;FMTTYPE=image/jpeg:https://www.skicastle.ca/wp-content/uploads/2024/12/25-26-Wing-Wednesdays.jpg
ORGANIZER;CN="Castle Mountain Resort":MAILTO:info@skicastle.ca
GEO:49.3191376;-114.412619
END:VEVENT
BEGIN:VEVENT
DTSTART;TZID=America/Edmonton:20260403T210000
DTEND;TZID=America/Edmonton:20260403T235900
DTSTAMP:20260421T091445
CREATED:20260315T191254Z
LAST-MODIFIED:20260315T191257Z
UID:10000910-1775250000-1775260740@www.skicastle.ca
SUMMARY:FRIDAY NIGHT LIVE MUSIC
DESCRIPTION:Our Friday night live music series is back! Join us every Friday evening\, in the T-Bar Pub\, for a new musical artist. They’ll hit the stage each night starting at 9 PM. \nAlso\, Red Truck Draft will be on special ALL DAY! \nAbout this week’s artist: \nMatthew Jay is a guitarist\, singer\, and songwriter from Calgary\, Alberta\, blending blues\, funk\, soul\, and rock & roll into a sound that feels both familiar and fresh. With years of live and studio experience\, Matthew brings heart and energy to every performance. Backed by a tight band\, Matthew delivers a groove-heavy\, feel-good experience that’s all about connection.
URL:https://www.skicastle.ca/event/friday-night-live-music-18/
LOCATION:T-Bar Pub & Grub\, PO Box 610\, Pincher Creek\, AB\, T0K1W0\, Canada
CATEGORIES:Live Music
ATTACH;FMTTYPE=image/jpeg:https://www.skicastle.ca/wp-content/uploads/2025/12/Friday-Night-Live-Music-Apr-3.jpg
ORGANIZER;CN="Castle Mountain Resort":MAILTO:info@skicastle.ca
GEO:49.3181843;-114.4144166
X-APPLE-STRUCTURED-LOCATION;VALUE=URI;X-ADDRESS=T-Bar Pub & Grub PO Box 610 Pincher Creek AB T0K1W0 Canada;X-APPLE-RADIUS=500;X-TITLE=PO Box 610:geo:-114.4144166,49.3181843
END:VEVENT
BEGIN:VEVENT
DTSTART;VALUE=DATE:20260404
DTEND;VALUE=DATE:20260406
DTSTAMP:20260421T091445
CREATED:20250126T235008Z
LAST-MODIFIED:20260227T233947Z
UID:10000847-1775271600-1775357999@www.skicastle.ca
SUMMARY:RETRO DAY
DESCRIPTION:It’s your thrifted\, vintage\, outrageously bright ski suit’s time to shine Castle! \nRetro Day on April 4 is calling for the tightest\, brightest ski gear you can find so you’ll never get lost on the slopes. \nWe want to see neon colours\, one-pieces\, windbreakers\, headbands\, wacky patterns – you get the deal. \nIt’s going to be totally tubular!
URL:https://www.skicastle.ca/event/retro-day-2/
LOCATION:Castle Mountain Resort\, AB\, T0K1W0\, Canada
CATEGORIES:Castle (Outdoors)
ATTACH;FMTTYPE=image/jpeg:https://www.skicastle.ca/wp-content/uploads/2025/01/Retro-Day.jpg
ORGANIZER;CN="Castle Mountain Resort":MAILTO:info@skicastle.ca
GEO:49.3191376;-114.412619
END:VEVENT
BEGIN:VEVENT
DTSTART;TZID=America/Edmonton:20260404T140000
DTEND;TZID=America/Edmonton:20260404T170000
DTSTAMP:20260421T091445
CREATED:20200218T130402Z
LAST-MODIFIED:20260314T215241Z
UID:10000972-1775311200-1775322000@www.skicastle.ca
SUMMARY:BEATS IN THE BASE SPRING CONCERT SERIES
DESCRIPTION:Castle’s spring concert series is back with live acts\, every Saturday and Sunday afternoon\, all spring! Live music occurs outdoors\, on the ATCO Community Stage\, every Saturday from 2 PM to 5 PM and Sunday from 1 PM to 4 PM. Enjoy a cold one from our outdoor bar as we transform the area outside of the T-Bar Pub into one giant\, snowy beach! \nOur musical line-up for this spring includes: \n\nSaturday\, March 14 – Less Than Three\nSunday\, March 15 – Mudlarker\nSaturday\, March 21 – Coda Club\nSunday\, March 22 – September Crows Band\nSaturday\, March 28 – 90 Times Over\nSunday\, March 29 – The Crowsnest River Band\nSaturday\, April 4 – UNDEFINED\nSunday\, April 5 – Nik n Mitch\n\nA special thanks to our friends at ATCO for lending us their lovely community stage for this series.
URL:https://www.skicastle.ca/event/beats-in-the-base/2026-04-04/
LOCATION:Castle Mountain Resort\, AB\, T0K1W0\, Canada
CATEGORIES:Castle (Outdoors)
ATTACH;FMTTYPE=image/jpeg:https://www.skicastle.ca/wp-content/uploads/2020/02/Beats-in-the-Base-1.jpg
ORGANIZER;CN="Castle Mountain Resort":MAILTO:info@skicastle.ca
GEO:49.3191376;-114.412619
END:VEVENT
BEGIN:VEVENT
DTSTART;TZID=America/Edmonton:20260404T180000
DTEND;TZID=America/Edmonton:20260404T210000
DTSTAMP:20260421T091445
CREATED:20260315T184951Z
LAST-MODIFIED:20260315T184954Z
UID:10000927-1775325600-1775336400@www.skicastle.ca
SUMMARY:SATURDAY NIGHT LIVE MUSIC
DESCRIPTION:You asked and we listened! We’re stoked to bring you\, for the first time ever\, live music every Saturday. Join us from 6–9 PM for an easy-listening performance\, featuring a new musical artist every week! \nAlso Stronghold Draft will be on special ALL DAY! \nAbout this week’s artist: \nVeronica Raine is an indie folk singer-songwriter from Southern Alberta whose music is rooted in honesty\, vulnerability\, and storytelling. She first stepped onto the stage at just fourteen at an open mic at The Owl Acoustic Lounge\, performing her first original song. That moment ignited a passion for songwriting and live performance\, setting her on a path of growth within the vibrant Alberta arts community.
URL:https://www.skicastle.ca/event/saturday-night-live-music-18/
LOCATION:T-Bar Pub & Grub\, PO Box 610\, Pincher Creek\, AB\, T0K1W0\, Canada
CATEGORIES:Live Music
ATTACH;FMTTYPE=image/jpeg:https://www.skicastle.ca/wp-content/uploads/2025/12/Saturday-Night-Live-Music-Apr-4.jpg
ORGANIZER;CN="Castle Mountain Resort":MAILTO:info@skicastle.ca
GEO:49.3181843;-114.4144166
X-APPLE-STRUCTURED-LOCATION;VALUE=URI;X-ADDRESS=T-Bar Pub & Grub PO Box 610 Pincher Creek AB T0K1W0 Canada;X-APPLE-RADIUS=500;X-TITLE=PO Box 610:geo:-114.4144166,49.3181843
END:VEVENT
END:VCALENDAR