BEGIN:VCALENDAR
VERSION:2.0
PRODID:-//Castle Mountain Resort - ECPv6.15.20//NONSGML v1.0//EN
CALSCALE:GREGORIAN
METHOD:PUBLISH
X-WR-CALNAME:Castle Mountain Resort
X-ORIGINAL-URL:https://www.skicastle.ca
X-WR-CALDESC:Events for Castle Mountain Resort
REFRESH-INTERVAL;VALUE=DURATION:PT1H
X-Robots-Tag:noindex
X-PUBLISHED-TTL:PT1H
BEGIN:VTIMEZONE
TZID:America/Edmonton
BEGIN:DAYLIGHT
TZOFFSETFROM:-0700
TZOFFSETTO:-0600
TZNAME:MDT
DTSTART:20250309T090000
END:DAYLIGHT
BEGIN:STANDARD
TZOFFSETFROM:-0600
TZOFFSETTO:-0700
TZNAME:MST
DTSTART:20251102T080000
END:STANDARD
BEGIN:DAYLIGHT
TZOFFSETFROM:-0700
TZOFFSETTO:-0600
TZNAME:MDT
DTSTART:20260308T090000
END:DAYLIGHT
BEGIN:STANDARD
TZOFFSETFROM:-0600
TZOFFSETTO:-0700
TZNAME:MST
DTSTART:20261101T080000
END:STANDARD
BEGIN:DAYLIGHT
TZOFFSETFROM:-0700
TZOFFSETTO:-0600
TZNAME:MDT
DTSTART:20270314T090000
END:DAYLIGHT
BEGIN:STANDARD
TZOFFSETFROM:-0600
TZOFFSETTO:-0700
TZNAME:MST
DTSTART:20271107T080000
END:STANDARD
END:VTIMEZONE
BEGIN:VEVENT
DTSTART;VALUE=DATE:20260404
DTEND;VALUE=DATE:20260406
DTSTAMP:20260421T073414
CREATED:20250126T235008Z
LAST-MODIFIED:20260227T233947Z
UID:10000847-1775271600-1775357999@www.skicastle.ca
SUMMARY:RETRO DAY
DESCRIPTION:It’s your thrifted\, vintage\, outrageously bright ski suit’s time to shine Castle! \nRetro Day on April 4 is calling for the tightest\, brightest ski gear you can find so you’ll never get lost on the slopes. \nWe want to see neon colours\, one-pieces\, windbreakers\, headbands\, wacky patterns – you get the deal. \nIt’s going to be totally tubular!
URL:https://www.skicastle.ca/event/retro-day-2/
LOCATION:Castle Mountain Resort\, AB\, T0K1W0\, Canada
CATEGORIES:Castle (Outdoors)
ATTACH;FMTTYPE=image/jpeg:https://www.skicastle.ca/wp-content/uploads/2025/01/Retro-Day.jpg
ORGANIZER;CN="Castle Mountain Resort":MAILTO:info@skicastle.ca
GEO:49.3191376;-114.412619
END:VEVENT
BEGIN:VEVENT
DTSTART;TZID=America/Edmonton:20260405T090000
DTEND;TZID=America/Edmonton:20260405T110000
DTSTAMP:20260421T073414
CREATED:20230406T170407Z
LAST-MODIFIED:20260327T170052Z
UID:10000234-1775379600-1775386800@www.skicastle.ca
SUMMARY:EASTER EGG HUNT
DESCRIPTION:Celebrate the season with a festive Easter morning at Castle! Hosted by the CMCA\, this fun-filled Egg Hunt kicks off at 9:00 AM in front of the Day Lodge. \nThe hunt will take place throughout the base area\, from the Green Chair to beneath the Huckleberry Chair\, offering plenty of spots for little hunters to explore. The Easter Bunny will be on hand to start the festivities and get everyone in the spirit\, so be sure to arrive on time! \nCandy bags will be handed out as the hunt begins\, making it the perfect way to start your day on a sweet note. Bring the whole family and enjoy a cheerful morning on the mountain! 🐰🌸 \n  \n 
URL:https://www.skicastle.ca/event/easter-egg-hunt/
LOCATION:Castle Mountain Resort\, AB\, T0K1W0\, Canada
CATEGORIES:Castle (Outdoors),In the Community
ATTACH;FMTTYPE=image/jpeg:https://www.skicastle.ca/wp-content/uploads/2023/04/Easter-Egg-Hunt-1.jpg
GEO:49.3191376;-114.412619
END:VEVENT
BEGIN:VEVENT
DTSTART;TZID=America/Edmonton:20260405T090000
DTEND;TZID=America/Edmonton:20260405T160000
DTSTAMP:20260421T073414
CREATED:20180209T005959Z
LAST-MODIFIED:20260308T181820Z
UID:10000013-1775379600-1775404800@www.skicastle.ca
SUMMARY:CLOSING DAY
DESCRIPTION:All good things must come to an end! Join us for what will be our final day of operations\, for the 2025-2026 season.\n\n\n\n\n\n\n\n\n\n\n\n\n\n\nThe T-Bar Pub will close early at 5 PM (last call for food / drink at 4:30 PM).
URL:https://www.skicastle.ca/event/closingday/
LOCATION:Castle Mountain Resort\, AB\, T0K1W0\, Canada
CATEGORIES:Castle (Outdoors)
ATTACH;FMTTYPE=image/jpeg:https://www.skicastle.ca/wp-content/uploads/2018/02/Closing-Day.jpg
ORGANIZER;CN="Castle Mountain Resort":MAILTO:info@skicastle.ca
GEO:49.3191376;-114.412619
END:VEVENT
BEGIN:VEVENT
DTSTART;TZID=America/Edmonton:20260405T130000
DTEND;TZID=America/Edmonton:20260405T160000
DTSTAMP:20260421T073414
CREATED:20200218T130402Z
LAST-MODIFIED:20260314T215241Z
UID:10000978-1775394000-1775404800@www.skicastle.ca
SUMMARY:BEATS IN THE BASE SPRING CONCERT SERIES
DESCRIPTION:Castle’s spring concert series is back with live acts\, every Saturday and Sunday afternoon\, all spring! Live music occurs outdoors\, on the ATCO Community Stage\, every Saturday from 2 PM to 5 PM and Sunday from 1 PM to 4 PM. Enjoy a cold one from our outdoor bar as we transform the area outside of the T-Bar Pub into one giant\, snowy beach! \nOur musical line-up for this spring includes: \n\nSaturday\, March 14 – Less Than Three\nSunday\, March 15 – Mudlarker\nSaturday\, March 21 – Coda Club\nSunday\, March 22 – September Crows Band\nSaturday\, March 28 – 90 Times Over\nSunday\, March 29 – The Crowsnest River Band\nSaturday\, April 4 – UNDEFINED\nSunday\, April 5 – Nik n Mitch\n\nA special thanks to our friends at ATCO for lending us their lovely community stage for this series.
URL:https://www.skicastle.ca/event/beats-in-the-base/2026-04-05/
LOCATION:Castle Mountain Resort\, AB\, T0K1W0\, Canada
CATEGORIES:Castle (Outdoors)
ATTACH;FMTTYPE=image/jpeg:https://www.skicastle.ca/wp-content/uploads/2020/02/Beats-in-the-Base-1.jpg
ORGANIZER;CN="Castle Mountain Resort":MAILTO:info@skicastle.ca
GEO:49.3191376;-114.412619
END:VEVENT
END:VCALENDAR