BEGIN:VCALENDAR
VERSION:2.0
PRODID:-//Castle Mountain Resort - ECPv6.15.20//NONSGML v1.0//EN
CALSCALE:GREGORIAN
METHOD:PUBLISH
X-ORIGINAL-URL:https://www.skicastle.ca
X-WR-CALDESC:Events for Castle Mountain Resort
REFRESH-INTERVAL;VALUE=DURATION:PT1H
X-Robots-Tag:noindex
X-PUBLISHED-TTL:PT1H
BEGIN:VTIMEZONE
TZID:America/Edmonton
BEGIN:DAYLIGHT
TZOFFSETFROM:-0700
TZOFFSETTO:-0600
TZNAME:MDT
DTSTART:20250309T090000
END:DAYLIGHT
BEGIN:STANDARD
TZOFFSETFROM:-0600
TZOFFSETTO:-0700
TZNAME:MST
DTSTART:20251102T080000
END:STANDARD
BEGIN:DAYLIGHT
TZOFFSETFROM:-0700
TZOFFSETTO:-0600
TZNAME:MDT
DTSTART:20260308T090000
END:DAYLIGHT
BEGIN:STANDARD
TZOFFSETFROM:-0600
TZOFFSETTO:-0700
TZNAME:MST
DTSTART:20261101T080000
END:STANDARD
BEGIN:DAYLIGHT
TZOFFSETFROM:-0700
TZOFFSETTO:-0600
TZNAME:MDT
DTSTART:20270314T090000
END:DAYLIGHT
BEGIN:STANDARD
TZOFFSETFROM:-0600
TZOFFSETTO:-0700
TZNAME:MST
DTSTART:20271107T080000
END:STANDARD
END:VTIMEZONE
BEGIN:VEVENT
DTSTART;TZID=America/Edmonton:20260605T100000
DTEND;TZID=America/Edmonton:20260605T180000
DTSTAMP:20260421T060047
CREATED:20230917T041839Z
LAST-MODIFIED:20260329T174410Z
UID:10000255-1780653600-1780682400@www.skicastle.ca
SUMMARY:FIRST DAY OF SUMMER 2026 OPERATIONS
DESCRIPTION:Friday\, June 5th marks the start of our 2026 summer season and the first day of summer operations. The T-Bar Pub will reopen\, directional hiking signage will be in place\, and the resort will be open to mountain visitors. \n\n\n\n\n\n\n\nPlease follow all posted signage and happy hiking! 
URL:https://www.skicastle.ca/event/first-day-of-summer-operations-2026/
LOCATION:Castle Mountain Resort\, AB\, T0K1W0\, Canada
CATEGORIES:Castle (Outdoors)
ATTACH;FMTTYPE=image/jpeg:https://www.skicastle.ca/wp-content/uploads/2023/09/First-day-of-summer-operations.jpg
ORGANIZER;CN="Castle Mountain Resort":MAILTO:info@skicastle.ca
GEO:49.3191376;-114.412619
END:VEVENT
BEGIN:VEVENT
DTSTART;TZID=America/Edmonton:20260605T170000
DTEND;TZID=America/Edmonton:20260605T230000
DTSTAMP:20260421T060047
CREATED:20170407T144459Z
LAST-MODIFIED:20260329T201542Z
UID:10000007-1780678800-1780700400@www.skicastle.ca
SUMMARY:T-BAR PUB RE-OPENS FOR SUMMER
DESCRIPTION:After a brief\, seasonal hiatus\, the T-Bar Pub & Grub will re-open for summer beginning Friday\, June 5\, 2026. Join us for a pizza and a beer on weekends (Friday – Sunday) all summer long. The T-Bar Pub will be open the following hours throughout the summer: \nHOURS TBD \nAdditional information\, such as menu offerings\, will follow soon!
URL:https://www.skicastle.ca/event/t-bar-pub-grub-opens-summer/
LOCATION:T-Bar Pub & Grub\, PO Box 610\, Pincher Creek\, AB\, T0K1W0\, Canada
CATEGORIES:Miscellaneous
ATTACH;FMTTYPE=image/jpeg:https://www.skicastle.ca/wp-content/uploads/2021/06/015A0027-scaled-e1625503856702.jpg
ORGANIZER;CN="Castle Mountain Resort":MAILTO:info@skicastle.ca
GEO:49.3181843;-114.4144166
X-APPLE-STRUCTURED-LOCATION;VALUE=URI;X-ADDRESS=T-Bar Pub & Grub PO Box 610 Pincher Creek AB T0K1W0 Canada;X-APPLE-RADIUS=500;X-TITLE=PO Box 610:geo:-114.4144166,49.3181843
END:VEVENT
END:VCALENDAR